From mboxrd@z Thu Jan 1 00:00:00 1970 Return-Path: Received: from mails.dpdk.org (mails.dpdk.org [217.70.189.124]) by inbox.dpdk.org (Postfix) with ESMTP id 1F35A46BEA for ; Wed, 23 Jul 2025 03:26:51 +0200 (CEST) Received: from mails.dpdk.org (localhost [127.0.0.1]) by mails.dpdk.org (Postfix) with ESMTP id 00E194026D; Wed, 23 Jul 2025 03:26:51 +0200 (CEST) Received: from mail-pf1-f227.google.com (mail-pf1-f227.google.com [209.85.210.227]) by mails.dpdk.org (Postfix) with ESMTP id 54FE54026D for ; Wed, 23 Jul 2025 03:26:49 +0200 (CEST) Received: by mail-pf1-f227.google.com with SMTP id d2e1a72fcca58-73c17c770a7so6934944b3a.2 for ; Tue, 22 Jul 2025 18:26:49 -0700 (PDT) DKIM-Signature: v=1; a=rsa-sha256; c=relaxed/relaxed; d=iol.unh.edu; s=unh-iol; t=1753234008; x=1753838808; darn=dpdk.org; h=references:in-reply-to:cc:to:from:subject:message-id:date:from:to :cc:subject:date:message-id:reply-to; bh=bCiS8KQNATNoP7u2t9Ce9lld9px8tZ8m+hYjj1r3aFk=; b=Oz8uoQuOFn6yZJO/tWdEdZ4MWPoRq4FW8Rf6NdshKzrNu0E4GuzE3T/6ZqGDArcED0 suV1KUtKDFRWXwe8c7hFFdZdvDyrfs9yyQI3iBOcgtprM4VDjHiyW2m/8vZQQmTRipns z/6k1R8o2jpeW5GXhlQGAylpQydbEC46DxHww= X-Google-DKIM-Signature: v=1; a=rsa-sha256; c=relaxed/relaxed; d=1e100.net; s=20230601; t=1753234008; x=1753838808; h=references:in-reply-to:cc:to:from:subject:message-id:date :x-gm-message-state:from:to:cc:subject:date:message-id:reply-to; bh=bCiS8KQNATNoP7u2t9Ce9lld9px8tZ8m+hYjj1r3aFk=; b=iJqc+Ml638IvyltYS4bLCsqrh3/du7zGs2yfbttcs6Sw6yrLT8s/X2S6E3fqd1982O 8hsX+/ogW5rWxXGm+E9x94SK4XT4RR2CFB77iqG3qB+NAULZRo07NrSJV46Ztm0k6t6I NmoLYcAALrBfE/KxHGfT5pfMQNWxo7Y61JNFF9R4TUvG7xnnkyBkgkPNLHdxvgrkMgL+ jZ8KmCqm+oGx2GQ+4Iy8+40aCmEep8GcxLvfTgPgyg5/qe/bVQv2URZy0QGUZtiDhQLu j0C4+Wm/jA10T0fwtq4S8e02Ahb+5rDkJ7fFL8Z/Kibs8fDrTpCGdeRQ1Dw/fmJqPKXL QaPg== X-Gm-Message-State: AOJu0YzdAMgAqm/Di1u3TCJnUSO+YiZ8wdhL7B7liw4qlnFviiBOp6vQ zFP3Ml2ajxbG1MRMa73/ic7VroN0Nn5FPAKDe4dwf5FBOIN0D2FEwYr31w5rnc9nXksvZ311mT8 Ar6r+uciTODva4sL7Q1syFUrxRx7MsZOh0lzvSL3DTpwz X-Gm-Gg: ASbGncvR2V/f54oEGtn3lVy4olgUVlC/Il5Ok3G/EBv0ZptlDfckebq3nq8Jv7JgeVY k0R7IRF45fmN7DjMO9/GBknWPfOIPt9U94zbB4vOFExr1hBOL7nSqeJ8tHCinaIuZJfVfBndVMq /HSWBoYPGz2S8LJGhV8ihZKMJYNL9swgK66HeRjnMOD7l8FMD9sXn3GLCvwFPhgjDN7XlBevKU/ KtNUXxtGUHuMnmP3FSSY9rEwIXy+bz+Btk34DfjWWbN2T+4IavDAFgDTedPuXCg49R2kEcV3FCf ZVBA6o+wh+D0BEanpeuBdhVe20sWB6HLteT/nKkDs3hkwA6QCaorzji7CmT1K98aQz2QsnxO X-Google-Smtp-Source: AGHT+IFziot3UqJJnfbKezCgdmvqGC/CuaV4hZGsz/BwKCHxx81cqk0bM7C7VNY65DOjXrTaTOzQ9ht6q4fQ X-Received: by 2002:a05:6a20:e30b:b0:215:ead1:b867 with SMTP id adf61e73a8af0-23d4903fce4mr1633183637.14.1753234008139; Tue, 22 Jul 2025 18:26:48 -0700 (PDT) Received: from postal.iol.unh.edu (postal.iol.unh.edu. [132.177.123.84]) by smtp-relay.gmail.com with ESMTPS id 41be03b00d2f7-b3f2ff93e9dsm680736a12.28.2025.07.22.18.26.48 (version=TLS1_2 cipher=ECDHE-ECDSA-AES128-GCM-SHA256 bits=128/128); Tue, 22 Jul 2025 18:26:48 -0700 (PDT) X-Relaying-Domain: iol.unh.edu Date: Tue, 22 Jul 2025 18:26:48 -0700 (PDT) Message-ID: <68803a58.630a0220.15e60f.3b52SMTPIN_ADDED_MISSING@mx.google.com> Received: from [172.21.0.18] (unknown [172.18.0.240]) by postal.iol.unh.edu (Postfix) with ESMTP id 653EB6051830; Tue, 22 Jul 2025 21:26:47 -0400 (EDT) Subject: |SUCCESS| pw155426-155427 [PATCH] [v3,2/2] test/strsep: add tests fo From: dpdklab@iol.unh.edu To: Test Report Cc: dpdk-test-reports@iol.unh.edu In-Reply-To: <1753202334-27615-2-git-send-email-andremue@linux.microsoft.com> References: <1753202334-27615-2-git-send-email-andremue@linux.microsoft.com> Content-Type: text/plain X-BeenThere: test-report@dpdk.org X-Mailman-Version: 2.1.29 Precedence: list List-Id: automatic DPDK test reports List-Unsubscribe: , List-Archive: List-Post: List-Help: List-Subscribe: , Errors-To: test-report-bounces@dpdk.org Test-Label: iol-compile-amd64-testing Test-Status: SUCCESS http://dpdk.org/patch/155427 _Testing PASS_ Submitter: Andre Muezerie Date: Tuesday, July 22 2025 16:38:54 DPDK git baseline: Repo:dpdk Branch: master CommitID:b222395561638f89562e4ef42e1eabf2d6db43dd 155426-155427 --> testing pass Upstream job id: Generic-DPDK-Compile-Meson#411176 Test environment and result as below: +-------------------------------+--------------------+-------------------+-------------------------+----------------------+-------------------+------------------+ | Environment | dpdk_meson_compile | dpdk_msvc_compile | dpdk_llvm_clang_compile | dpdk_mingw64_compile | dpdk_compile_spdk | dpdk_compile_ovs | +===============================+====================+===================+=========================+======================+===================+==================+ | Ubuntu 20.04 | PASS | SKIPPED | SKIPPED | SKIPPED | SKIPPED | SKIPPED | +-------------------------------+--------------------+-------------------+-------------------------+----------------------+-------------------+------------------+ | FreeBSD 14.2 | PASS | SKIPPED | SKIPPED | SKIPPED | SKIPPED | SKIPPED | +-------------------------------+--------------------+-------------------+-------------------------+----------------------+-------------------+------------------+ | CentOS Stream 9 | PASS | SKIPPED | SKIPPED | SKIPPED | PASS | SKIPPED | +-------------------------------+--------------------+-------------------+-------------------------+----------------------+-------------------+------------------+ | CentOS Stream 10 | PASS | SKIPPED | SKIPPED | SKIPPED | SKIPPED | SKIPPED | +-------------------------------+--------------------+-------------------+-------------------------+----------------------+-------------------+------------------+ | Debian GNU/Linux 12 | PASS | SKIPPED | SKIPPED | SKIPPED | PASS | SKIPPED | +-------------------------------+--------------------+-------------------+-------------------------+----------------------+-------------------+------------------+ | Fedora Linux 40 | PASS | SKIPPED | SKIPPED | SKIPPED | PASS | SKIPPED | +-------------------------------+--------------------+-------------------+-------------------------+----------------------+-------------------+------------------+ | Fedora Linux 41 | PASS | SKIPPED | SKIPPED | SKIPPED | PASS | PASS | +-------------------------------+--------------------+-------------------+-------------------------+----------------------+-------------------+------------------+ | openSUSE Leap 15.6 | PASS | SKIPPED | SKIPPED | SKIPPED | SKIPPED | SKIPPED | +-------------------------------+--------------------+-------------------+-------------------------+----------------------+-------------------+------------------+ | Red Hat Enterprise Linux 8.10 | PASS | SKIPPED | SKIPPED | SKIPPED | SKIPPED | SKIPPED | +-------------------------------+--------------------+-------------------+-------------------------+----------------------+-------------------+------------------+ | Red Hat Enterprise Linux 9.5 | PASS | SKIPPED | SKIPPED | SKIPPED | SKIPPED | SKIPPED | +-------------------------------+--------------------+-------------------+-------------------------+----------------------+-------------------+------------------+ | Ubuntu 22.04 | PASS | SKIPPED | SKIPPED | SKIPPED | PASS | SKIPPED | +-------------------------------+--------------------+-------------------+-------------------------+----------------------+-------------------+------------------+ | Ubuntu 24.04 | PASS | SKIPPED | SKIPPED | SKIPPED | PASS | PASS | +-------------------------------+--------------------+-------------------+-------------------------+----------------------+-------------------+------------------+ | Alpine Linux 3.22.0 | PASS | SKIPPED | SKIPPED | SKIPPED | SKIPPED | SKIPPED | +-------------------------------+--------------------+-------------------+-------------------------+----------------------+-------------------+------------------+ | Windows Server 2022 | SKIPPED | PASS | PASS | PASS | SKIPPED | SKIPPED | +-------------------------------+--------------------+-------------------+-------------------------+----------------------+-------------------+------------------+ Ubuntu 20.04 Kernel: 4.19 Compiler: gcc gcc (Ubuntu 9.4.0-1ubuntu1~20.04.2) 9.4.0 FreeBSD 14.2 Kernel: 14.2-RELEASE Compiler: clang 18.1.6 CentOS Stream 9 Kernel: 5.15 Compiler: gcc gcc (GCC) 11.5.0 20240719 (Red Hat 11.5.0-7) CentOS Stream 10 Kernel: 5.15 Compiler: gcc gcc (GCC) 14.2.1 20250110 (Red Hat 14.2.1-8) Debian GNU/Linux 12 Kernel: 5.15 Compiler: gcc gcc (Debian 12.2.0-14+deb12u1) 12.2.0 Fedora Linux 40 Kernel: 5.15 Compiler: clang gcc (GCC) 14.2.1 20240912 (Red Hat 14.2.1-3) Fedora Linux 41 Kernel: 5.15 Compiler: clang gcc (GCC) 14.3.1 20250523 (Red Hat 14.3.1-1) openSUSE Leap 15.6 Kernel: 5.15 Compiler: gcc gcc (SUSE Linux) 7.5.0 Red Hat Enterprise Linux 8.10 Kernel: 5.15 Compiler: gcc gcc (GCC) 8.5.0 20210514 (Red Hat 8.5.0-22) Red Hat Enterprise Linux 9.5 Kernel: 5.15 Compiler: gcc gcc (GCC) 11.5.0 20240719 (Red Hat 11.5.0-2) Ubuntu 22.04 Kernel: 5.15 Compiler: gcc gcc (Ubuntu 11.4.0-1ubuntu1~22.04) 11.4.0 Ubuntu 24.04 Kernel: 5.15 Compiler: gcc gcc (Ubuntu 13.3.0-6ubuntu2~24.04) 13.3.0 Alpine Linux 3.22.0 Kernel: 5.15 Compiler: gcc gcc (Alpine 14.2.0) 14.2.0 Windows Server 2022 Kernel: 10.0.20348.2031 Compiler: clang 15.0.7, gcc 14.1.0 (MinGW), and MSVC VS 19.39.33521 To view detailed results, visit: https://lab.dpdk.org/results/dashboard/patchsets/33726/ UNH-IOL DPDK Community Lab To manage your email subscriptions, visit: https://lab.dpdk.org/results/dashboard/preferences/subscriptions/