From mboxrd@z Thu Jan 1 00:00:00 1970 Return-Path: Received: from mails.dpdk.org (mails.dpdk.org [217.70.189.124]) by inbox.dpdk.org (Postfix) with ESMTP id 2C9F746BEA for ; Wed, 23 Jul 2025 03:28:10 +0200 (CEST) Received: from mails.dpdk.org (localhost [127.0.0.1]) by mails.dpdk.org (Postfix) with ESMTP id 2732C4026D; Wed, 23 Jul 2025 03:28:10 +0200 (CEST) Received: from mail-io1-f97.google.com (mail-io1-f97.google.com [209.85.166.97]) by mails.dpdk.org (Postfix) with ESMTP id 531F64026D for ; Wed, 23 Jul 2025 03:28:09 +0200 (CEST) Received: by mail-io1-f97.google.com with SMTP id ca18e2360f4ac-87c26c9e8d5so270394139f.0 for ; Tue, 22 Jul 2025 18:28:09 -0700 (PDT) DKIM-Signature: v=1; a=rsa-sha256; c=relaxed/relaxed; d=iol.unh.edu; s=unh-iol; t=1753234088; x=1753838888; darn=dpdk.org; h=references:in-reply-to:cc:to:from:subject:message-id:date:from:to :cc:subject:date:message-id:reply-to; bh=i+wpR12p4qDdwa6pS9xNZ3eq6MU6oAmnAXueIzkAo6Q=; b=RgTdBbrQZvoBJGeY4kTEMJNtAn2U+USzkcze+mtYhHT/IJueIuOh4f3McOB2Yfbj3I hWQ86/neDhifnRY88KkbALPciQAtp6mpE/HL19tcsXH7CuqQSQRKb15aSs1f8ZHOEQfG 4nYN+ZiviKTXFp8mGmvyxJlhjFGWI8lXrWcAg= X-Google-DKIM-Signature: v=1; a=rsa-sha256; c=relaxed/relaxed; d=1e100.net; s=20230601; t=1753234088; x=1753838888; h=references:in-reply-to:cc:to:from:subject:message-id:date :x-gm-message-state:from:to:cc:subject:date:message-id:reply-to; bh=i+wpR12p4qDdwa6pS9xNZ3eq6MU6oAmnAXueIzkAo6Q=; b=SXv7KoUKaxr6+ycT5SanAEIT/DDB1zfjJX5LCV+WDrhgr0a/VM8ylUfd2cPxB0BG++ 10c/MKeFxYrfDYThqdY+h/dvzHv8U6Z2MuigciDRPVdbeFOT/8SsOESLofC//AF1vVic ROxZpU1eyyVgiS0NqHzHcraw3b0jpqIRSum6h4bI+gsSccJvU4/mpaYRfNAtYwyZ589a HwGHdGUOFfaVqPg5hq6rbZVxv3j5HkLU2jJ6pQmLYF1/C2wx8wEq8X0UHGOCH9kzC9/m BnnT+/rOkGXhEIOx06e316xMj2blO0LlRItSptA97Q5JKWH3gUezyQ+A1Uf6714mNwJC /GiQ== X-Gm-Message-State: AOJu0YzsSZyqQg4Crz3cm7ESY+uF2jY0aC7MIjYfqc89X0u8zgpI+uLJ y4nuBhJ2IzA7H7pLTEGRobH0J7M8vCGwMCr4vPn7MJJ3QQg5NXXw6rQCrst4Dlx18LlEUZqc788 rbI6tQEnlPBK7cV/A4haAdG2E/mUKU6lp/cSWJXYnWrKA X-Gm-Gg: ASbGncvOku2/cJC1z5t6DlWgshh0ZPTiMz59rO+sKBhvV17IjXnFBBA2U3+9lSy1y5r WXH4ZMySjk9sRM51PDnSEt7u4EjOzY/teAydEL40MzQaonEr863qk5jHN2F+EC2LQQZQKWNDeAE W2WzVecfwAwyKA/4yock7iB2vOnnoclOPVECj21EeBIpl0XZm8nEpLUfr+hJ6n0JCh7p/GoADMY MJhrdUfjlP1zW40w7F7PEFgT0rf6AVSQVyZcJ2TtMImr0pXNWDFRpBaLVXIuapcajK9T0iUVuF7 iecFg2l/O5Hpz9gUtGw441iYM+E3W92ETezKw+XRMopCJpST+FEHFd4r/+fNrpC9nm+fbHdX X-Google-Smtp-Source: AGHT+IFS8Zw7veX9plBBEs/o1kdC2t0krL62AEwPH15xWkvedVZhSyHH4HnuF2fNlFgDzeHbh/gH5iqiAqGn X-Received: by 2002:a92:cd8d:0:b0:3df:460a:ec3c with SMTP id e9e14a558f8ab-3e3355d0264mr24702465ab.22.1753234088605; Tue, 22 Jul 2025 18:28:08 -0700 (PDT) Received: from postal.iol.unh.edu (postal.iol.unh.edu. [132.177.123.84]) by smtp-relay.gmail.com with ESMTPS id e9e14a558f8ab-3e29821cb32sm7091225ab.18.2025.07.22.18.28.08 (version=TLS1_2 cipher=ECDHE-ECDSA-AES128-GCM-SHA256 bits=128/128); Tue, 22 Jul 2025 18:28:08 -0700 (PDT) X-Relaying-Domain: iol.unh.edu Date: Tue, 22 Jul 2025 18:28:08 -0700 (PDT) Message-ID: <68803aa8.050a0220.256dd6.4db6SMTPIN_ADDED_MISSING@mx.google.com> Received: from [172.21.0.3] (unknown [172.18.0.240]) by postal.iol.unh.edu (Postfix) with ESMTP id 25C0A6051830; Tue, 22 Jul 2025 21:28:08 -0400 (EDT) Subject: |SUCCESS| pw155426-155427 [PATCH] [v3,2/2] test/strsep: add tests fo From: dpdklab@iol.unh.edu To: Test Report Cc: dpdk-test-reports@iol.unh.edu In-Reply-To: <1753202334-27615-2-git-send-email-andremue@linux.microsoft.com> References: <1753202334-27615-2-git-send-email-andremue@linux.microsoft.com> Content-Type: text/plain X-BeenThere: test-report@dpdk.org X-Mailman-Version: 2.1.29 Precedence: list List-Id: automatic DPDK test reports List-Unsubscribe: , List-Archive: List-Post: List-Help: List-Subscribe: , Errors-To: test-report-bounces@dpdk.org Test-Label: iol-compile-amd64-testing Test-Status: SUCCESS http://dpdk.org/patch/155427 _Testing PASS_ Submitter: Andre Muezerie Date: Tuesday, July 22 2025 16:38:54 DPDK git baseline: Repo:dpdk Branch: master CommitID:b222395561638f89562e4ef42e1eabf2d6db43dd 155426-155427 --> testing pass Upstream job id: Generic-DPDK-Compile-Meson#411167 Test environment and result as below: +-------------------------------+--------------------+-------------------+-------------------------+----------------------+-------------------+------------------+ | Environment | dpdk_meson_compile | dpdk_msvc_compile | dpdk_llvm_clang_compile | dpdk_mingw64_compile | dpdk_compile_spdk | dpdk_compile_ovs | +===============================+====================+===================+=========================+======================+===================+==================+ | Ubuntu 20.04 | PASS | SKIPPED | SKIPPED | SKIPPED | SKIPPED | SKIPPED | +-------------------------------+--------------------+-------------------+-------------------------+----------------------+-------------------+------------------+ | FreeBSD 14.2 | PASS | SKIPPED | SKIPPED | SKIPPED | SKIPPED | SKIPPED | +-------------------------------+--------------------+-------------------+-------------------------+----------------------+-------------------+------------------+ | CentOS Stream 9 | PASS | SKIPPED | SKIPPED | SKIPPED | PASS | SKIPPED | +-------------------------------+--------------------+-------------------+-------------------------+----------------------+-------------------+------------------+ | CentOS Stream 10 | PASS | SKIPPED | SKIPPED | SKIPPED | SKIPPED | SKIPPED | +-------------------------------+--------------------+-------------------+-------------------------+----------------------+-------------------+------------------+ | Debian GNU/Linux 12 | PASS | SKIPPED | SKIPPED | SKIPPED | PASS | SKIPPED | +-------------------------------+--------------------+-------------------+-------------------------+----------------------+-------------------+------------------+ | Fedora Linux 40 | PASS | SKIPPED | SKIPPED | SKIPPED | PASS | SKIPPED | +-------------------------------+--------------------+-------------------+-------------------------+----------------------+-------------------+------------------+ | Fedora Linux 41 | PASS | SKIPPED | SKIPPED | SKIPPED | PASS | PASS | +-------------------------------+--------------------+-------------------+-------------------------+----------------------+-------------------+------------------+ | openSUSE Leap 15.6 | PASS | SKIPPED | SKIPPED | SKIPPED | SKIPPED | SKIPPED | +-------------------------------+--------------------+-------------------+-------------------------+----------------------+-------------------+------------------+ | Red Hat Enterprise Linux 8.10 | PASS | SKIPPED | SKIPPED | SKIPPED | SKIPPED | SKIPPED | +-------------------------------+--------------------+-------------------+-------------------------+----------------------+-------------------+------------------+ | Red Hat Enterprise Linux 9.5 | PASS | SKIPPED | SKIPPED | SKIPPED | SKIPPED | SKIPPED | +-------------------------------+--------------------+-------------------+-------------------------+----------------------+-------------------+------------------+ | Ubuntu 22.04 | PASS | SKIPPED | SKIPPED | SKIPPED | PASS | SKIPPED | +-------------------------------+--------------------+-------------------+-------------------------+----------------------+-------------------+------------------+ | Ubuntu 24.04 | PASS | SKIPPED | SKIPPED | SKIPPED | PASS | PASS | +-------------------------------+--------------------+-------------------+-------------------------+----------------------+-------------------+------------------+ | Alpine Linux 3.22.0 | PASS | SKIPPED | SKIPPED | SKIPPED | SKIPPED | SKIPPED | +-------------------------------+--------------------+-------------------+-------------------------+----------------------+-------------------+------------------+ | Windows Server 2022 | SKIPPED | PASS | PASS | PASS | SKIPPED | SKIPPED | +-------------------------------+--------------------+-------------------+-------------------------+----------------------+-------------------+------------------+ Ubuntu 20.04 Kernel: 4.19 Compiler: gcc gcc (Ubuntu 9.4.0-1ubuntu1~20.04.2) 9.4.0 FreeBSD 14.2 Kernel: 14.2-RELEASE Compiler: clang 18.1.6 CentOS Stream 9 Kernel: 5.15 Compiler: gcc gcc (GCC) 11.5.0 20240719 (Red Hat 11.5.0-7) CentOS Stream 10 Kernel: 5.15 Compiler: gcc gcc (GCC) 14.2.1 20250110 (Red Hat 14.2.1-8) Debian GNU/Linux 12 Kernel: 5.15 Compiler: gcc gcc (Debian 12.2.0-14+deb12u1) 12.2.0 Fedora Linux 40 Kernel: 5.15 Compiler: clang gcc (GCC) 14.2.1 20240912 (Red Hat 14.2.1-3) Fedora Linux 41 Kernel: 5.15 Compiler: clang gcc (GCC) 14.3.1 20250523 (Red Hat 14.3.1-1) openSUSE Leap 15.6 Kernel: 5.15 Compiler: gcc gcc (SUSE Linux) 7.5.0 Red Hat Enterprise Linux 8.10 Kernel: 5.15 Compiler: gcc gcc (GCC) 8.5.0 20210514 (Red Hat 8.5.0-22) Red Hat Enterprise Linux 9.5 Kernel: 5.15 Compiler: gcc gcc (GCC) 11.5.0 20240719 (Red Hat 11.5.0-2) Ubuntu 22.04 Kernel: 5.15 Compiler: gcc gcc (Ubuntu 11.4.0-1ubuntu1~22.04) 11.4.0 Ubuntu 24.04 Kernel: 5.15 Compiler: gcc gcc (Ubuntu 13.3.0-6ubuntu2~24.04) 13.3.0 Alpine Linux 3.22.0 Kernel: 5.15 Compiler: gcc gcc (Alpine 14.2.0) 14.2.0 Windows Server 2022 Kernel: 10.0.20348.2031 Compiler: clang 15.0.7, gcc 14.1.0 (MinGW), and MSVC VS 19.39.33521 To view detailed results, visit: https://lab.dpdk.org/results/dashboard/patchsets/33726/ UNH-IOL DPDK Community Lab To manage your email subscriptions, visit: https://lab.dpdk.org/results/dashboard/preferences/subscriptions/