From mboxrd@z Thu Jan 1 00:00:00 1970 Return-Path: Received: from mails.dpdk.org (mails.dpdk.org [217.70.189.124]) by inbox.dpdk.org (Postfix) with ESMTP id 55A1E46BEA for ; Wed, 23 Jul 2025 03:29:19 +0200 (CEST) Received: from mails.dpdk.org (localhost [127.0.0.1]) by mails.dpdk.org (Postfix) with ESMTP id 4F99A4026D; Wed, 23 Jul 2025 03:29:19 +0200 (CEST) Received: from mail-oa1-f98.google.com (mail-oa1-f98.google.com [209.85.160.98]) by mails.dpdk.org (Postfix) with ESMTP id 822D84026D for ; Wed, 23 Jul 2025 03:29:18 +0200 (CEST) Received: by mail-oa1-f98.google.com with SMTP id 586e51a60fabf-3005517e7d0so916597fac.0 for ; Tue, 22 Jul 2025 18:29:18 -0700 (PDT) DKIM-Signature: v=1; a=rsa-sha256; c=relaxed/relaxed; d=iol.unh.edu; s=unh-iol; t=1753234157; x=1753838957; darn=dpdk.org; h=references:in-reply-to:cc:to:from:subject:message-id:date:from:to :cc:subject:date:message-id:reply-to; bh=4hIWfjmGWvj27QmCjs4WnvE2afYmZXa3+NHP4r7qokw=; b=LAC/dM2aI2F+uEci9a7H1BnAmbXIP7ZvFWGcCNHgAcD0QkG8TDq1VleYT9PZbxdc4L ZlMU38cmX0nOxoAXoxg1SgAg16L0DeEQxzbtIcEn9pkZhEYTiV1hrFHWjWHSDxkIT+Ng 4YZUxHM57exwBTSxcR0Psm23qdxskGXzszfpI= X-Google-DKIM-Signature: v=1; a=rsa-sha256; c=relaxed/relaxed; d=1e100.net; s=20230601; t=1753234157; x=1753838957; h=references:in-reply-to:cc:to:from:subject:message-id:date :x-gm-message-state:from:to:cc:subject:date:message-id:reply-to; bh=4hIWfjmGWvj27QmCjs4WnvE2afYmZXa3+NHP4r7qokw=; b=RF0nXu3aM31OFFEynZ7WUbcxRtMUb3ZXrE6ny2/v2NVg9hDlbjnyfrc3phLgwOPzRn rMaS6Znc1ftbCl6jgLc/149QVlJMl2uPELdYaW6P1on8kFtlRwcQ2p819UmS2LZvqULa IyRJ7gezzv5MVVYZNihsQ+0m78dhN7PmsZDNqjj3uKvpd5o4Xr7AeCT+auat20LTZ04A XjVeDn5btI1HddkqK9fwhzxxk+1CiN136mex5CF3sivvABHDsUaO33aXdbRv8KJG6aSQ hQUrgGdjj1TdBvn2agXYXm0Pjr//GFqRw7/Gprb/dgzh0yewdRuJvW1Ny2GZlhhsElwx JrZw== X-Gm-Message-State: AOJu0Yy18jW+WioIo9rhYHdG6ky4aGAo0G72rYWefIapAT8aK+XNxjCr jize5JLvfxTsz3h3gRgksyYcbQN2ebsR+XvU+FwvwiGuTfr4684ygKIVDDZVx5c1ls7qGAVFwWg gQYrcUNsQvB99WqM8547T8We/M+17JJ/J4QX/5HOLE6ND X-Gm-Gg: ASbGnctije7b+1reLig5kb3UIyMnBH8/JkH5kZFF5YJUhUQiWybvy4pkGCvA1+GyCKb T9TpQX0BbgLNnxE/l2+9swqCnfsyGJmvS2mfNFSg47XJ3oppw8xTWLXN2ZL29kqC2Ks1ePOJ26q sAetu3bKtThVL02aZe4PV49FLijamMmSPB6sh5uGHAzjYyWgy4zITyI8U0SmNSuVGcLvZo98P75 h1KuRjcVedbeiJ0YDvrnI00MfT/+pgMr8m8v0e6z1/HOIlLUCkjxGIu2ODTtN7+WANL1ZK/FkCQ LXWipZgX61lIz5AonafcmdDT2jv6K3YMpmZdEQRMp9mKoGdMsHA8LcfWJ60hTGlqvBbxxsWo X-Google-Smtp-Source: AGHT+IFvndxdrgNM5+OiSj7mOVBzJ6dhJuq2/PZ0rG4T/JcbIprGgCg+zQri1y0rXc7G1iMbWgTIJEPfTAbO X-Received: by 2002:a05:6870:6390:b0:2ff:a87d:5c71 with SMTP id 586e51a60fabf-306c72ce24emr759519fac.33.1753234157664; Tue, 22 Jul 2025 18:29:17 -0700 (PDT) Received: from postal.iol.unh.edu (postal.iol.unh.edu. [132.177.123.84]) by smtp-relay.gmail.com with ESMTPS id 586e51a60fabf-30106a959e7sm834657fac.37.2025.07.22.18.29.17 (version=TLS1_2 cipher=ECDHE-ECDSA-AES128-GCM-SHA256 bits=128/128); Tue, 22 Jul 2025 18:29:17 -0700 (PDT) X-Relaying-Domain: iol.unh.edu Date: Tue, 22 Jul 2025 18:29:17 -0700 (PDT) Message-ID: <68803aed.050a0220.74199.c812SMTPIN_ADDED_MISSING@mx.google.com> Received: from [172.21.0.2] (unknown [172.18.0.240]) by postal.iol.unh.edu (Postfix) with ESMTP id 301AE6051830; Tue, 22 Jul 2025 21:29:17 -0400 (EDT) Subject: |SUCCESS| pw155431-155432 [PATCH] [v1,2/2] dts: add exception handli From: dpdklab@iol.unh.edu To: Test Report Cc: dpdk-test-reports@iol.unh.edu In-Reply-To: <20250722172214.202308-2-dmarx@iol.unh.edu> References: <20250722172214.202308-2-dmarx@iol.unh.edu> Content-Type: text/plain X-BeenThere: test-report@dpdk.org X-Mailman-Version: 2.1.29 Precedence: list List-Id: automatic DPDK test reports List-Unsubscribe: , List-Archive: List-Post: List-Help: List-Subscribe: , Errors-To: test-report-bounces@dpdk.org Test-Label: iol-compile-amd64-testing Test-Status: SUCCESS http://dpdk.org/patch/155432 _Testing PASS_ Submitter: Dean Marx Date: Tuesday, July 22 2025 17:22:14 DPDK git baseline: Repo:dpdk Branch: master CommitID:f8fb19d5e2fc20798ed0caa292a1538fbbd98f96 155431-155432 --> testing pass Upstream job id: Generic-DPDK-Compile-Meson#411233 Test environment and result as below: +-------------------------------+--------------------+-------------------+-------------------------+----------------------+-------------------+------------------+ | Environment | dpdk_meson_compile | dpdk_msvc_compile | dpdk_llvm_clang_compile | dpdk_mingw64_compile | dpdk_compile_spdk | dpdk_compile_ovs | +===============================+====================+===================+=========================+======================+===================+==================+ | Ubuntu 20.04 | PASS | SKIPPED | SKIPPED | SKIPPED | SKIPPED | SKIPPED | +-------------------------------+--------------------+-------------------+-------------------------+----------------------+-------------------+------------------+ | FreeBSD 14.2 | PASS | SKIPPED | SKIPPED | SKIPPED | SKIPPED | SKIPPED | +-------------------------------+--------------------+-------------------+-------------------------+----------------------+-------------------+------------------+ | CentOS Stream 9 | PASS | SKIPPED | SKIPPED | SKIPPED | PASS | SKIPPED | +-------------------------------+--------------------+-------------------+-------------------------+----------------------+-------------------+------------------+ | CentOS Stream 10 | PASS | SKIPPED | SKIPPED | SKIPPED | SKIPPED | SKIPPED | +-------------------------------+--------------------+-------------------+-------------------------+----------------------+-------------------+------------------+ | Debian GNU/Linux 12 | PASS | SKIPPED | SKIPPED | SKIPPED | PASS | SKIPPED | +-------------------------------+--------------------+-------------------+-------------------------+----------------------+-------------------+------------------+ | Fedora Linux 40 | PASS | SKIPPED | SKIPPED | SKIPPED | PASS | SKIPPED | +-------------------------------+--------------------+-------------------+-------------------------+----------------------+-------------------+------------------+ | Fedora Linux 41 | PASS | SKIPPED | SKIPPED | SKIPPED | PASS | PASS | +-------------------------------+--------------------+-------------------+-------------------------+----------------------+-------------------+------------------+ | openSUSE Leap 15.6 | PASS | SKIPPED | SKIPPED | SKIPPED | SKIPPED | SKIPPED | +-------------------------------+--------------------+-------------------+-------------------------+----------------------+-------------------+------------------+ | Red Hat Enterprise Linux 8.10 | PASS | SKIPPED | SKIPPED | SKIPPED | SKIPPED | SKIPPED | +-------------------------------+--------------------+-------------------+-------------------------+----------------------+-------------------+------------------+ | Red Hat Enterprise Linux 9.5 | PASS | SKIPPED | SKIPPED | SKIPPED | SKIPPED | SKIPPED | +-------------------------------+--------------------+-------------------+-------------------------+----------------------+-------------------+------------------+ | Ubuntu 22.04 | PASS | SKIPPED | SKIPPED | SKIPPED | PASS | SKIPPED | +-------------------------------+--------------------+-------------------+-------------------------+----------------------+-------------------+------------------+ | Ubuntu 24.04 | PASS | SKIPPED | SKIPPED | SKIPPED | PASS | PASS | +-------------------------------+--------------------+-------------------+-------------------------+----------------------+-------------------+------------------+ | Alpine Linux 3.22.0 | PASS | SKIPPED | SKIPPED | SKIPPED | SKIPPED | SKIPPED | +-------------------------------+--------------------+-------------------+-------------------------+----------------------+-------------------+------------------+ | Windows Server 2022 | SKIPPED | PASS | PASS | PASS | SKIPPED | SKIPPED | +-------------------------------+--------------------+-------------------+-------------------------+----------------------+-------------------+------------------+ Ubuntu 20.04 Kernel: 4.19 Compiler: gcc gcc (Ubuntu 9.4.0-1ubuntu1~20.04.2) 9.4.0 FreeBSD 14.2 Kernel: 14.2-RELEASE Compiler: clang 18.1.6 CentOS Stream 9 Kernel: 5.15 Compiler: gcc gcc (GCC) 11.5.0 20240719 (Red Hat 11.5.0-7) CentOS Stream 10 Kernel: 5.15 Compiler: gcc gcc (GCC) 14.2.1 20250110 (Red Hat 14.2.1-8) Debian GNU/Linux 12 Kernel: 5.15 Compiler: gcc gcc (Debian 12.2.0-14+deb12u1) 12.2.0 Fedora Linux 40 Kernel: 5.15 Compiler: clang gcc (GCC) 14.2.1 20240912 (Red Hat 14.2.1-3) Fedora Linux 41 Kernel: 5.15 Compiler: clang gcc (GCC) 14.3.1 20250523 (Red Hat 14.3.1-1) openSUSE Leap 15.6 Kernel: 5.15 Compiler: gcc gcc (SUSE Linux) 7.5.0 Red Hat Enterprise Linux 8.10 Kernel: 5.15 Compiler: gcc gcc (GCC) 8.5.0 20210514 (Red Hat 8.5.0-22) Red Hat Enterprise Linux 9.5 Kernel: 5.15 Compiler: gcc gcc (GCC) 11.5.0 20240719 (Red Hat 11.5.0-2) Ubuntu 22.04 Kernel: 5.15 Compiler: gcc gcc (Ubuntu 11.4.0-1ubuntu1~22.04) 11.4.0 Ubuntu 24.04 Kernel: 5.15 Compiler: gcc gcc (Ubuntu 13.3.0-6ubuntu2~24.04) 13.3.0 Alpine Linux 3.22.0 Kernel: 5.15 Compiler: gcc gcc (Alpine 14.2.0) 14.2.0 Windows Server 2022 Kernel: 10.0.20348.2031 Compiler: clang 15.0.7, gcc 14.1.0 (MinGW), and MSVC VS 19.39.33521 To view detailed results, visit: https://lab.dpdk.org/results/dashboard/patchsets/33729/ UNH-IOL DPDK Community Lab To manage your email subscriptions, visit: https://lab.dpdk.org/results/dashboard/preferences/subscriptions/