From mboxrd@z Thu Jan 1 00:00:00 1970 Return-Path: Received: from mails.dpdk.org (mails.dpdk.org [217.70.189.124]) by inbox.dpdk.org (Postfix) with ESMTP id 618FC46BEA for ; Wed, 23 Jul 2025 03:29:24 +0200 (CEST) Received: from mails.dpdk.org (localhost [127.0.0.1]) by mails.dpdk.org (Postfix) with ESMTP id 5CCF34026D; Wed, 23 Jul 2025 03:29:24 +0200 (CEST) Received: from mail-pl1-f228.google.com (mail-pl1-f228.google.com [209.85.214.228]) by mails.dpdk.org (Postfix) with ESMTP id 1F9BA4026D for ; Wed, 23 Jul 2025 03:29:23 +0200 (CEST) Received: by mail-pl1-f228.google.com with SMTP id d9443c01a7336-23c8a505177so56438045ad.2 for ; Tue, 22 Jul 2025 18:29:23 -0700 (PDT) DKIM-Signature: v=1; a=rsa-sha256; c=relaxed/relaxed; d=iol.unh.edu; s=unh-iol; t=1753234162; x=1753838962; darn=dpdk.org; h=references:in-reply-to:cc:to:from:subject:message-id:date:from:to :cc:subject:date:message-id:reply-to; bh=1uEPmfyqVD3YFmjNXpWXyQDg0P0Yk7X3rao5biYrbBI=; b=awG+0mx/oJwTfe1mCn9b/chDvkgmyYkkybI9EAZsxXTMu16sZZ0h66PhVyuaZ/FLpL FQ66dfYk68PtpDBQrvAE3tmURHrRf+0Uy5tBOzEd9iMHWgVU6g7OsFQ4bfbS1VwCrdSg bw8vfE9q21Orji7YoFI3GsI6BEkMiVLODJ3Io= X-Google-DKIM-Signature: v=1; a=rsa-sha256; c=relaxed/relaxed; d=1e100.net; s=20230601; t=1753234162; x=1753838962; h=references:in-reply-to:cc:to:from:subject:message-id:date :x-gm-message-state:from:to:cc:subject:date:message-id:reply-to; bh=1uEPmfyqVD3YFmjNXpWXyQDg0P0Yk7X3rao5biYrbBI=; b=c40BMbR/EJZoS/tAfM+EEuYF9Lh5Jwt52yyEi13vmOUrpJdL1MpLEZDMrjMMTogOHf Zz85ecJAnaIauk1nJknCuspAY2ya51BL+66M7wUiPFN9phPi+M33IyqdYc4ff2aRYkGS Gxbr6Lc/xXZvdtPyJKNd3WN8JnOz8OpAF5C9ap6MVb/QrHs7QnxTPjCVPYgIWS6Ek+Wg zeuImzsI8TfasFN7wWf+DTaSq0MS9iO0Ms8AYcNdjrK75qEngiKd2qZde5vJJbg5pREa KPz1lmt9RCmSe2gaXzJAmtSv7czYfVAEhuunUf05F4W1dI3qC2TQmUzgzZWS5qM7J0/4 kYRA== X-Gm-Message-State: AOJu0Yx0KpwvBgT5uwaQqNsnVYyg3kV7w3OF5CL/W5hJTWYMfl75pg2F /4eW6zO8bPcJ4WQgrA0l8Vn31K9kwpSCFP3bn31O+JcuG2xAPULClqhPdCdYA3O0B+3czVklGbN bgwq4jDZO5gWjSW6h/950IRV8qw9mgVfCLFlyawP1UnLI X-Gm-Gg: ASbGnctnBc8Z8xbp/2/yLEhcXYsvP/ZxavkIDQEj1fBRhIqC3hdbsj/KzTLhhYl5Ljh n3UVbI3/kAqoZLBH4CYr+4oxCfAjmwbXUm7bOvBm2T0DrXlcY7dkq5QhFDsHpJ20hDdwwWXuDRm Hw2SSPPm9jg5xtYUAxmBxOuCLLzZjbJs6eZFnnHTWDRB6KEQjhyEeWNP4Cn2gAmZ7oEstGh9qJr YL/0A7Qel5+BKquDt5M9QljJfIsOYZtV9j1V9gAYMQAj7OD5gEUFF6G3c0LTPtmshCgdH/oYGA3 EEbYDSiYVLu157dRikRy0U+S75ECK+81QshjCz29LOwf/qw/YpGu36ykYZQMhNkch+I4U+bN X-Google-Smtp-Source: AGHT+IEB+p5l/vXbQ49sFKIsQhpxlstZrPpN0SZPyHMON3JYnMGnUKvmgzZbmNHQnaA2iLqJhTZ1s+rcRqzT X-Received: by 2002:a17:902:c712:b0:23f:9a29:b15 with SMTP id d9443c01a7336-23f9a290fd6mr2705475ad.12.1753234162241; Tue, 22 Jul 2025 18:29:22 -0700 (PDT) Received: from postal.iol.unh.edu (postal.iol.unh.edu. [132.177.123.84]) by smtp-relay.gmail.com with ESMTPS id d9443c01a7336-23f8da7c9a1sm1460525ad.53.2025.07.22.18.29.22 (version=TLS1_2 cipher=ECDHE-ECDSA-AES128-GCM-SHA256 bits=128/128); Tue, 22 Jul 2025 18:29:22 -0700 (PDT) X-Relaying-Domain: iol.unh.edu Date: Tue, 22 Jul 2025 18:29:22 -0700 (PDT) Message-ID: <68803af2.170a0220.163f9e.8201SMTPIN_ADDED_MISSING@mx.google.com> Received: from [172.21.0.6] (unknown [172.18.0.240]) by postal.iol.unh.edu (Postfix) with ESMTP id 81ABE6051830; Tue, 22 Jul 2025 21:29:21 -0400 (EDT) Subject: |SUCCESS| pw155426-155427 [PATCH] [v3,2/2] test/strsep: add tests fo From: dpdklab@iol.unh.edu To: Test Report Cc: dpdk-test-reports@iol.unh.edu In-Reply-To: <1753202334-27615-2-git-send-email-andremue@linux.microsoft.com> References: <1753202334-27615-2-git-send-email-andremue@linux.microsoft.com> Content-Type: text/plain X-BeenThere: test-report@dpdk.org X-Mailman-Version: 2.1.29 Precedence: list List-Id: automatic DPDK test reports List-Unsubscribe: , List-Archive: List-Post: List-Help: List-Subscribe: , Errors-To: test-report-bounces@dpdk.org Test-Label: iol-compile-amd64-testing Test-Status: SUCCESS http://dpdk.org/patch/155427 _Testing PASS_ Submitter: Andre Muezerie Date: Tuesday, July 22 2025 16:38:54 DPDK git baseline: Repo:dpdk Branch: master CommitID:b222395561638f89562e4ef42e1eabf2d6db43dd 155426-155427 --> testing pass Upstream job id: Generic-DPDK-Compile-Meson#411175 Test environment and result as below: +-------------------------------+--------------------+-------------------+-------------------------+----------------------+-------------------+------------------+ | Environment | dpdk_meson_compile | dpdk_msvc_compile | dpdk_llvm_clang_compile | dpdk_mingw64_compile | dpdk_compile_spdk | dpdk_compile_ovs | +===============================+====================+===================+=========================+======================+===================+==================+ | Ubuntu 20.04 | PASS | SKIPPED | SKIPPED | SKIPPED | SKIPPED | SKIPPED | +-------------------------------+--------------------+-------------------+-------------------------+----------------------+-------------------+------------------+ | FreeBSD 14.2 | PASS | SKIPPED | SKIPPED | SKIPPED | SKIPPED | SKIPPED | +-------------------------------+--------------------+-------------------+-------------------------+----------------------+-------------------+------------------+ | CentOS Stream 9 | PASS | SKIPPED | SKIPPED | SKIPPED | PASS | SKIPPED | +-------------------------------+--------------------+-------------------+-------------------------+----------------------+-------------------+------------------+ | CentOS Stream 10 | PASS | SKIPPED | SKIPPED | SKIPPED | SKIPPED | SKIPPED | +-------------------------------+--------------------+-------------------+-------------------------+----------------------+-------------------+------------------+ | Debian GNU/Linux 12 | PASS | SKIPPED | SKIPPED | SKIPPED | PASS | SKIPPED | +-------------------------------+--------------------+-------------------+-------------------------+----------------------+-------------------+------------------+ | Fedora Linux 40 | PASS | SKIPPED | SKIPPED | SKIPPED | PASS | SKIPPED | +-------------------------------+--------------------+-------------------+-------------------------+----------------------+-------------------+------------------+ | Fedora Linux 41 | PASS | SKIPPED | SKIPPED | SKIPPED | PASS | PASS | +-------------------------------+--------------------+-------------------+-------------------------+----------------------+-------------------+------------------+ | openSUSE Leap 15.6 | PASS | SKIPPED | SKIPPED | SKIPPED | SKIPPED | SKIPPED | +-------------------------------+--------------------+-------------------+-------------------------+----------------------+-------------------+------------------+ | Red Hat Enterprise Linux 8.10 | PASS | SKIPPED | SKIPPED | SKIPPED | SKIPPED | SKIPPED | +-------------------------------+--------------------+-------------------+-------------------------+----------------------+-------------------+------------------+ | Red Hat Enterprise Linux 9.5 | PASS | SKIPPED | SKIPPED | SKIPPED | SKIPPED | SKIPPED | +-------------------------------+--------------------+-------------------+-------------------------+----------------------+-------------------+------------------+ | Ubuntu 22.04 | PASS | SKIPPED | SKIPPED | SKIPPED | PASS | SKIPPED | +-------------------------------+--------------------+-------------------+-------------------------+----------------------+-------------------+------------------+ | Ubuntu 24.04 | PASS | SKIPPED | SKIPPED | SKIPPED | PASS | PASS | +-------------------------------+--------------------+-------------------+-------------------------+----------------------+-------------------+------------------+ | Alpine Linux 3.22.0 | PASS | SKIPPED | SKIPPED | SKIPPED | SKIPPED | SKIPPED | +-------------------------------+--------------------+-------------------+-------------------------+----------------------+-------------------+------------------+ | Windows Server 2022 | SKIPPED | PASS | PASS | PASS | SKIPPED | SKIPPED | +-------------------------------+--------------------+-------------------+-------------------------+----------------------+-------------------+------------------+ Ubuntu 20.04 Kernel: 4.19 Compiler: gcc gcc (Ubuntu 9.4.0-1ubuntu1~20.04.2) 9.4.0 FreeBSD 14.2 Kernel: 14.2-RELEASE Compiler: clang 18.1.6 CentOS Stream 9 Kernel: 5.15 Compiler: gcc gcc (GCC) 11.5.0 20240719 (Red Hat 11.5.0-7) CentOS Stream 10 Kernel: 5.15 Compiler: gcc gcc (GCC) 14.2.1 20250110 (Red Hat 14.2.1-8) Debian GNU/Linux 12 Kernel: 5.15 Compiler: gcc gcc (Debian 12.2.0-14+deb12u1) 12.2.0 Fedora Linux 40 Kernel: 5.15 Compiler: clang gcc (GCC) 14.2.1 20240912 (Red Hat 14.2.1-3) Fedora Linux 41 Kernel: 5.15 Compiler: clang gcc (GCC) 14.3.1 20250523 (Red Hat 14.3.1-1) openSUSE Leap 15.6 Kernel: 5.15 Compiler: gcc gcc (SUSE Linux) 7.5.0 Red Hat Enterprise Linux 8.10 Kernel: 5.15 Compiler: gcc gcc (GCC) 8.5.0 20210514 (Red Hat 8.5.0-22) Red Hat Enterprise Linux 9.5 Kernel: 5.15 Compiler: gcc gcc (GCC) 11.5.0 20240719 (Red Hat 11.5.0-2) Ubuntu 22.04 Kernel: 5.15 Compiler: gcc gcc (Ubuntu 11.4.0-1ubuntu1~22.04) 11.4.0 Ubuntu 24.04 Kernel: 5.15 Compiler: gcc gcc (Ubuntu 13.3.0-6ubuntu2~24.04) 13.3.0 Alpine Linux 3.22.0 Kernel: 5.15 Compiler: gcc gcc (Alpine 14.2.0) 14.2.0 Windows Server 2022 Kernel: 10.0.20348.2031 Compiler: clang 15.0.7, gcc 14.1.0 (MinGW), and MSVC VS 19.39.33521 To view detailed results, visit: https://lab.dpdk.org/results/dashboard/patchsets/33726/ UNH-IOL DPDK Community Lab To manage your email subscriptions, visit: https://lab.dpdk.org/results/dashboard/preferences/subscriptions/