From mboxrd@z Thu Jan 1 00:00:00 1970 Return-Path: Received: from mails.dpdk.org (mails.dpdk.org [217.70.189.124]) by inbox.dpdk.org (Postfix) with ESMTP id 91ED946BEA for ; Wed, 23 Jul 2025 03:29:34 +0200 (CEST) Received: from mails.dpdk.org (localhost [127.0.0.1]) by mails.dpdk.org (Postfix) with ESMTP id 8D05A4026D; Wed, 23 Jul 2025 03:29:34 +0200 (CEST) Received: from mail-pf1-f225.google.com (mail-pf1-f225.google.com [209.85.210.225]) by mails.dpdk.org (Postfix) with ESMTP id 350264026D for ; Wed, 23 Jul 2025 03:29:33 +0200 (CEST) Received: by mail-pf1-f225.google.com with SMTP id d2e1a72fcca58-74264d1832eso7679932b3a.0 for ; Tue, 22 Jul 2025 18:29:33 -0700 (PDT) DKIM-Signature: v=1; a=rsa-sha256; c=relaxed/relaxed; d=iol.unh.edu; s=unh-iol; t=1753234172; x=1753838972; darn=dpdk.org; h=references:in-reply-to:cc:to:from:subject:message-id:date:from:to :cc:subject:date:message-id:reply-to; bh=6Ggbbe258lxCpzyaYumxm/qfUy8n17tXrBv9zk19VYY=; b=S2QOOHamYoC2fEklR+0tFfOgvfwRCBLJI1nrgdsaDm60EVZP/PX77D+bRC3eVO7Jty 3CTocWCcfmO4ag+hdYqNuFQlvQFQnu8fLj5fWFzOTYHARpUavxFKwpB+oyfkbZiD09We EKofvZe2f6Uwg0tYBEbE+S+AuDSL1hSxfc7Uk= X-Google-DKIM-Signature: v=1; a=rsa-sha256; c=relaxed/relaxed; d=1e100.net; s=20230601; t=1753234172; x=1753838972; h=references:in-reply-to:cc:to:from:subject:message-id:date :x-gm-message-state:from:to:cc:subject:date:message-id:reply-to; bh=6Ggbbe258lxCpzyaYumxm/qfUy8n17tXrBv9zk19VYY=; b=bJ5/YsMpl6zfXDWskRE5A126XVhCLZiwIpqz3NIhQkqQHX4uDt6iH+OBwrjvsckqhX ARG/VJQ1qnUWwLpnmeiFz+Gpm5eegGEUxeMMANydWlVhbuzAY2ZEqVuocT3e5i6H4m8m /Go+604Q+nnz8QV2lR16RABJC+mwvcr4Nkjrgg67UqgejntXwRpPBSTBxoifHkxuaktq +mxrsQWYHa1qiwm6eTCecTgqte4LzT8atd6pcUe6ZNthvDTLGCBlczJ+qz8TapreLoPX pkynWiXnn+5aCjh5ZTqbST8X+xZmzK1l9Ozo8PC6dZXKIz5GgTC6G9LqJ/5GHdBfJT6W RdRg== X-Gm-Message-State: AOJu0Ywl5NS7PuP2QDQATIMuXASaodbUtVNmhAMjI+Mdi/pA3qBWctOI X/GHR7tSciPQZnl7n7yI/nNk3vCy4A5fTV62lBxY+eLd9KH48u8fd39+IHD2RyT2iJQV1CQrsz7 Rar+pzNVqmu0gIxObYgXv0FqgWp2Bpy18k6SaCAVZSoaFrQoEpszNXMfppu5Z X-Gm-Gg: ASbGnctb09euqz8E3MFalf0KnFbbzCYcymr6gJLiia8xGmswY14JcnKiCnB8TVPbNOd tfpId/4xjfSd5bRW+1sDiU1okofklKLqTuOW0IMi3qsY+UlUjEi1AnNUQBB9WGBgTwIEQFXEk4a resCgng2Ev+s6YHQdP/Njmt2JFo5R+xXLJSh5Ldigq/n0JS5w4uHzxwEJzdxXkz+SoHK43p2Ebv RS480qgpaB/8W3IPIDpj/PVlknQ9Jc6KLLStlqRF7XNdqdch3hzJG9tIfGFDctyHXcZZ3BYxy/4 62/YvUt8RL/nGJ4IdsvEKZLZ/EwWqDwYHpx6wSUjzGn5PpJVeg== X-Google-Smtp-Source: AGHT+IHwd6JHlgAFMn0B/5lbpJsABR1GPkNiM8z/Odn4OvsZuRrUTbzH8dyJqTYxEdGWyPSzEeSEGPqI9VBj X-Received: by 2002:a05:6a00:9a9:b0:730:95a6:3761 with SMTP id d2e1a72fcca58-76034afc8f7mr1823209b3a.3.1753234172318; Tue, 22 Jul 2025 18:29:32 -0700 (PDT) Received: from postal.iol.unh.edu (postal.iol.unh.edu. [2606:4100:3880:1234::84]) by smtp-relay.gmail.com with ESMTPS id d2e1a72fcca58-759c88db22fsm131102b3a.6.2025.07.22.18.29.32 (version=TLS1_2 cipher=ECDHE-ECDSA-AES128-GCM-SHA256 bits=128/128); Tue, 22 Jul 2025 18:29:32 -0700 (PDT) X-Relaying-Domain: iol.unh.edu Date: Tue, 22 Jul 2025 18:29:32 -0700 (PDT) Message-ID: <68803afc.050a0220.1a30f2.4191SMTPIN_ADDED_MISSING@mx.google.com> Received: from [172.21.0.11] (unknown [172.18.0.240]) by postal.iol.unh.edu (Postfix) with ESMTP id C96586051830; Tue, 22 Jul 2025 21:29:31 -0400 (EDT) Subject: |SUCCESS| pw155431-155432 [PATCH] [v1,2/2] dts: add exception handli From: dpdklab@iol.unh.edu To: Test Report Cc: dpdk-test-reports@iol.unh.edu In-Reply-To: <20250722172214.202308-2-dmarx@iol.unh.edu> References: <20250722172214.202308-2-dmarx@iol.unh.edu> Content-Type: text/plain X-BeenThere: test-report@dpdk.org X-Mailman-Version: 2.1.29 Precedence: list List-Id: automatic DPDK test reports List-Unsubscribe: , List-Archive: List-Post: List-Help: List-Subscribe: , Errors-To: test-report-bounces@dpdk.org Test-Label: iol-compile-amd64-testing Test-Status: SUCCESS http://dpdk.org/patch/155432 _Testing PASS_ Submitter: Dean Marx Date: Tuesday, July 22 2025 17:22:14 DPDK git baseline: Repo:dpdk Branch: master CommitID:f8fb19d5e2fc20798ed0caa292a1538fbbd98f96 155431-155432 --> testing pass Upstream job id: Generic-DPDK-Compile-Meson#411236 Test environment and result as below: +-------------------------------+--------------------+-------------------+-------------------------+----------------------+-------------------+------------------+ | Environment | dpdk_meson_compile | dpdk_msvc_compile | dpdk_llvm_clang_compile | dpdk_mingw64_compile | dpdk_compile_spdk | dpdk_compile_ovs | +===============================+====================+===================+=========================+======================+===================+==================+ | Ubuntu 20.04 | PASS | SKIPPED | SKIPPED | SKIPPED | SKIPPED | SKIPPED | +-------------------------------+--------------------+-------------------+-------------------------+----------------------+-------------------+------------------+ | FreeBSD 14.2 | PASS | SKIPPED | SKIPPED | SKIPPED | SKIPPED | SKIPPED | +-------------------------------+--------------------+-------------------+-------------------------+----------------------+-------------------+------------------+ | CentOS Stream 9 | PASS | SKIPPED | SKIPPED | SKIPPED | PASS | SKIPPED | +-------------------------------+--------------------+-------------------+-------------------------+----------------------+-------------------+------------------+ | CentOS Stream 10 | PASS | SKIPPED | SKIPPED | SKIPPED | SKIPPED | SKIPPED | +-------------------------------+--------------------+-------------------+-------------------------+----------------------+-------------------+------------------+ | Debian GNU/Linux 12 | PASS | SKIPPED | SKIPPED | SKIPPED | PASS | SKIPPED | +-------------------------------+--------------------+-------------------+-------------------------+----------------------+-------------------+------------------+ | Fedora Linux 40 | PASS | SKIPPED | SKIPPED | SKIPPED | PASS | SKIPPED | +-------------------------------+--------------------+-------------------+-------------------------+----------------------+-------------------+------------------+ | Fedora Linux 41 | PASS | SKIPPED | SKIPPED | SKIPPED | PASS | PASS | +-------------------------------+--------------------+-------------------+-------------------------+----------------------+-------------------+------------------+ | openSUSE Leap 15.6 | PASS | SKIPPED | SKIPPED | SKIPPED | SKIPPED | SKIPPED | +-------------------------------+--------------------+-------------------+-------------------------+----------------------+-------------------+------------------+ | Red Hat Enterprise Linux 8.10 | PASS | SKIPPED | SKIPPED | SKIPPED | SKIPPED | SKIPPED | +-------------------------------+--------------------+-------------------+-------------------------+----------------------+-------------------+------------------+ | Red Hat Enterprise Linux 9.5 | PASS | SKIPPED | SKIPPED | SKIPPED | SKIPPED | SKIPPED | +-------------------------------+--------------------+-------------------+-------------------------+----------------------+-------------------+------------------+ | Ubuntu 22.04 | PASS | SKIPPED | SKIPPED | SKIPPED | PASS | SKIPPED | +-------------------------------+--------------------+-------------------+-------------------------+----------------------+-------------------+------------------+ | Ubuntu 24.04 | PASS | SKIPPED | SKIPPED | SKIPPED | PASS | PASS | +-------------------------------+--------------------+-------------------+-------------------------+----------------------+-------------------+------------------+ | Alpine Linux 3.22.0 | PASS | SKIPPED | SKIPPED | SKIPPED | SKIPPED | SKIPPED | +-------------------------------+--------------------+-------------------+-------------------------+----------------------+-------------------+------------------+ | Windows Server 2022 | SKIPPED | PASS | PASS | PASS | SKIPPED | SKIPPED | +-------------------------------+--------------------+-------------------+-------------------------+----------------------+-------------------+------------------+ Ubuntu 20.04 Kernel: 4.19 Compiler: gcc gcc (Ubuntu 9.4.0-1ubuntu1~20.04.2) 9.4.0 FreeBSD 14.2 Kernel: 14.2-RELEASE Compiler: clang 18.1.6 CentOS Stream 9 Kernel: 5.15 Compiler: gcc gcc (GCC) 11.5.0 20240719 (Red Hat 11.5.0-7) CentOS Stream 10 Kernel: 5.15 Compiler: gcc gcc (GCC) 14.2.1 20250110 (Red Hat 14.2.1-8) Debian GNU/Linux 12 Kernel: 5.15 Compiler: gcc gcc (Debian 12.2.0-14+deb12u1) 12.2.0 Fedora Linux 40 Kernel: 5.15 Compiler: clang gcc (GCC) 14.2.1 20240912 (Red Hat 14.2.1-3) Fedora Linux 41 Kernel: 5.15 Compiler: clang gcc (GCC) 14.3.1 20250523 (Red Hat 14.3.1-1) openSUSE Leap 15.6 Kernel: 5.15 Compiler: gcc gcc (SUSE Linux) 7.5.0 Red Hat Enterprise Linux 8.10 Kernel: 5.15 Compiler: gcc gcc (GCC) 8.5.0 20210514 (Red Hat 8.5.0-22) Red Hat Enterprise Linux 9.5 Kernel: 5.15 Compiler: gcc gcc (GCC) 11.5.0 20240719 (Red Hat 11.5.0-2) Ubuntu 22.04 Kernel: 5.15 Compiler: gcc gcc (Ubuntu 11.4.0-1ubuntu1~22.04) 11.4.0 Ubuntu 24.04 Kernel: 5.15 Compiler: gcc gcc (Ubuntu 13.3.0-6ubuntu2~24.04) 13.3.0 Alpine Linux 3.22.0 Kernel: 5.15 Compiler: gcc gcc (Alpine 14.2.0) 14.2.0 Windows Server 2022 Kernel: 10.0.20348.2031 Compiler: clang 15.0.7, gcc 14.1.0 (MinGW), and MSVC VS 19.39.33521 To view detailed results, visit: https://lab.dpdk.org/results/dashboard/patchsets/33729/ UNH-IOL DPDK Community Lab To manage your email subscriptions, visit: https://lab.dpdk.org/results/dashboard/preferences/subscriptions/