From mboxrd@z Thu Jan 1 00:00:00 1970 Return-Path: Received: from mails.dpdk.org (mails.dpdk.org [217.70.189.124]) by inbox.dpdk.org (Postfix) with ESMTP id A6D0246BEA for ; Wed, 23 Jul 2025 03:29:38 +0200 (CEST) Received: from mails.dpdk.org (localhost [127.0.0.1]) by mails.dpdk.org (Postfix) with ESMTP id 9AACC4026D; Wed, 23 Jul 2025 03:29:38 +0200 (CEST) Received: from mail-pf1-f228.google.com (mail-pf1-f228.google.com [209.85.210.228]) by mails.dpdk.org (Postfix) with ESMTP id 3A2F44026D for ; Wed, 23 Jul 2025 03:29:36 +0200 (CEST) Received: by mail-pf1-f228.google.com with SMTP id d2e1a72fcca58-74931666cbcso4974528b3a.0 for ; Tue, 22 Jul 2025 18:29:36 -0700 (PDT) DKIM-Signature: v=1; a=rsa-sha256; c=relaxed/relaxed; d=iol.unh.edu; s=unh-iol; t=1753234175; x=1753838975; darn=dpdk.org; h=references:in-reply-to:cc:to:from:subject:message-id:date:from:to :cc:subject:date:message-id:reply-to; bh=oG+JBtYhTHVUfVUCyIgFJlKOJW0nG//RO+mJxlavsPg=; b=U0et2jEE3OPCamMCeE/M/ZQiPSxucTfrQEDhJr3DYBdITW1NBadf9B2zoV8okYZUhy RCntsx2tk88ZPLGRVmhTAIo6lPKYNbT9So8krAuQqjv5izb/15RN/D+mwhc4dARiLcRT YYA439itSbiLVabBPU1BWoWRwqxIbJoud3MqY= X-Google-DKIM-Signature: v=1; a=rsa-sha256; c=relaxed/relaxed; d=1e100.net; s=20230601; t=1753234175; x=1753838975; h=references:in-reply-to:cc:to:from:subject:message-id:date :x-gm-message-state:from:to:cc:subject:date:message-id:reply-to; bh=oG+JBtYhTHVUfVUCyIgFJlKOJW0nG//RO+mJxlavsPg=; b=r3oxX8iu55DYyl1bx2oevmcMp4E/vZn/ppUBtSbG7lfgXThej43dGhFazzwimM4EgI K0rC9LbH38mf6AZZxzwQpRZHJkwGGbUvbDGle3zL/vJ/RVsstouNqQpS3H1XMf5v9JGF k6x+Wtk0Mk/xGRRY19st69lNOST2A7Kh+1LGtU40xKMC/guIKRMvbdIyA86+SPxKZGT/ fwsrwBzzG7DHaRHcoxlre8f/9nz072/KJYHZNG6Co/OKEVvMcFf9fHIpG6eeD7ZC+oPj URzY5rG3zJQNfOsPGPSm/KKk8pnwbEzwWsbkaeYTS1jlgQCmGcwr6uEzDLkLLza3o3yR KUTQ== X-Gm-Message-State: AOJu0Yw7ea5exyQpoX/82bLnD5l40H48dbtG2zomjV7InqqNR9f5m8aN 0Pt7Keh2yDVaZpslnRw9Bq1h1r/5RgXq1554/FXCLhq7D27J2x3iGWY0Fq7BKihOPFnieLEcU9A qPVBpCaJRm0tugVGN9cEvSXxGm6OXvC3NhKQd4Za95S1L X-Gm-Gg: ASbGncvjyFlW8bfMZvkud8+xhwJ1aL4uf9jnjB609WAEoRQmFf87MX1/Iv6UN+6f1wC qVrKyrFzAL17HjGQhwh8pwA/7hQUfoRBDgJxWip8qU3mpear/MM2vguZZOSsxVagvn7DgXRuDDa 36qYd6AjC5HSrye65r5AybRj0uHhHx2uYUvZDmOEu9eR4S3Ncv/c19sgCtrjNGxP9AfG1s9s/yn RISbCXKUJ+C3iCiG1DLTyikUhtxU54vGdNTOEe0Pm3zJzdhIDLGmvX3qgC/EBZANuTC8ytHgfCF Zd4i+v0KNI8Ibo24vT2GgFXtrAGNx/M1t1OKvo/InANOLHDuTwjjDVHLzGulUVbP9fxy2f/9 X-Google-Smtp-Source: AGHT+IGUSFr3SlSakFy/Thk8wi0Ni1BoatfCsP6D+7GglXSgzLVpXMCmgN6U233ed/zcNpFPOZRX3zwBx8qq X-Received: by 2002:a05:6a21:618b:b0:220:9174:dd5f with SMTP id adf61e73a8af0-23d4902d86dmr1537565637.15.1753234175410; Tue, 22 Jul 2025 18:29:35 -0700 (PDT) Received: from postal.iol.unh.edu (postal.iol.unh.edu. [132.177.123.84]) by smtp-relay.gmail.com with ESMTPS id d2e1a72fcca58-759caf48a3dsm679752b3a.21.2025.07.22.18.29.35 (version=TLS1_2 cipher=ECDHE-ECDSA-AES128-GCM-SHA256 bits=128/128); Tue, 22 Jul 2025 18:29:35 -0700 (PDT) X-Relaying-Domain: iol.unh.edu Date: Tue, 22 Jul 2025 18:29:35 -0700 (PDT) Message-ID: <68803aff.050a0220.122ddb.39b6SMTPIN_ADDED_MISSING@mx.google.com> Received: from [172.21.0.16] (unknown [172.18.0.240]) by postal.iol.unh.edu (Postfix) with ESMTP id A16146051830; Tue, 22 Jul 2025 21:29:34 -0400 (EDT) Subject: |SUCCESS| pw155431-155432 [PATCH] [v1,2/2] dts: add exception handli From: dpdklab@iol.unh.edu To: Test Report Cc: dpdk-test-reports@iol.unh.edu In-Reply-To: <20250722172214.202308-2-dmarx@iol.unh.edu> References: <20250722172214.202308-2-dmarx@iol.unh.edu> Content-Type: text/plain X-BeenThere: test-report@dpdk.org X-Mailman-Version: 2.1.29 Precedence: list List-Id: automatic DPDK test reports List-Unsubscribe: , List-Archive: List-Post: List-Help: List-Subscribe: , Errors-To: test-report-bounces@dpdk.org Test-Label: iol-compile-amd64-testing Test-Status: SUCCESS http://dpdk.org/patch/155432 _Testing PASS_ Submitter: Dean Marx Date: Tuesday, July 22 2025 17:22:14 DPDK git baseline: Repo:dpdk Branch: master CommitID:f8fb19d5e2fc20798ed0caa292a1538fbbd98f96 155431-155432 --> testing pass Upstream job id: Generic-DPDK-Compile-Meson#411234 Test environment and result as below: +-------------------------------+--------------------+-------------------+-------------------------+----------------------+-------------------+------------------+ | Environment | dpdk_meson_compile | dpdk_msvc_compile | dpdk_llvm_clang_compile | dpdk_mingw64_compile | dpdk_compile_spdk | dpdk_compile_ovs | +===============================+====================+===================+=========================+======================+===================+==================+ | Ubuntu 20.04 | PASS | SKIPPED | SKIPPED | SKIPPED | SKIPPED | SKIPPED | +-------------------------------+--------------------+-------------------+-------------------------+----------------------+-------------------+------------------+ | FreeBSD 14.2 | PASS | SKIPPED | SKIPPED | SKIPPED | SKIPPED | SKIPPED | +-------------------------------+--------------------+-------------------+-------------------------+----------------------+-------------------+------------------+ | CentOS Stream 9 | PASS | SKIPPED | SKIPPED | SKIPPED | PASS | SKIPPED | +-------------------------------+--------------------+-------------------+-------------------------+----------------------+-------------------+------------------+ | CentOS Stream 10 | PASS | SKIPPED | SKIPPED | SKIPPED | SKIPPED | SKIPPED | +-------------------------------+--------------------+-------------------+-------------------------+----------------------+-------------------+------------------+ | Debian GNU/Linux 12 | PASS | SKIPPED | SKIPPED | SKIPPED | PASS | SKIPPED | +-------------------------------+--------------------+-------------------+-------------------------+----------------------+-------------------+------------------+ | Fedora Linux 40 | PASS | SKIPPED | SKIPPED | SKIPPED | PASS | SKIPPED | +-------------------------------+--------------------+-------------------+-------------------------+----------------------+-------------------+------------------+ | Fedora Linux 41 | PASS | SKIPPED | SKIPPED | SKIPPED | PASS | PASS | +-------------------------------+--------------------+-------------------+-------------------------+----------------------+-------------------+------------------+ | openSUSE Leap 15.6 | PASS | SKIPPED | SKIPPED | SKIPPED | SKIPPED | SKIPPED | +-------------------------------+--------------------+-------------------+-------------------------+----------------------+-------------------+------------------+ | Red Hat Enterprise Linux 8.10 | PASS | SKIPPED | SKIPPED | SKIPPED | SKIPPED | SKIPPED | +-------------------------------+--------------------+-------------------+-------------------------+----------------------+-------------------+------------------+ | Red Hat Enterprise Linux 9.5 | PASS | SKIPPED | SKIPPED | SKIPPED | SKIPPED | SKIPPED | +-------------------------------+--------------------+-------------------+-------------------------+----------------------+-------------------+------------------+ | Ubuntu 22.04 | PASS | SKIPPED | SKIPPED | SKIPPED | PASS | SKIPPED | +-------------------------------+--------------------+-------------------+-------------------------+----------------------+-------------------+------------------+ | Ubuntu 24.04 | PASS | SKIPPED | SKIPPED | SKIPPED | PASS | PASS | +-------------------------------+--------------------+-------------------+-------------------------+----------------------+-------------------+------------------+ | Alpine Linux 3.22.0 | PASS | SKIPPED | SKIPPED | SKIPPED | SKIPPED | SKIPPED | +-------------------------------+--------------------+-------------------+-------------------------+----------------------+-------------------+------------------+ | Windows Server 2022 | SKIPPED | PASS | PASS | PASS | SKIPPED | SKIPPED | +-------------------------------+--------------------+-------------------+-------------------------+----------------------+-------------------+------------------+ Ubuntu 20.04 Kernel: 4.19 Compiler: gcc gcc (Ubuntu 9.4.0-1ubuntu1~20.04.2) 9.4.0 FreeBSD 14.2 Kernel: 14.2-RELEASE Compiler: clang 18.1.6 CentOS Stream 9 Kernel: 5.15 Compiler: gcc gcc (GCC) 11.5.0 20240719 (Red Hat 11.5.0-7) CentOS Stream 10 Kernel: 5.15 Compiler: gcc gcc (GCC) 14.2.1 20250110 (Red Hat 14.2.1-8) Debian GNU/Linux 12 Kernel: 5.15 Compiler: gcc gcc (Debian 12.2.0-14+deb12u1) 12.2.0 Fedora Linux 40 Kernel: 5.15 Compiler: clang gcc (GCC) 14.2.1 20240912 (Red Hat 14.2.1-3) Fedora Linux 41 Kernel: 5.15 Compiler: clang gcc (GCC) 14.3.1 20250523 (Red Hat 14.3.1-1) openSUSE Leap 15.6 Kernel: 5.15 Compiler: gcc gcc (SUSE Linux) 7.5.0 Red Hat Enterprise Linux 8.10 Kernel: 5.15 Compiler: gcc gcc (GCC) 8.5.0 20210514 (Red Hat 8.5.0-22) Red Hat Enterprise Linux 9.5 Kernel: 5.15 Compiler: gcc gcc (GCC) 11.5.0 20240719 (Red Hat 11.5.0-2) Ubuntu 22.04 Kernel: 5.15 Compiler: gcc gcc (Ubuntu 11.4.0-1ubuntu1~22.04) 11.4.0 Ubuntu 24.04 Kernel: 5.15 Compiler: gcc gcc (Ubuntu 13.3.0-6ubuntu2~24.04) 13.3.0 Alpine Linux 3.22.0 Kernel: 5.15 Compiler: gcc gcc (Alpine 14.2.0) 14.2.0 Windows Server 2022 Kernel: 10.0.20348.2031 Compiler: clang 15.0.7, gcc 14.1.0 (MinGW), and MSVC VS 19.39.33521 To view detailed results, visit: https://lab.dpdk.org/results/dashboard/patchsets/33729/ UNH-IOL DPDK Community Lab To manage your email subscriptions, visit: https://lab.dpdk.org/results/dashboard/preferences/subscriptions/