From mboxrd@z Thu Jan 1 00:00:00 1970 Return-Path: Received: from mails.dpdk.org (mails.dpdk.org [217.70.189.124]) by inbox.dpdk.org (Postfix) with ESMTP id BC01946BEA for ; Wed, 23 Jul 2025 03:30:12 +0200 (CEST) Received: from mails.dpdk.org (localhost [127.0.0.1]) by mails.dpdk.org (Postfix) with ESMTP id B706C4026D; Wed, 23 Jul 2025 03:30:12 +0200 (CEST) Received: from mail-io1-f97.google.com (mail-io1-f97.google.com [209.85.166.97]) by mails.dpdk.org (Postfix) with ESMTP id 347D04026D for ; Wed, 23 Jul 2025 03:30:12 +0200 (CEST) Received: by mail-io1-f97.google.com with SMTP id ca18e2360f4ac-87c04c907eeso346796439f.0 for ; Tue, 22 Jul 2025 18:30:12 -0700 (PDT) DKIM-Signature: v=1; a=rsa-sha256; c=relaxed/relaxed; d=iol.unh.edu; s=unh-iol; t=1753234211; x=1753839011; darn=dpdk.org; h=references:in-reply-to:cc:to:from:subject:message-id:date:from:to :cc:subject:date:message-id:reply-to; bh=7TR51kJcp7FtpuqHwAjQ4DW8poGaoPBnIh51oLyHjCU=; b=eT59drzgaDhK7U+lotCg5Rg/C986RgfYnh8OXIz8y7/qOig3V/MRBX46EXllwKJMT+ HHHG62IdWuZNQSoxJCgElUdbGZRa0RybnKA3K4X+7Sl8KSQH7R/eYi1YQc+1dSQFV/lu w4HR7s/Cqt1DgRUgSPpWiACoJDpDSIDi7xXZM= X-Google-DKIM-Signature: v=1; a=rsa-sha256; c=relaxed/relaxed; d=1e100.net; s=20230601; t=1753234211; x=1753839011; h=references:in-reply-to:cc:to:from:subject:message-id:date :x-gm-message-state:from:to:cc:subject:date:message-id:reply-to; bh=7TR51kJcp7FtpuqHwAjQ4DW8poGaoPBnIh51oLyHjCU=; b=Pgl1VH+TpUq5f/lB3/vbDEo/VF83l5JGZJDhPKa0M68ei26hYYqRhzaHuozbNBz57c CY5+hKhnP5/YAwiOragJvhiOJhPAjiX99wVN5tgMxzF90bgVXoSEnyvgtdVnLRWBJsGG X6ddHpK5QIzNyo5TsVmVpV8OrZdtKR4Y29L27/u7RkhOyNcZbPjc4YQjFBBiYXqaISYr Rqam6qbFeGtn3Fz20Q7jxUjbZAw1gs+CLmYHD5lzzTTyg8YNsd4RoAj8riJzuwtjamNE Ec8RBcCELKwrSDsE5uvjMlAdMjhRKG2HWQzvYqo9crN6ELzdm4+anwE7gZ3Cl40laHAL Bl6Q== X-Gm-Message-State: AOJu0YwzStyPhVI9f6+U8d+tNUVA+mCvZNB7TUVJEm1YWD88gMSm5OnY lXgeXQ6giyB+e+m7hZUPxEMACH1gQ1f/B2MlNycD97jWEgcJnTjy1e5IcPdtGRTyZPVxxkpjh+1 /CZ7VyM9z0xZG4jMlvStNimJ5jl/cQ+1ETcRZLzrvTTn+jBTqOLzdiIAoC36i X-Gm-Gg: ASbGncsSbRGqnF1wL3b5tAC0JignFHVKFWI6AaX7BPpNEzrYU9HvkGHZPRveFApy4QM iHZNpBjBEQae9vrTBkgIlu3/Z12KEN5Nj3owl67/0fW/GQHZiyzkMKNt8CKF/GgQ1C/vfS/Peut +Em9fZsajpKqCRhYZvbbAhLKwPfGdba/+4n1vrCoZ2ovSmmdpGfAOfoGWibskK0qjkpdHGwpo8e 9mr2XrWntZxNRsjXEia6lJXafFWBo+lSsev+0+MjmIwQYh+5C+SlPz039W+Q+OHPjUi4RpHTxMo lBuzrP4mtGjrWlcFnNVj5Q9gsCrU8gMTBBlyr0my3yaFVeCqDA== X-Google-Smtp-Source: AGHT+IFIDaOuXmyXdPwsGS25v7pl11V6KxsGrN+h0gDXGdfnHIfEWtJ2AxCPhFJ0lwrSJROppKUbCEAq+yFE X-Received: by 2002:a05:6602:6d04:b0:86d:9ec7:267e with SMTP id ca18e2360f4ac-87c64f87b84mr277569039f.4.1753234211460; Tue, 22 Jul 2025 18:30:11 -0700 (PDT) Received: from postal.iol.unh.edu (postal.iol.unh.edu. [2606:4100:3880:1234::84]) by smtp-relay.gmail.com with ESMTPS id ca18e2360f4ac-87c0e4efd86sm53074639f.10.2025.07.22.18.30.11 (version=TLS1_2 cipher=ECDHE-ECDSA-AES128-GCM-SHA256 bits=128/128); Tue, 22 Jul 2025 18:30:11 -0700 (PDT) X-Relaying-Domain: iol.unh.edu Date: Tue, 22 Jul 2025 18:30:11 -0700 (PDT) Message-ID: <68803b23.050a0220.31faa9.b72bSMTPIN_ADDED_MISSING@mx.google.com> Received: from [172.21.0.3] (unknown [172.18.0.240]) by postal.iol.unh.edu (Postfix) with ESMTP id E6CC26051830; Tue, 22 Jul 2025 21:30:10 -0400 (EDT) Subject: |SUCCESS| pw155426-155427 [PATCH] [v3,2/2] test/strsep: add tests fo From: dpdklab@iol.unh.edu To: Test Report Cc: dpdk-test-reports@iol.unh.edu In-Reply-To: <1753202334-27615-2-git-send-email-andremue@linux.microsoft.com> References: <1753202334-27615-2-git-send-email-andremue@linux.microsoft.com> Content-Type: text/plain X-BeenThere: test-report@dpdk.org X-Mailman-Version: 2.1.29 Precedence: list List-Id: automatic DPDK test reports List-Unsubscribe: , List-Archive: List-Post: List-Help: List-Subscribe: , Errors-To: test-report-bounces@dpdk.org Test-Label: iol-compile-amd64-testing Test-Status: SUCCESS http://dpdk.org/patch/155427 _Testing PASS_ Submitter: Andre Muezerie Date: Tuesday, July 22 2025 16:38:54 DPDK git baseline: Repo:dpdk Branch: master CommitID:b222395561638f89562e4ef42e1eabf2d6db43dd 155426-155427 --> testing pass Upstream job id: Generic-DPDK-Compile-Meson#411168 Test environment and result as below: +-------------------------------+--------------------+-------------------+-------------------------+----------------------+-------------------+------------------+ | Environment | dpdk_meson_compile | dpdk_msvc_compile | dpdk_llvm_clang_compile | dpdk_mingw64_compile | dpdk_compile_spdk | dpdk_compile_ovs | +===============================+====================+===================+=========================+======================+===================+==================+ | Ubuntu 20.04 | PASS | SKIPPED | SKIPPED | SKIPPED | SKIPPED | SKIPPED | +-------------------------------+--------------------+-------------------+-------------------------+----------------------+-------------------+------------------+ | FreeBSD 14.2 | PASS | SKIPPED | SKIPPED | SKIPPED | SKIPPED | SKIPPED | +-------------------------------+--------------------+-------------------+-------------------------+----------------------+-------------------+------------------+ | CentOS Stream 9 | PASS | SKIPPED | SKIPPED | SKIPPED | PASS | SKIPPED | +-------------------------------+--------------------+-------------------+-------------------------+----------------------+-------------------+------------------+ | CentOS Stream 10 | PASS | SKIPPED | SKIPPED | SKIPPED | SKIPPED | SKIPPED | +-------------------------------+--------------------+-------------------+-------------------------+----------------------+-------------------+------------------+ | Debian GNU/Linux 12 | PASS | SKIPPED | SKIPPED | SKIPPED | PASS | SKIPPED | +-------------------------------+--------------------+-------------------+-------------------------+----------------------+-------------------+------------------+ | Fedora Linux 40 | PASS | SKIPPED | SKIPPED | SKIPPED | PASS | SKIPPED | +-------------------------------+--------------------+-------------------+-------------------------+----------------------+-------------------+------------------+ | Fedora Linux 41 | PASS | SKIPPED | SKIPPED | SKIPPED | PASS | PASS | +-------------------------------+--------------------+-------------------+-------------------------+----------------------+-------------------+------------------+ | openSUSE Leap 15.6 | PASS | SKIPPED | SKIPPED | SKIPPED | SKIPPED | SKIPPED | +-------------------------------+--------------------+-------------------+-------------------------+----------------------+-------------------+------------------+ | Red Hat Enterprise Linux 8.10 | PASS | SKIPPED | SKIPPED | SKIPPED | SKIPPED | SKIPPED | +-------------------------------+--------------------+-------------------+-------------------------+----------------------+-------------------+------------------+ | Red Hat Enterprise Linux 9.5 | PASS | SKIPPED | SKIPPED | SKIPPED | SKIPPED | SKIPPED | +-------------------------------+--------------------+-------------------+-------------------------+----------------------+-------------------+------------------+ | Ubuntu 22.04 | PASS | SKIPPED | SKIPPED | SKIPPED | PASS | SKIPPED | +-------------------------------+--------------------+-------------------+-------------------------+----------------------+-------------------+------------------+ | Ubuntu 24.04 | PASS | SKIPPED | SKIPPED | SKIPPED | PASS | PASS | +-------------------------------+--------------------+-------------------+-------------------------+----------------------+-------------------+------------------+ | Alpine Linux 3.22.0 | PASS | SKIPPED | SKIPPED | SKIPPED | SKIPPED | SKIPPED | +-------------------------------+--------------------+-------------------+-------------------------+----------------------+-------------------+------------------+ | Windows Server 2022 | SKIPPED | PASS | PASS | PASS | SKIPPED | SKIPPED | +-------------------------------+--------------------+-------------------+-------------------------+----------------------+-------------------+------------------+ Ubuntu 20.04 Kernel: 4.19 Compiler: gcc gcc (Ubuntu 9.4.0-1ubuntu1~20.04.2) 9.4.0 FreeBSD 14.2 Kernel: 14.2-RELEASE Compiler: clang 18.1.6 CentOS Stream 9 Kernel: 5.15 Compiler: gcc gcc (GCC) 11.5.0 20240719 (Red Hat 11.5.0-7) CentOS Stream 10 Kernel: 5.15 Compiler: gcc gcc (GCC) 14.2.1 20250110 (Red Hat 14.2.1-8) Debian GNU/Linux 12 Kernel: 5.15 Compiler: gcc gcc (Debian 12.2.0-14+deb12u1) 12.2.0 Fedora Linux 40 Kernel: 5.15 Compiler: clang gcc (GCC) 14.2.1 20240912 (Red Hat 14.2.1-3) Fedora Linux 41 Kernel: 5.15 Compiler: clang gcc (GCC) 14.3.1 20250523 (Red Hat 14.3.1-1) openSUSE Leap 15.6 Kernel: 5.15 Compiler: gcc gcc (SUSE Linux) 7.5.0 Red Hat Enterprise Linux 8.10 Kernel: 5.15 Compiler: gcc gcc (GCC) 8.5.0 20210514 (Red Hat 8.5.0-22) Red Hat Enterprise Linux 9.5 Kernel: 5.15 Compiler: gcc gcc (GCC) 11.5.0 20240719 (Red Hat 11.5.0-2) Ubuntu 22.04 Kernel: 5.15 Compiler: gcc gcc (Ubuntu 11.4.0-1ubuntu1~22.04) 11.4.0 Ubuntu 24.04 Kernel: 5.15 Compiler: gcc gcc (Ubuntu 13.3.0-6ubuntu2~24.04) 13.3.0 Alpine Linux 3.22.0 Kernel: 5.15 Compiler: gcc gcc (Alpine 14.2.0) 14.2.0 Windows Server 2022 Kernel: 10.0.20348.2031 Compiler: clang 15.0.7, gcc 14.1.0 (MinGW), and MSVC VS 19.39.33521 To view detailed results, visit: https://lab.dpdk.org/results/dashboard/patchsets/33726/ UNH-IOL DPDK Community Lab To manage your email subscriptions, visit: https://lab.dpdk.org/results/dashboard/preferences/subscriptions/