From mboxrd@z Thu Jan 1 00:00:00 1970 Return-Path: Received: from mails.dpdk.org (mails.dpdk.org [217.70.189.124]) by inbox.dpdk.org (Postfix) with ESMTP id D4B8F46BEA for ; Wed, 23 Jul 2025 03:30:32 +0200 (CEST) Received: from mails.dpdk.org (localhost [127.0.0.1]) by mails.dpdk.org (Postfix) with ESMTP id CEBF8402CA; Wed, 23 Jul 2025 03:30:32 +0200 (CEST) Received: from mail-pl1-f228.google.com (mail-pl1-f228.google.com [209.85.214.228]) by mails.dpdk.org (Postfix) with ESMTP id 5C7CC4026D for ; Wed, 23 Jul 2025 03:30:32 +0200 (CEST) Received: by mail-pl1-f228.google.com with SMTP id d9443c01a7336-234b440afa7so57211435ad.0 for ; Tue, 22 Jul 2025 18:30:32 -0700 (PDT) DKIM-Signature: v=1; a=rsa-sha256; c=relaxed/relaxed; d=iol.unh.edu; s=unh-iol; t=1753234231; x=1753839031; darn=dpdk.org; h=references:in-reply-to:cc:to:from:subject:message-id:date:from:to :cc:subject:date:message-id:reply-to; bh=e+iAzshejibE7cme8LHv+MrHRrK6Ekf9EJewAXFuOhY=; b=XaZZdz6okWTl0Txrmvg676uvohVNGXJyoXFwZ1xbnsapPpqTnGLC0XvIVdiNGf5I9+ PYV+mLnMsFjSHbk/4WtYz4iGRyArGK4+qQsmG8/NiHZFAM9LqrfkUZtSuKjxT9pWU6FR Fz+jTu5Bm2Q/dMz07ZME4fkWARbSNBSh6JJOY= X-Google-DKIM-Signature: v=1; a=rsa-sha256; c=relaxed/relaxed; d=1e100.net; s=20230601; t=1753234231; x=1753839031; h=references:in-reply-to:cc:to:from:subject:message-id:date :x-gm-message-state:from:to:cc:subject:date:message-id:reply-to; bh=e+iAzshejibE7cme8LHv+MrHRrK6Ekf9EJewAXFuOhY=; b=TKiHnwIAoWH//G7gKpwW3IOI42lmFJlK4j/tVeJc5KMrGaaelu3e2UwlTg7LijPE5s kKa52YNAmcuooKaVsk89VtEjHK8POFqu4EMJJ+fxy7WY9FctuUHKrcMNnc2EgygXO9T3 o6ja3TvCcE/R3UhfVdcoys9MhHbZLVDKEdZUetHELABkHrOKJtychC0+blypvAegQzUY 4c8XX/LHhy0b8WSRIKtqOvqB3BsDNIqNGaS3CVfq9JU1OmeybHX9m9poITIqcrucjAJC a1PDfEzbYyvsUxbCTGpPfS7x090CItHKoD6SYyXokHpKfUm5W49z6RQnpu1ZLymKGwSo gYRw== X-Gm-Message-State: AOJu0YzWoHysQj64/C8wTZo5WVZ+qcNLOcq98EPgIH8ejbUGfw/hdwtp n7EYlRgBTnxTQ+OqRjzoQOcphQfGpNN7n9oE3r3RK9oQ9VOFX/4O+P8ZsSpkiWroN/iXZkFsUvo LDZMPOpbdrW9jr+0dBNo87NeM1Y7Baz3Edcye7ClZ0UPCIJoinh3cDsADDfjA X-Gm-Gg: ASbGncsRCNJSYn1Ga76GkKANBY5mbAeC+R6p7HOZk2M0QWlf3APfBVxcFz3aL3TWSCe mWfYbTsYw8JT/LSGX+nf0hiRWrHAhCBhUjZkBWcvnh1dvPC7pzfUR8Bc8AOdns6YmzEZcWlyS3z ZGw6LRqJ0gTR5x6tT9iq5ESb0I13XukAYSm2gYVgLyarz4JPFRePGa0IgvrcKWNUGiyCS4G/q1V O1P5e5O9AXiN6x6k5EaW3HGFhluNv2ip3OZle5YTdDIc/wcm6IAtzuw7pclb7Qg1kFm/3QVQdEx VibTUnQNDlQsn1HDGdFU9pLaRx/VINIyIRJSZq4zSAYCLy0tSQ== X-Google-Smtp-Source: AGHT+IGZ1X5XwTr0YPxkyvjePTE1lIEVriyyGKbDogPHAFl6xliqzAHUlhDzJS/sz0noVgcIhPh20p5+1AVa X-Received: by 2002:a17:902:d4cc:b0:236:7079:fafd with SMTP id d9443c01a7336-23f981b346emr14742545ad.36.1753234231494; Tue, 22 Jul 2025 18:30:31 -0700 (PDT) Received: from postal.iol.unh.edu (postal.iol.unh.edu. [2606:4100:3880:1234::84]) by smtp-relay.gmail.com with ESMTPS id d9443c01a7336-23e3b6b6f4csm5983325ad.56.2025.07.22.18.30.31 (version=TLS1_2 cipher=ECDHE-ECDSA-AES128-GCM-SHA256 bits=128/128); Tue, 22 Jul 2025 18:30:31 -0700 (PDT) X-Relaying-Domain: iol.unh.edu Date: Tue, 22 Jul 2025 18:30:31 -0700 (PDT) Message-ID: <68803b37.170a0220.38fd4d.f167SMTPIN_ADDED_MISSING@mx.google.com> Received: from [172.21.0.4] (unknown [172.18.0.240]) by postal.iol.unh.edu (Postfix) with ESMTP id F0A0D6051830; Tue, 22 Jul 2025 21:30:30 -0400 (EDT) Subject: |SUCCESS| pw155431-155432 [PATCH] [v1,2/2] dts: add exception handli From: dpdklab@iol.unh.edu To: Test Report Cc: dpdk-test-reports@iol.unh.edu In-Reply-To: <20250722172214.202308-2-dmarx@iol.unh.edu> References: <20250722172214.202308-2-dmarx@iol.unh.edu> Content-Type: text/plain X-BeenThere: test-report@dpdk.org X-Mailman-Version: 2.1.29 Precedence: list List-Id: automatic DPDK test reports List-Unsubscribe: , List-Archive: List-Post: List-Help: List-Subscribe: , Errors-To: test-report-bounces@dpdk.org Test-Label: iol-compile-amd64-testing Test-Status: SUCCESS http://dpdk.org/patch/155432 _Testing PASS_ Submitter: Dean Marx Date: Tuesday, July 22 2025 17:22:14 DPDK git baseline: Repo:dpdk Branch: master CommitID:f8fb19d5e2fc20798ed0caa292a1538fbbd98f96 155431-155432 --> testing pass Upstream job id: Generic-DPDK-Compile-Meson#411264 Test environment and result as below: +-------------------------------+--------------------+-------------------+-------------------------+----------------------+-------------------+------------------+ | Environment | dpdk_meson_compile | dpdk_msvc_compile | dpdk_llvm_clang_compile | dpdk_mingw64_compile | dpdk_compile_spdk | dpdk_compile_ovs | +===============================+====================+===================+=========================+======================+===================+==================+ | FreeBSD 14.2 | PASS | SKIPPED | SKIPPED | SKIPPED | SKIPPED | SKIPPED | +-------------------------------+--------------------+-------------------+-------------------------+----------------------+-------------------+------------------+ | Ubuntu 20.04 | PASS | SKIPPED | SKIPPED | SKIPPED | SKIPPED | SKIPPED | +-------------------------------+--------------------+-------------------+-------------------------+----------------------+-------------------+------------------+ | CentOS Stream 9 | PASS | SKIPPED | SKIPPED | SKIPPED | PASS | SKIPPED | +-------------------------------+--------------------+-------------------+-------------------------+----------------------+-------------------+------------------+ | CentOS Stream 10 | PASS | SKIPPED | SKIPPED | SKIPPED | SKIPPED | SKIPPED | +-------------------------------+--------------------+-------------------+-------------------------+----------------------+-------------------+------------------+ | Debian GNU/Linux 12 | PASS | SKIPPED | SKIPPED | SKIPPED | PASS | SKIPPED | +-------------------------------+--------------------+-------------------+-------------------------+----------------------+-------------------+------------------+ | Fedora Linux 40 | PASS | SKIPPED | SKIPPED | SKIPPED | PASS | SKIPPED | +-------------------------------+--------------------+-------------------+-------------------------+----------------------+-------------------+------------------+ | Fedora Linux 41 | PASS | SKIPPED | SKIPPED | SKIPPED | PASS | PASS | +-------------------------------+--------------------+-------------------+-------------------------+----------------------+-------------------+------------------+ | openSUSE Leap 15.6 | PASS | SKIPPED | SKIPPED | SKIPPED | SKIPPED | SKIPPED | +-------------------------------+--------------------+-------------------+-------------------------+----------------------+-------------------+------------------+ | Red Hat Enterprise Linux 8.10 | PASS | SKIPPED | SKIPPED | SKIPPED | SKIPPED | SKIPPED | +-------------------------------+--------------------+-------------------+-------------------------+----------------------+-------------------+------------------+ | Red Hat Enterprise Linux 9.5 | PASS | SKIPPED | SKIPPED | SKIPPED | SKIPPED | SKIPPED | +-------------------------------+--------------------+-------------------+-------------------------+----------------------+-------------------+------------------+ | Ubuntu 22.04 | PASS | SKIPPED | SKIPPED | SKIPPED | PASS | SKIPPED | +-------------------------------+--------------------+-------------------+-------------------------+----------------------+-------------------+------------------+ | Ubuntu 24.04 | PASS | SKIPPED | SKIPPED | SKIPPED | PASS | PASS | +-------------------------------+--------------------+-------------------+-------------------------+----------------------+-------------------+------------------+ | Alpine Linux 3.22.0 | PASS | SKIPPED | SKIPPED | SKIPPED | SKIPPED | SKIPPED | +-------------------------------+--------------------+-------------------+-------------------------+----------------------+-------------------+------------------+ | Windows Server 2022 | SKIPPED | PASS | PASS | PASS | SKIPPED | SKIPPED | +-------------------------------+--------------------+-------------------+-------------------------+----------------------+-------------------+------------------+ FreeBSD 14.2 Kernel: 14.2-RELEASE Compiler: clang 18.1.6 Ubuntu 20.04 Kernel: 4.19 Compiler: gcc gcc (Ubuntu 9.4.0-1ubuntu1~20.04.2) 9.4.0 CentOS Stream 9 Kernel: 5.15 Compiler: gcc gcc (GCC) 11.5.0 20240719 (Red Hat 11.5.0-7) CentOS Stream 10 Kernel: 5.15 Compiler: gcc gcc (GCC) 14.2.1 20250110 (Red Hat 14.2.1-8) Debian GNU/Linux 12 Kernel: 5.15 Compiler: gcc gcc (Debian 12.2.0-14+deb12u1) 12.2.0 Fedora Linux 40 Kernel: 5.15 Compiler: clang gcc (GCC) 14.2.1 20240912 (Red Hat 14.2.1-3) Fedora Linux 41 Kernel: 5.15 Compiler: clang gcc (GCC) 14.3.1 20250523 (Red Hat 14.3.1-1) openSUSE Leap 15.6 Kernel: 5.15 Compiler: gcc gcc (SUSE Linux) 7.5.0 Red Hat Enterprise Linux 8.10 Kernel: 5.15 Compiler: gcc gcc (GCC) 8.5.0 20210514 (Red Hat 8.5.0-22) Red Hat Enterprise Linux 9.5 Kernel: 5.15 Compiler: gcc gcc (GCC) 11.5.0 20240719 (Red Hat 11.5.0-2) Ubuntu 22.04 Kernel: 5.15 Compiler: gcc gcc (Ubuntu 11.4.0-1ubuntu1~22.04) 11.4.0 Ubuntu 24.04 Kernel: 5.15 Compiler: gcc gcc (Ubuntu 13.3.0-6ubuntu2~24.04) 13.3.0 Alpine Linux 3.22.0 Kernel: 5.15 Compiler: gcc gcc (Alpine 14.2.0) 14.2.0 Windows Server 2022 Kernel: 10.0.20348.2031 Compiler: clang 15.0.7, gcc 14.1.0 (MinGW), and MSVC VS 19.39.33521 To view detailed results, visit: https://lab.dpdk.org/results/dashboard/patchsets/33729/ UNH-IOL DPDK Community Lab To manage your email subscriptions, visit: https://lab.dpdk.org/results/dashboard/preferences/subscriptions/