From mboxrd@z Thu Jan 1 00:00:00 1970 Return-Path: Received: from mails.dpdk.org (mails.dpdk.org [217.70.189.124]) by inbox.dpdk.org (Postfix) with ESMTP id E50FB46BEA for ; Wed, 23 Jul 2025 03:31:11 +0200 (CEST) Received: from mails.dpdk.org (localhost [127.0.0.1]) by mails.dpdk.org (Postfix) with ESMTP id E081540609; Wed, 23 Jul 2025 03:31:11 +0200 (CEST) Received: from mail-pl1-f225.google.com (mail-pl1-f225.google.com [209.85.214.225]) by mails.dpdk.org (Postfix) with ESMTP id 0C2AA40609 for ; Wed, 23 Jul 2025 03:31:11 +0200 (CEST) Received: by mail-pl1-f225.google.com with SMTP id d9443c01a7336-234b9dfb842so51946405ad.1 for ; Tue, 22 Jul 2025 18:31:10 -0700 (PDT) DKIM-Signature: v=1; a=rsa-sha256; c=relaxed/relaxed; d=iol.unh.edu; s=unh-iol; t=1753234270; x=1753839070; darn=dpdk.org; h=references:in-reply-to:cc:to:from:subject:message-id:date:from:to :cc:subject:date:message-id:reply-to; bh=1EZCa6eLSr3G65oM4V8/yNo3VyX3TpDfyFPsN/aJqR0=; b=LIwd2gTKEHdA39fNhnZO9ci9n+EfAs6aJbRmyEzFyrLabN89noCJWkuG1/39sPUpi5 SqbGQGaWQdTrQWvCcX76fKCKQjReVIqGVfnVXSw8d57kmR/FAa8wl6gAEA6rsz0pBOH+ s3dJI5qlsVtFaI4QVyQblhr2rri+bcCnVSGII= X-Google-DKIM-Signature: v=1; a=rsa-sha256; c=relaxed/relaxed; d=1e100.net; s=20230601; t=1753234270; x=1753839070; h=references:in-reply-to:cc:to:from:subject:message-id:date :x-gm-message-state:from:to:cc:subject:date:message-id:reply-to; bh=1EZCa6eLSr3G65oM4V8/yNo3VyX3TpDfyFPsN/aJqR0=; b=nB9qZCY3yTnUgjLlLYQm6Yno3z0smObKcOx2YXunlscSDAi1s+VXNobCxlY8s1wV3n WopP0lmwlRz8Hp4b3hq0zz0txfw7ji46CcSIjSDLjGI/AoWF+7eWSgssD9vRWAAdLsSI JHiSpu10vbkuiWkIN54BxaVLsnppdpP6r2xYrqyP7BQMvSv72U9l6kLHb9Mz2/w0fzu5 Lxp+Qk4aYxhp3rS7I+6C713FSLPjaSLuRpHgAkVODmey+gxjEMUELyFL0PvlUWmYtgX8 y4hohPMhnwX30WaxfYk4wcI+FpP6Yu9K16nUXwHcSMg8P8fVaGB9WE9zxkrn062bTbP9 Ywqw== X-Gm-Message-State: AOJu0YwvBwpRrtZnMAB4Plqo0LIc8A9BvnubcGJFhq5UiPO2NCp1mkOy c8j3Hel/srbUDiVVfpezxA0RTemGjXMj81UEXltgx9Bx5FG9Ok3WXBxr/OhqwzxFNVBnD/eBIF6 G6Y8PKO39bjHywr0OmxF3gDmeyM1hC8XfFr7qBr4d6v7IN5MlZkIX/IqetI3B X-Gm-Gg: ASbGncvn4yWCYABU6khC2rpgqk8ahCNK6QaFb2hg69ZQA5jmczhlOOx2GtlcV5/D1KR vPnuXEpSJJ4h4obt1tTYEwYW3q6o0LtENscBD1Bx6qGb1Nmo227Os6lfwHxGp3++u6+Z/zAn4Ut dyvMNVFQ9B741+7Y12DKwyMgagRrY3d/o/1qFjrS5r2z5azNt6bZfoW6vnJtomOJTa6PXOcUKLS dQKEluEXKAWRNWtXJj2sbwLTbpS7syEKlMGODbDjrKT1oiv3JqD6HePzqjBumvZcLSN9Rt/vqr4 GGHFrDIfRFU+XkePD5UGWe5oprmzvXKhW1pkiOkB3xcWhcyZCw== X-Google-Smtp-Source: AGHT+IGRAWeTMl+yNPKyr8/jV5392kNqwpUONBUaNZc7kL6PXoUdrcnLUrT4ZbYz1kEkgLAgl4TsJxcerLj/ X-Received: by 2002:a17:903:32c4:b0:235:7c6:ebdb with SMTP id d9443c01a7336-23f9814047cmr17485545ad.10.1753234270222; Tue, 22 Jul 2025 18:31:10 -0700 (PDT) Received: from postal.iol.unh.edu (postal.iol.unh.edu. [2606:4100:3880:1234::84]) by smtp-relay.gmail.com with ESMTPS id d9443c01a7336-23e3b61ff9esm6105295ad.44.2025.07.22.18.31.10 (version=TLS1_2 cipher=ECDHE-ECDSA-AES128-GCM-SHA256 bits=128/128); Tue, 22 Jul 2025 18:31:10 -0700 (PDT) X-Relaying-Domain: iol.unh.edu Date: Tue, 22 Jul 2025 18:31:10 -0700 (PDT) Message-ID: <68803b5e.170a0220.72758.e7baSMTPIN_ADDED_MISSING@mx.google.com> Received: from [172.21.0.3] (unknown [172.18.0.240]) by postal.iol.unh.edu (Postfix) with ESMTP id B126C6051830; Tue, 22 Jul 2025 21:31:09 -0400 (EDT) Subject: |SUCCESS| pw155431-155432 [PATCH] [v1,2/2] dts: add exception handli From: dpdklab@iol.unh.edu To: Test Report Cc: dpdk-test-reports@iol.unh.edu In-Reply-To: <20250722172214.202308-2-dmarx@iol.unh.edu> References: <20250722172214.202308-2-dmarx@iol.unh.edu> Content-Type: text/plain X-BeenThere: test-report@dpdk.org X-Mailman-Version: 2.1.29 Precedence: list List-Id: automatic DPDK test reports List-Unsubscribe: , List-Archive: List-Post: List-Help: List-Subscribe: , Errors-To: test-report-bounces@dpdk.org Test-Label: iol-compile-amd64-testing Test-Status: SUCCESS http://dpdk.org/patch/155432 _Testing PASS_ Submitter: Dean Marx Date: Tuesday, July 22 2025 17:22:14 DPDK git baseline: Repo:dpdk Branch: master CommitID:f8fb19d5e2fc20798ed0caa292a1538fbbd98f96 155431-155432 --> testing pass Upstream job id: Generic-DPDK-Compile-Meson#411227 Test environment and result as below: +-------------------------------+--------------------+-------------------+-------------------------+----------------------+-------------------+------------------+ | Environment | dpdk_meson_compile | dpdk_msvc_compile | dpdk_llvm_clang_compile | dpdk_mingw64_compile | dpdk_compile_spdk | dpdk_compile_ovs | +===============================+====================+===================+=========================+======================+===================+==================+ | Ubuntu 20.04 | PASS | SKIPPED | SKIPPED | SKIPPED | SKIPPED | SKIPPED | +-------------------------------+--------------------+-------------------+-------------------------+----------------------+-------------------+------------------+ | FreeBSD 14.2 | PASS | SKIPPED | SKIPPED | SKIPPED | SKIPPED | SKIPPED | +-------------------------------+--------------------+-------------------+-------------------------+----------------------+-------------------+------------------+ | CentOS Stream 9 | PASS | SKIPPED | SKIPPED | SKIPPED | PASS | SKIPPED | +-------------------------------+--------------------+-------------------+-------------------------+----------------------+-------------------+------------------+ | CentOS Stream 10 | PASS | SKIPPED | SKIPPED | SKIPPED | SKIPPED | SKIPPED | +-------------------------------+--------------------+-------------------+-------------------------+----------------------+-------------------+------------------+ | Debian GNU/Linux 12 | PASS | SKIPPED | SKIPPED | SKIPPED | PASS | SKIPPED | +-------------------------------+--------------------+-------------------+-------------------------+----------------------+-------------------+------------------+ | Fedora Linux 40 | PASS | SKIPPED | SKIPPED | SKIPPED | PASS | SKIPPED | +-------------------------------+--------------------+-------------------+-------------------------+----------------------+-------------------+------------------+ | Fedora Linux 41 | PASS | SKIPPED | SKIPPED | SKIPPED | PASS | PASS | +-------------------------------+--------------------+-------------------+-------------------------+----------------------+-------------------+------------------+ | openSUSE Leap 15.6 | PASS | SKIPPED | SKIPPED | SKIPPED | SKIPPED | SKIPPED | +-------------------------------+--------------------+-------------------+-------------------------+----------------------+-------------------+------------------+ | Red Hat Enterprise Linux 8.10 | PASS | SKIPPED | SKIPPED | SKIPPED | SKIPPED | SKIPPED | +-------------------------------+--------------------+-------------------+-------------------------+----------------------+-------------------+------------------+ | Red Hat Enterprise Linux 9.5 | PASS | SKIPPED | SKIPPED | SKIPPED | SKIPPED | SKIPPED | +-------------------------------+--------------------+-------------------+-------------------------+----------------------+-------------------+------------------+ | Ubuntu 22.04 | PASS | SKIPPED | SKIPPED | SKIPPED | PASS | SKIPPED | +-------------------------------+--------------------+-------------------+-------------------------+----------------------+-------------------+------------------+ | Ubuntu 24.04 | PASS | SKIPPED | SKIPPED | SKIPPED | PASS | PASS | +-------------------------------+--------------------+-------------------+-------------------------+----------------------+-------------------+------------------+ | Alpine Linux 3.22.0 | PASS | SKIPPED | SKIPPED | SKIPPED | SKIPPED | SKIPPED | +-------------------------------+--------------------+-------------------+-------------------------+----------------------+-------------------+------------------+ | Windows Server 2022 | SKIPPED | PASS | PASS | PASS | SKIPPED | SKIPPED | +-------------------------------+--------------------+-------------------+-------------------------+----------------------+-------------------+------------------+ Ubuntu 20.04 Kernel: 4.19 Compiler: gcc gcc (Ubuntu 9.4.0-1ubuntu1~20.04.2) 9.4.0 FreeBSD 14.2 Kernel: 14.2-RELEASE Compiler: clang 18.1.6 CentOS Stream 9 Kernel: 5.15 Compiler: gcc gcc (GCC) 11.5.0 20240719 (Red Hat 11.5.0-7) CentOS Stream 10 Kernel: 5.15 Compiler: gcc gcc (GCC) 14.2.1 20250110 (Red Hat 14.2.1-8) Debian GNU/Linux 12 Kernel: 5.15 Compiler: gcc gcc (Debian 12.2.0-14+deb12u1) 12.2.0 Fedora Linux 40 Kernel: 5.15 Compiler: clang gcc (GCC) 14.2.1 20240912 (Red Hat 14.2.1-3) Fedora Linux 41 Kernel: 5.15 Compiler: clang gcc (GCC) 14.3.1 20250523 (Red Hat 14.3.1-1) openSUSE Leap 15.6 Kernel: 5.15 Compiler: gcc gcc (SUSE Linux) 7.5.0 Red Hat Enterprise Linux 8.10 Kernel: 5.15 Compiler: gcc gcc (GCC) 8.5.0 20210514 (Red Hat 8.5.0-22) Red Hat Enterprise Linux 9.5 Kernel: 5.15 Compiler: gcc gcc (GCC) 11.5.0 20240719 (Red Hat 11.5.0-2) Ubuntu 22.04 Kernel: 5.15 Compiler: gcc gcc (Ubuntu 11.4.0-1ubuntu1~22.04) 11.4.0 Ubuntu 24.04 Kernel: 5.15 Compiler: gcc gcc (Ubuntu 13.3.0-6ubuntu2~24.04) 13.3.0 Alpine Linux 3.22.0 Kernel: 5.15 Compiler: gcc gcc (Alpine 14.2.0) 14.2.0 Windows Server 2022 Kernel: 10.0.20348.2031 Compiler: clang 15.0.7, gcc 14.1.0 (MinGW), and MSVC VS 19.39.33521 To view detailed results, visit: https://lab.dpdk.org/results/dashboard/patchsets/33729/ UNH-IOL DPDK Community Lab To manage your email subscriptions, visit: https://lab.dpdk.org/results/dashboard/preferences/subscriptions/