From mboxrd@z Thu Jan 1 00:00:00 1970 Return-Path: Received: from mails.dpdk.org (mails.dpdk.org [217.70.189.124]) by inbox.dpdk.org (Postfix) with ESMTP id 1F46346BEA for ; Wed, 23 Jul 2025 03:31:26 +0200 (CEST) Received: from mails.dpdk.org (localhost [127.0.0.1]) by mails.dpdk.org (Postfix) with ESMTP id 19C7F40609; Wed, 23 Jul 2025 03:31:26 +0200 (CEST) Received: from mail-oa1-f99.google.com (mail-oa1-f99.google.com [209.85.160.99]) by mails.dpdk.org (Postfix) with ESMTP id 0F27B402E9 for ; Wed, 23 Jul 2025 03:31:25 +0200 (CEST) Received: by mail-oa1-f99.google.com with SMTP id 586e51a60fabf-2ffa8e58654so3895006fac.3 for ; Tue, 22 Jul 2025 18:31:25 -0700 (PDT) DKIM-Signature: v=1; a=rsa-sha256; c=relaxed/relaxed; d=iol.unh.edu; s=unh-iol; t=1753234284; x=1753839084; darn=dpdk.org; h=references:in-reply-to:cc:to:from:subject:message-id:date:from:to :cc:subject:date:message-id:reply-to; bh=5erKqf65p9Ol3HA4sq97XleltpfqKPqSOkw8fInKp5A=; b=Rc0RVarVBMzPVja23UNefroGip7fv692GERdh9+TtbZxzLpZPuvq1JJCvUndzonQ6a dC6/LluGx/a9C5OIkq4RIRpH1UL+c2c8+90kq27jNMNjdh7krwFldoIWI6EQm+nLEeKo FP3Yt5afLC1VFL45I+EcVTIpB0U+jwTkzO2Lk= X-Google-DKIM-Signature: v=1; a=rsa-sha256; c=relaxed/relaxed; d=1e100.net; s=20230601; t=1753234284; x=1753839084; h=references:in-reply-to:cc:to:from:subject:message-id:date :x-gm-message-state:from:to:cc:subject:date:message-id:reply-to; bh=5erKqf65p9Ol3HA4sq97XleltpfqKPqSOkw8fInKp5A=; b=SoDiJ46A6Fp8FcuMKZ9iq4Pjbykjpek6oatIsIB68t/1XCZHmFbGxHfhe5dWr2wtZR JySgTtn10Hxvt2taWEc7SY+BWVr8xDisX7ut3rZrUCdQKSviVJEFvHQ64BpNCDSUkCje sIkXC22pLAPiWODqIqq11PkTYGzMKet9OJ3oY5eYrv6xoaBtNQjomJlbqgL/J0bH3Rzd 5e0AUYr2S+/sm5dsQpVeLeZ78os9RCId9Wo+1kH29Rz3ns1HdbSw0WTi1VI6fn/FWdOu 4fYiF+H0pLIu7IpunClMsiMkTRE8o2lGWBQk809Xdc41MeZK28UbfwoRRlpOEdIvw7/Q +9fA== X-Gm-Message-State: AOJu0YzVSxaKsLPaNdulnO4Lji3tP9oljgUv/ISRzoP8qePEBm2uDBol eY0n7TIBZVnnsrfBot4UKh1D+iSLwnGXHFMCkdFb99tzc9A672pwu7jJsrncKZLaAVheQr1rmM9 FV3ly/o6EEMJ2XPGUrtz/ZWdX96Ew4/GJujMVdFEE0s7P X-Gm-Gg: ASbGncsr3wIQuftbsqIBJ+2E+iZUE5Tyb/xHoHbg3UulG4ykFHh3rMN8qdNG1qB1DJ+ bftjqLZzte8XfjO7PJqIJBMU+D7NeiMQgaWHZe5R+a1iNIRH50etymFCOlWEemfYpue+MzE9vlg R9xyhHOX12Jbyw/Qo05cJfr2zfPipo6auXrdglsHIqn5xlJy1YdWiQW7iptubRXArZHYq2N6xwZ nuEl6PY12V8ZzLDkohoXV3CDworyf8lyfxiZOU0/vPpcX8TrsIcgzylYl/cRt+up5fOHsY/Nr8I 6nKB0iw5+tMm8saMpbG/fTpYBEz15tMTf+v3bLvcR+ouQomKdwoqaFLJ4+fYzK5Pj84xf5uE X-Google-Smtp-Source: AGHT+IHWBTong8oT6V1KImsa0j7m/wPOPFem7dnh9a3UUV0VkozRvZi3kILXUhK3mu6ykEeBt/9+RTAGlFOr X-Received: by 2002:a05:6870:330f:b0:2d0:3078:e730 with SMTP id 586e51a60fabf-306c6f1791amr784319fac.3.1753234284319; Tue, 22 Jul 2025 18:31:24 -0700 (PDT) Received: from postal.iol.unh.edu (postal.iol.unh.edu. [132.177.123.84]) by smtp-relay.gmail.com with ESMTPS id 586e51a60fabf-3010456dc68sm896810fac.1.2025.07.22.18.31.24 (version=TLS1_2 cipher=ECDHE-ECDSA-AES128-GCM-SHA256 bits=128/128); Tue, 22 Jul 2025 18:31:24 -0700 (PDT) X-Relaying-Domain: iol.unh.edu Date: Tue, 22 Jul 2025 18:31:24 -0700 (PDT) Message-ID: <68803b6c.050a0220.cf93f.da0aSMTPIN_ADDED_MISSING@mx.google.com> Received: from [172.21.0.7] (unknown [172.18.0.240]) by postal.iol.unh.edu (Postfix) with ESMTP id D23586051835; Tue, 22 Jul 2025 21:31:23 -0400 (EDT) Subject: |SUCCESS| pw155431-155432 [PATCH] [v1,2/2] dts: add exception handli From: dpdklab@iol.unh.edu To: Test Report Cc: dpdk-test-reports@iol.unh.edu In-Reply-To: <20250722172214.202308-2-dmarx@iol.unh.edu> References: <20250722172214.202308-2-dmarx@iol.unh.edu> Content-Type: text/plain X-BeenThere: test-report@dpdk.org X-Mailman-Version: 2.1.29 Precedence: list List-Id: automatic DPDK test reports List-Unsubscribe: , List-Archive: List-Post: List-Help: List-Subscribe: , Errors-To: test-report-bounces@dpdk.org Test-Label: iol-compile-amd64-testing Test-Status: SUCCESS http://dpdk.org/patch/155432 _Testing PASS_ Submitter: Dean Marx Date: Tuesday, July 22 2025 17:22:14 DPDK git baseline: Repo:dpdk Branch: master CommitID:f8fb19d5e2fc20798ed0caa292a1538fbbd98f96 155431-155432 --> testing pass Upstream job id: Generic-DPDK-Compile-Meson#411268 Test environment and result as below: +-------------------------------+--------------------+-------------------+-------------------------+----------------------+-------------------+------------------+ | Environment | dpdk_meson_compile | dpdk_msvc_compile | dpdk_llvm_clang_compile | dpdk_mingw64_compile | dpdk_compile_spdk | dpdk_compile_ovs | +===============================+====================+===================+=========================+======================+===================+==================+ | FreeBSD 14.2 | PASS | SKIPPED | SKIPPED | SKIPPED | SKIPPED | SKIPPED | +-------------------------------+--------------------+-------------------+-------------------------+----------------------+-------------------+------------------+ | Ubuntu 20.04 | PASS | SKIPPED | SKIPPED | SKIPPED | SKIPPED | SKIPPED | +-------------------------------+--------------------+-------------------+-------------------------+----------------------+-------------------+------------------+ | CentOS Stream 9 | PASS | SKIPPED | SKIPPED | SKIPPED | PASS | SKIPPED | +-------------------------------+--------------------+-------------------+-------------------------+----------------------+-------------------+------------------+ | CentOS Stream 10 | PASS | SKIPPED | SKIPPED | SKIPPED | SKIPPED | SKIPPED | +-------------------------------+--------------------+-------------------+-------------------------+----------------------+-------------------+------------------+ | Debian GNU/Linux 12 | PASS | SKIPPED | SKIPPED | SKIPPED | PASS | SKIPPED | +-------------------------------+--------------------+-------------------+-------------------------+----------------------+-------------------+------------------+ | Fedora Linux 40 | PASS | SKIPPED | SKIPPED | SKIPPED | PASS | SKIPPED | +-------------------------------+--------------------+-------------------+-------------------------+----------------------+-------------------+------------------+ | Fedora Linux 41 | PASS | SKIPPED | SKIPPED | SKIPPED | PASS | PASS | +-------------------------------+--------------------+-------------------+-------------------------+----------------------+-------------------+------------------+ | openSUSE Leap 15.6 | PASS | SKIPPED | SKIPPED | SKIPPED | SKIPPED | SKIPPED | +-------------------------------+--------------------+-------------------+-------------------------+----------------------+-------------------+------------------+ | Red Hat Enterprise Linux 8.10 | PASS | SKIPPED | SKIPPED | SKIPPED | SKIPPED | SKIPPED | +-------------------------------+--------------------+-------------------+-------------------------+----------------------+-------------------+------------------+ | Red Hat Enterprise Linux 9.5 | PASS | SKIPPED | SKIPPED | SKIPPED | SKIPPED | SKIPPED | +-------------------------------+--------------------+-------------------+-------------------------+----------------------+-------------------+------------------+ | Ubuntu 22.04 | PASS | SKIPPED | SKIPPED | SKIPPED | PASS | SKIPPED | +-------------------------------+--------------------+-------------------+-------------------------+----------------------+-------------------+------------------+ | Ubuntu 24.04 | PASS | SKIPPED | SKIPPED | SKIPPED | PASS | PASS | +-------------------------------+--------------------+-------------------+-------------------------+----------------------+-------------------+------------------+ | Alpine Linux 3.22.0 | PASS | SKIPPED | SKIPPED | SKIPPED | SKIPPED | SKIPPED | +-------------------------------+--------------------+-------------------+-------------------------+----------------------+-------------------+------------------+ | Windows Server 2022 | SKIPPED | PASS | PASS | PASS | SKIPPED | SKIPPED | +-------------------------------+--------------------+-------------------+-------------------------+----------------------+-------------------+------------------+ FreeBSD 14.2 Kernel: 14.2-RELEASE Compiler: clang 18.1.6 Ubuntu 20.04 Kernel: 4.19 Compiler: gcc gcc (Ubuntu 9.4.0-1ubuntu1~20.04.2) 9.4.0 CentOS Stream 9 Kernel: 5.15 Compiler: gcc gcc (GCC) 11.5.0 20240719 (Red Hat 11.5.0-7) CentOS Stream 10 Kernel: 5.15 Compiler: gcc gcc (GCC) 14.2.1 20250110 (Red Hat 14.2.1-8) Debian GNU/Linux 12 Kernel: 5.15 Compiler: gcc gcc (Debian 12.2.0-14+deb12u1) 12.2.0 Fedora Linux 40 Kernel: 5.15 Compiler: clang gcc (GCC) 14.2.1 20240912 (Red Hat 14.2.1-3) Fedora Linux 41 Kernel: 5.15 Compiler: clang gcc (GCC) 14.3.1 20250523 (Red Hat 14.3.1-1) openSUSE Leap 15.6 Kernel: 5.15 Compiler: gcc gcc (SUSE Linux) 7.5.0 Red Hat Enterprise Linux 8.10 Kernel: 5.15 Compiler: gcc gcc (GCC) 8.5.0 20210514 (Red Hat 8.5.0-22) Red Hat Enterprise Linux 9.5 Kernel: 5.15 Compiler: gcc gcc (GCC) 11.5.0 20240719 (Red Hat 11.5.0-2) Ubuntu 22.04 Kernel: 5.15 Compiler: gcc gcc (Ubuntu 11.4.0-1ubuntu1~22.04) 11.4.0 Ubuntu 24.04 Kernel: 5.15 Compiler: gcc gcc (Ubuntu 13.3.0-6ubuntu2~24.04) 13.3.0 Alpine Linux 3.22.0 Kernel: 5.15 Compiler: gcc gcc (Alpine 14.2.0) 14.2.0 Windows Server 2022 Kernel: 10.0.20348.2031 Compiler: clang 15.0.7, gcc 14.1.0 (MinGW), and MSVC VS 19.39.33521 To view detailed results, visit: https://lab.dpdk.org/results/dashboard/patchsets/33729/ UNH-IOL DPDK Community Lab To manage your email subscriptions, visit: https://lab.dpdk.org/results/dashboard/preferences/subscriptions/