From mboxrd@z Thu Jan 1 00:00:00 1970 Return-Path: Received: from mails.dpdk.org (mails.dpdk.org [217.70.189.124]) by inbox.dpdk.org (Postfix) with ESMTP id 6495A46BEA for ; Wed, 23 Jul 2025 03:33:02 +0200 (CEST) Received: from mails.dpdk.org (localhost [127.0.0.1]) by mails.dpdk.org (Postfix) with ESMTP id 601D64026D; Wed, 23 Jul 2025 03:33:02 +0200 (CEST) Received: from mail-oi1-f226.google.com (mail-oi1-f226.google.com [209.85.167.226]) by mails.dpdk.org (Postfix) with ESMTP id 640BA4026D for ; Wed, 23 Jul 2025 03:33:00 +0200 (CEST) Received: by mail-oi1-f226.google.com with SMTP id 5614622812f47-4240b693522so734636b6e.2 for ; Tue, 22 Jul 2025 18:33:00 -0700 (PDT) DKIM-Signature: v=1; a=rsa-sha256; c=relaxed/relaxed; d=iol.unh.edu; s=unh-iol; t=1753234379; x=1753839179; darn=dpdk.org; h=references:in-reply-to:cc:to:from:subject:message-id:date:from:to :cc:subject:date:message-id:reply-to; bh=GOEug+TuVio/wcnVB8lWC5zWMYnN5BqUNziXxxSFmVQ=; b=ihVuSkXGzG+Pft1U5npEm46arDD8kl7ElVUGJAGsqgOSkfWDuRTGgjpsNj7thQLIRR LERO8CadSJfFxBc3u9u4EAAzUUXqiCclBEv5nA57kA8QKcFpqIDT00/8lRMt3Dt5DWme vUhlNLiJPsStG1zWuGt5L+DBVnPAM9RLDwKOc= X-Google-DKIM-Signature: v=1; a=rsa-sha256; c=relaxed/relaxed; d=1e100.net; s=20230601; t=1753234379; x=1753839179; h=references:in-reply-to:cc:to:from:subject:message-id:date :x-gm-message-state:from:to:cc:subject:date:message-id:reply-to; bh=GOEug+TuVio/wcnVB8lWC5zWMYnN5BqUNziXxxSFmVQ=; b=RSeUaomlEDqrr4INLXnQYHAiKdbmRG9kTMj8pp55KHRbbLE/YzFgBjHDaRzQmqFmHw Xzz1k2vRuE4+XrZtnxmxFu1vscMo0+gSX2B9U0kXgpC5QQyK2MGlX+mrfk3iJCC5/Q+4 qKgEcDPaUUL2OPKnLIGfS4idd0pQ3eqGZ8OZIXyO5qlVBSHqGhcZeCr0yNaTofoODYt7 GcQQfZTFC+lY7tE+sU80GN1UFJ/VSIeH3iMKu3ZmTzwYny8B15xZycx96F7U6hWLiaVA 22yA4oEM5kXGnAh3meVIp2owxq+Red86MR4p6Ci4vjRD93MuzGyJjI0rJXocU3vdySws loGQ== X-Gm-Message-State: AOJu0YwHdiSi47epr3lMMRBj9dWy9iWx5sOtZSRj8QM/aLVkQoi5epgn LC/YAweSKL7K+6knHO6KG5y29OOeQwyjrZkjOgLFFncSsPYorDy7QIqs1t4yuFUOMF+bOlyEdZy I1h7ppGQTABkvcdnpUTe7cpQiITefyMFzB8OPa23fCl13UNHclk4hYhlkV1JR X-Gm-Gg: ASbGnct63kjaDTD71cd0Kq39gU6qh2l8hz6BJtWteAXdioIqPxDVjDvfzinkkj54pkN SmkJDkS8c6wouwg1+5/E3uSmxeLne8cB1VqXhKTdoU4WWVtOGzygt+dqstIrpDL9lBQQAeJBLJ1 FbspwyxAIE3OnvpwSBDdXOVkNjThqiimCBGRpMfsH3I2KvfSGocjsOvWacaKOD5CGqq1JFIVylz rS8zl0TybwgJZOcZNjhNOPZ7/b2LZBsK98TSsxTLU/cy5ljo/T/K7pxITiIud4WwZxLlnn/Ttsi kikd0yTCFYlRdFIGEPsCaMz2CXd5GAEmD18PLNOC9O86ycJEXw== X-Google-Smtp-Source: AGHT+IGB/jQiGxm8P78A6hgE64Ity5PGwFIbfOfIIT/4sg/s5nI4DVz2Uau7rKepbT7IRY+XEqKgWxEeKjKn X-Received: by 2002:a05:6808:1887:b0:401:e95b:3b0e with SMTP id 5614622812f47-426c59716e1mr976978b6e.12.1753234379597; Tue, 22 Jul 2025 18:32:59 -0700 (PDT) Received: from postal.iol.unh.edu (postal.iol.unh.edu. [2606:4100:3880:1234::84]) by smtp-relay.gmail.com with ESMTPS id 006d021491bc7-615bcc8cbb4sm398515eaf.15.2025.07.22.18.32.59 (version=TLS1_2 cipher=ECDHE-ECDSA-AES128-GCM-SHA256 bits=128/128); Tue, 22 Jul 2025 18:32:59 -0700 (PDT) X-Relaying-Domain: iol.unh.edu Date: Tue, 22 Jul 2025 18:32:59 -0700 (PDT) Message-ID: <68803bcb.4a0a0220.2b73a.4562SMTPIN_ADDED_MISSING@mx.google.com> Received: from [172.21.0.3] (unknown [172.18.0.240]) by postal.iol.unh.edu (Postfix) with ESMTP id A3ECA6051830; Tue, 22 Jul 2025 21:32:58 -0400 (EDT) Subject: |SUCCESS| pw155431-155432 [PATCH] [v1,2/2] dts: add exception handli From: dpdklab@iol.unh.edu To: Test Report Cc: dpdk-test-reports@iol.unh.edu In-Reply-To: <20250722172214.202308-2-dmarx@iol.unh.edu> References: <20250722172214.202308-2-dmarx@iol.unh.edu> Content-Type: text/plain X-BeenThere: test-report@dpdk.org X-Mailman-Version: 2.1.29 Precedence: list List-Id: automatic DPDK test reports List-Unsubscribe: , List-Archive: List-Post: List-Help: List-Subscribe: , Errors-To: test-report-bounces@dpdk.org Test-Label: iol-compile-amd64-testing Test-Status: SUCCESS http://dpdk.org/patch/155432 _Testing PASS_ Submitter: Dean Marx Date: Tuesday, July 22 2025 17:22:14 DPDK git baseline: Repo:dpdk Branch: master CommitID:f8fb19d5e2fc20798ed0caa292a1538fbbd98f96 155431-155432 --> testing pass Upstream job id: Generic-DPDK-Compile-Meson#411229 Test environment and result as below: +-------------------------------+--------------------+-------------------+-------------------------+----------------------+-------------------+------------------+ | Environment | dpdk_meson_compile | dpdk_msvc_compile | dpdk_llvm_clang_compile | dpdk_mingw64_compile | dpdk_compile_spdk | dpdk_compile_ovs | +===============================+====================+===================+=========================+======================+===================+==================+ | Ubuntu 20.04 | PASS | SKIPPED | SKIPPED | SKIPPED | SKIPPED | SKIPPED | +-------------------------------+--------------------+-------------------+-------------------------+----------------------+-------------------+------------------+ | FreeBSD 14.2 | PASS | SKIPPED | SKIPPED | SKIPPED | SKIPPED | SKIPPED | +-------------------------------+--------------------+-------------------+-------------------------+----------------------+-------------------+------------------+ | CentOS Stream 9 | PASS | SKIPPED | SKIPPED | SKIPPED | PASS | SKIPPED | +-------------------------------+--------------------+-------------------+-------------------------+----------------------+-------------------+------------------+ | CentOS Stream 10 | PASS | SKIPPED | SKIPPED | SKIPPED | SKIPPED | SKIPPED | +-------------------------------+--------------------+-------------------+-------------------------+----------------------+-------------------+------------------+ | Debian GNU/Linux 12 | PASS | SKIPPED | SKIPPED | SKIPPED | PASS | SKIPPED | +-------------------------------+--------------------+-------------------+-------------------------+----------------------+-------------------+------------------+ | Fedora Linux 40 | PASS | SKIPPED | SKIPPED | SKIPPED | PASS | SKIPPED | +-------------------------------+--------------------+-------------------+-------------------------+----------------------+-------------------+------------------+ | Fedora Linux 41 | PASS | SKIPPED | SKIPPED | SKIPPED | PASS | PASS | +-------------------------------+--------------------+-------------------+-------------------------+----------------------+-------------------+------------------+ | openSUSE Leap 15.6 | PASS | SKIPPED | SKIPPED | SKIPPED | SKIPPED | SKIPPED | +-------------------------------+--------------------+-------------------+-------------------------+----------------------+-------------------+------------------+ | Red Hat Enterprise Linux 8.10 | PASS | SKIPPED | SKIPPED | SKIPPED | SKIPPED | SKIPPED | +-------------------------------+--------------------+-------------------+-------------------------+----------------------+-------------------+------------------+ | Red Hat Enterprise Linux 9.5 | PASS | SKIPPED | SKIPPED | SKIPPED | SKIPPED | SKIPPED | +-------------------------------+--------------------+-------------------+-------------------------+----------------------+-------------------+------------------+ | Ubuntu 22.04 | PASS | SKIPPED | SKIPPED | SKIPPED | PASS | SKIPPED | +-------------------------------+--------------------+-------------------+-------------------------+----------------------+-------------------+------------------+ | Ubuntu 24.04 | PASS | SKIPPED | SKIPPED | SKIPPED | PASS | PASS | +-------------------------------+--------------------+-------------------+-------------------------+----------------------+-------------------+------------------+ | Alpine Linux 3.22.0 | PASS | SKIPPED | SKIPPED | SKIPPED | SKIPPED | SKIPPED | +-------------------------------+--------------------+-------------------+-------------------------+----------------------+-------------------+------------------+ | Windows Server 2022 | SKIPPED | PASS | PASS | PASS | SKIPPED | SKIPPED | +-------------------------------+--------------------+-------------------+-------------------------+----------------------+-------------------+------------------+ Ubuntu 20.04 Kernel: 4.19 Compiler: gcc gcc (Ubuntu 9.4.0-1ubuntu1~20.04.2) 9.4.0 FreeBSD 14.2 Kernel: 14.2-RELEASE Compiler: clang 18.1.6 CentOS Stream 9 Kernel: 5.15 Compiler: gcc gcc (GCC) 11.5.0 20240719 (Red Hat 11.5.0-7) CentOS Stream 10 Kernel: 5.15 Compiler: gcc gcc (GCC) 14.2.1 20250110 (Red Hat 14.2.1-8) Debian GNU/Linux 12 Kernel: 5.15 Compiler: gcc gcc (Debian 12.2.0-14+deb12u1) 12.2.0 Fedora Linux 40 Kernel: 5.15 Compiler: clang gcc (GCC) 14.2.1 20240912 (Red Hat 14.2.1-3) Fedora Linux 41 Kernel: 5.15 Compiler: clang gcc (GCC) 14.3.1 20250523 (Red Hat 14.3.1-1) openSUSE Leap 15.6 Kernel: 5.15 Compiler: gcc gcc (SUSE Linux) 7.5.0 Red Hat Enterprise Linux 8.10 Kernel: 5.15 Compiler: gcc gcc (GCC) 8.5.0 20210514 (Red Hat 8.5.0-22) Red Hat Enterprise Linux 9.5 Kernel: 5.15 Compiler: gcc gcc (GCC) 11.5.0 20240719 (Red Hat 11.5.0-2) Ubuntu 22.04 Kernel: 5.15 Compiler: gcc gcc (Ubuntu 11.4.0-1ubuntu1~22.04) 11.4.0 Ubuntu 24.04 Kernel: 5.15 Compiler: gcc gcc (Ubuntu 13.3.0-6ubuntu2~24.04) 13.3.0 Alpine Linux 3.22.0 Kernel: 5.15 Compiler: gcc gcc (Alpine 14.2.0) 14.2.0 Windows Server 2022 Kernel: 10.0.20348.2031 Compiler: clang 15.0.7, gcc 14.1.0 (MinGW), and MSVC VS 19.39.33521 To view detailed results, visit: https://lab.dpdk.org/results/dashboard/patchsets/33729/ UNH-IOL DPDK Community Lab To manage your email subscriptions, visit: https://lab.dpdk.org/results/dashboard/preferences/subscriptions/