From mboxrd@z Thu Jan 1 00:00:00 1970 Return-Path: Received: from mails.dpdk.org (mails.dpdk.org [217.70.189.124]) by inbox.dpdk.org (Postfix) with ESMTP id 72F4646BEA for ; Wed, 23 Jul 2025 03:33:07 +0200 (CEST) Received: from mails.dpdk.org (localhost [127.0.0.1]) by mails.dpdk.org (Postfix) with ESMTP id 6CCD64026D; Wed, 23 Jul 2025 03:33:07 +0200 (CEST) Received: from mail-pl1-f227.google.com (mail-pl1-f227.google.com [209.85.214.227]) by mails.dpdk.org (Postfix) with ESMTP id 8B4864026D for ; Wed, 23 Jul 2025 03:33:01 +0200 (CEST) Received: by mail-pl1-f227.google.com with SMTP id d9443c01a7336-23602481460so59670285ad.0 for ; Tue, 22 Jul 2025 18:33:01 -0700 (PDT) DKIM-Signature: v=1; a=rsa-sha256; c=relaxed/relaxed; d=iol.unh.edu; s=unh-iol; t=1753234381; x=1753839181; darn=dpdk.org; h=references:in-reply-to:cc:to:from:subject:message-id:date:from:to :cc:subject:date:message-id:reply-to; bh=i+tf4uPbsH3yU5cmDzQ+NwQamc0+H76RPxrTV229Owg=; b=JgvWVOWeApWLBziYPTsQs8d6ykOUqFZan0uz5yOTGwh9xQ/WMZAeUW3xcoNQ0Np/0q ShLvl2YJmyB1a/OJskDxmyn3+bBYtkz7c94PNJ2FM+bSmszUL09XpwHG9z99t1HOnXMb DgtvmaGghX/POMfxhNfQw1mOvBfFaqjtw6GCQ= X-Google-DKIM-Signature: v=1; a=rsa-sha256; c=relaxed/relaxed; d=1e100.net; s=20230601; t=1753234381; x=1753839181; h=references:in-reply-to:cc:to:from:subject:message-id:date :x-gm-message-state:from:to:cc:subject:date:message-id:reply-to; bh=i+tf4uPbsH3yU5cmDzQ+NwQamc0+H76RPxrTV229Owg=; b=n0m7/0bp4SL7PBDJ4Aha8cH8dI4FR8a75Rx7x820n+F8AF8nGwungus4UFgJ9XHuK1 3tbLJQZH2T8npBJZurvDFI+1zsoLRrHSgs+tZ2bmow5iZze3lTxIfWqiNv3KAB9MNuxY PjInIf43MZr3IhE5Eamd7lhrpjV7AmUtC0XmfXSsJFTUru/Y0dmBxmE+8eEzSX9h0qtT vtqqv9ltR8201OpCQL6ea+NZxwv3XXlkwgp2ZmpwgB/aN83xG7k2KivRugRhhFy34zpW 8txsGkC/NVcLG4ttXPiz+jTc4Ik1Yw11w6mOJBg4Rw7JhLCwcF4sOoBnMHOikJc5oGWT vbcw== X-Gm-Message-State: AOJu0YxSQqf866k0CTRRnj3GSF1xBA0/Xe4u5VLBy7v62sPB6B9gQfBV /GCSkIEI4/8ZKmuATK5hJtBPCx+HcEnhKZlqRq4jjefXvtashl7/fdsp6kqHJzXwuOPpaZ+zjbS CN63URqYV8ym773RuhmX3YKkTa/4Rv/Oipt5FYVdz0Kgh X-Gm-Gg: ASbGncurM4fpzp00PzIsvWsJpJMDkPpqidjOnrb0zXG2CqXZrINF61baSLPFmWT5LQR Xas2a6zmp0s8x+l4C0nU1IeXucWLuYqJl11/zLaTETPvqsq8jddvJraTA8lspDBTvqF+rhqxt/s i/OBwfn5t4QDGxT5tyYfc4mgh4I2HG3HSR7L/kosYZSOoxUvvJ05E91xZ11HnVm32uuxd3aKHFY jLMpzF7mB/N+IYTXPGayIGRquXql80R5OyOBPEitkGcEqyaM4IIx4mdRbRLpSzZ3iki5qstxoZS T2bUl4wRu2JqdpfKUAoZJdRWQ9CoRCAENtbSMBIHLn1Lrq+m+QFNfFHH1bfiBEAs8Z3BjJ3N X-Google-Smtp-Source: AGHT+IHmzmJkBMxGcNtk5psH6ko8qQXhfqsdaiTsSjFj9BfX28iBK6UAvXRWwh/b38th7vaGvYpSTv1qAQST X-Received: by 2002:a17:902:db06:b0:231:e331:b7df with SMTP id d9443c01a7336-23f98204677mr19267675ad.29.1753234380736; Tue, 22 Jul 2025 18:33:00 -0700 (PDT) Received: from postal.iol.unh.edu (postal.iol.unh.edu. [132.177.123.84]) by smtp-relay.gmail.com with ESMTPS id d9443c01a7336-23e3b6b7516sm6236055ad.63.2025.07.22.18.33.00 (version=TLS1_2 cipher=ECDHE-ECDSA-AES128-GCM-SHA256 bits=128/128); Tue, 22 Jul 2025 18:33:00 -0700 (PDT) X-Relaying-Domain: iol.unh.edu Date: Tue, 22 Jul 2025 18:33:00 -0700 (PDT) Message-ID: <68803bcc.170a0220.386439.00f9SMTPIN_ADDED_MISSING@mx.google.com> Received: from [172.21.0.4] (unknown [172.18.0.240]) by postal.iol.unh.edu (Postfix) with ESMTP id 3C4CC6051830; Tue, 22 Jul 2025 21:33:00 -0400 (EDT) Subject: |SUCCESS| pw155431-155432 [PATCH] [v1,2/2] dts: add exception handli From: dpdklab@iol.unh.edu To: Test Report Cc: dpdk-test-reports@iol.unh.edu In-Reply-To: <20250722172214.202308-2-dmarx@iol.unh.edu> References: <20250722172214.202308-2-dmarx@iol.unh.edu> Content-Type: text/plain X-BeenThere: test-report@dpdk.org X-Mailman-Version: 2.1.29 Precedence: list List-Id: automatic DPDK test reports List-Unsubscribe: , List-Archive: List-Post: List-Help: List-Subscribe: , Errors-To: test-report-bounces@dpdk.org Test-Label: iol-compile-amd64-testing Test-Status: SUCCESS http://dpdk.org/patch/155432 _Testing PASS_ Submitter: Dean Marx Date: Tuesday, July 22 2025 17:22:14 DPDK git baseline: Repo:dpdk Branch: master CommitID:f8fb19d5e2fc20798ed0caa292a1538fbbd98f96 155431-155432 --> testing pass Upstream job id: Generic-DPDK-Compile-Meson#411265 Test environment and result as below: +-------------------------------+--------------------+-------------------+-------------------------+----------------------+-------------------+------------------+ | Environment | dpdk_meson_compile | dpdk_msvc_compile | dpdk_llvm_clang_compile | dpdk_mingw64_compile | dpdk_compile_spdk | dpdk_compile_ovs | +===============================+====================+===================+=========================+======================+===================+==================+ | FreeBSD 14.2 | PASS | SKIPPED | SKIPPED | SKIPPED | SKIPPED | SKIPPED | +-------------------------------+--------------------+-------------------+-------------------------+----------------------+-------------------+------------------+ | Ubuntu 20.04 | PASS | SKIPPED | SKIPPED | SKIPPED | SKIPPED | SKIPPED | +-------------------------------+--------------------+-------------------+-------------------------+----------------------+-------------------+------------------+ | CentOS Stream 9 | PASS | SKIPPED | SKIPPED | SKIPPED | PASS | SKIPPED | +-------------------------------+--------------------+-------------------+-------------------------+----------------------+-------------------+------------------+ | CentOS Stream 10 | PASS | SKIPPED | SKIPPED | SKIPPED | SKIPPED | SKIPPED | +-------------------------------+--------------------+-------------------+-------------------------+----------------------+-------------------+------------------+ | Debian GNU/Linux 12 | PASS | SKIPPED | SKIPPED | SKIPPED | PASS | SKIPPED | +-------------------------------+--------------------+-------------------+-------------------------+----------------------+-------------------+------------------+ | Fedora Linux 40 | PASS | SKIPPED | SKIPPED | SKIPPED | PASS | SKIPPED | +-------------------------------+--------------------+-------------------+-------------------------+----------------------+-------------------+------------------+ | Fedora Linux 41 | PASS | SKIPPED | SKIPPED | SKIPPED | PASS | PASS | +-------------------------------+--------------------+-------------------+-------------------------+----------------------+-------------------+------------------+ | openSUSE Leap 15.6 | PASS | SKIPPED | SKIPPED | SKIPPED | SKIPPED | SKIPPED | +-------------------------------+--------------------+-------------------+-------------------------+----------------------+-------------------+------------------+ | Red Hat Enterprise Linux 8.10 | PASS | SKIPPED | SKIPPED | SKIPPED | SKIPPED | SKIPPED | +-------------------------------+--------------------+-------------------+-------------------------+----------------------+-------------------+------------------+ | Red Hat Enterprise Linux 9.5 | PASS | SKIPPED | SKIPPED | SKIPPED | SKIPPED | SKIPPED | +-------------------------------+--------------------+-------------------+-------------------------+----------------------+-------------------+------------------+ | Ubuntu 22.04 | PASS | SKIPPED | SKIPPED | SKIPPED | PASS | SKIPPED | +-------------------------------+--------------------+-------------------+-------------------------+----------------------+-------------------+------------------+ | Ubuntu 24.04 | PASS | SKIPPED | SKIPPED | SKIPPED | PASS | PASS | +-------------------------------+--------------------+-------------------+-------------------------+----------------------+-------------------+------------------+ | Alpine Linux 3.22.0 | PASS | SKIPPED | SKIPPED | SKIPPED | SKIPPED | SKIPPED | +-------------------------------+--------------------+-------------------+-------------------------+----------------------+-------------------+------------------+ | Windows Server 2022 | SKIPPED | PASS | PASS | PASS | SKIPPED | SKIPPED | +-------------------------------+--------------------+-------------------+-------------------------+----------------------+-------------------+------------------+ FreeBSD 14.2 Kernel: 14.2-RELEASE Compiler: clang 18.1.6 Ubuntu 20.04 Kernel: 4.19 Compiler: gcc gcc (Ubuntu 9.4.0-1ubuntu1~20.04.2) 9.4.0 CentOS Stream 9 Kernel: 5.15 Compiler: gcc gcc (GCC) 11.5.0 20240719 (Red Hat 11.5.0-7) CentOS Stream 10 Kernel: 5.15 Compiler: gcc gcc (GCC) 14.2.1 20250110 (Red Hat 14.2.1-8) Debian GNU/Linux 12 Kernel: 5.15 Compiler: gcc gcc (Debian 12.2.0-14+deb12u1) 12.2.0 Fedora Linux 40 Kernel: 5.15 Compiler: clang gcc (GCC) 14.2.1 20240912 (Red Hat 14.2.1-3) Fedora Linux 41 Kernel: 5.15 Compiler: clang gcc (GCC) 14.3.1 20250523 (Red Hat 14.3.1-1) openSUSE Leap 15.6 Kernel: 5.15 Compiler: gcc gcc (SUSE Linux) 7.5.0 Red Hat Enterprise Linux 8.10 Kernel: 5.15 Compiler: gcc gcc (GCC) 8.5.0 20210514 (Red Hat 8.5.0-22) Red Hat Enterprise Linux 9.5 Kernel: 5.15 Compiler: gcc gcc (GCC) 11.5.0 20240719 (Red Hat 11.5.0-2) Ubuntu 22.04 Kernel: 5.15 Compiler: gcc gcc (Ubuntu 11.4.0-1ubuntu1~22.04) 11.4.0 Ubuntu 24.04 Kernel: 5.15 Compiler: gcc gcc (Ubuntu 13.3.0-6ubuntu2~24.04) 13.3.0 Alpine Linux 3.22.0 Kernel: 5.15 Compiler: gcc gcc (Alpine 14.2.0) 14.2.0 Windows Server 2022 Kernel: 10.0.20348.2031 Compiler: clang 15.0.7, gcc 14.1.0 (MinGW), and MSVC VS 19.39.33521 To view detailed results, visit: https://lab.dpdk.org/results/dashboard/patchsets/33729/ UNH-IOL DPDK Community Lab To manage your email subscriptions, visit: https://lab.dpdk.org/results/dashboard/preferences/subscriptions/