From mboxrd@z Thu Jan 1 00:00:00 1970 Return-Path: Received: from mails.dpdk.org (mails.dpdk.org [217.70.189.124]) by inbox.dpdk.org (Postfix) with ESMTP id CA86B46BEA for ; Wed, 23 Jul 2025 03:35:00 +0200 (CEST) Received: from mails.dpdk.org (localhost [127.0.0.1]) by mails.dpdk.org (Postfix) with ESMTP id B19AC4026D; Wed, 23 Jul 2025 03:35:00 +0200 (CEST) Received: from mail-pg1-f226.google.com (mail-pg1-f226.google.com [209.85.215.226]) by mails.dpdk.org (Postfix) with ESMTP id B32AD4026D for ; Wed, 23 Jul 2025 03:34:58 +0200 (CEST) Received: by mail-pg1-f226.google.com with SMTP id 41be03b00d2f7-b3507b63c6fso6391300a12.2 for ; Tue, 22 Jul 2025 18:34:58 -0700 (PDT) DKIM-Signature: v=1; a=rsa-sha256; c=relaxed/relaxed; d=iol.unh.edu; s=unh-iol; t=1753234498; x=1753839298; darn=dpdk.org; h=references:in-reply-to:cc:to:from:subject:message-id:date:from:to :cc:subject:date:message-id:reply-to; bh=WI4Ou05mmfvE+pujDWAiluvcUTenD+IkxEU+tpX3erU=; b=Shs5uSqS8M+51UL3mNrtZc5iQ7TE4EPEuSzjokn0B9zugDg6fnf88OXhIrVT0j+s31 Fj4X23+WXbuDjwO/roMV8LxpDBJoKrVv3Cl+ZWiw8gHRvjpEFxn/dugDGG17DAIFK+gi sZtbdEE9bdIdrrnYsS2TlAHNL9rOD3QHyOPRM= X-Google-DKIM-Signature: v=1; a=rsa-sha256; c=relaxed/relaxed; d=1e100.net; s=20230601; t=1753234498; x=1753839298; h=references:in-reply-to:cc:to:from:subject:message-id:date :x-gm-message-state:from:to:cc:subject:date:message-id:reply-to; bh=WI4Ou05mmfvE+pujDWAiluvcUTenD+IkxEU+tpX3erU=; b=InqADak5NEHWHkvUnTO8Obu7VG5Q/8ddeSlxhrf1IcGdH4VKiLSN8941thjFNbkIy5 BDy/ywVNhsg4QlLA8GYuPo1Gifi0ItgtgqWeZYWlUp4vWEujnyfSwx1qnja32DcJqoXl Qf7hqhoOONZBVJinDeN0sr4jFxiHXlB7wzn8pNr7STVUC5u2HDy62bYtnh/jPvL+aiQn 4WGYOPuKK8qdz6NVUCOLnC3hMBobdiQrZiI2UojyUv90Ow7iWRrfHJztuR/wR2CqFFpX FOgvw0DmyCNN/vFuuKn6cdEby8CIoGWKUasZiMACiE2COtkmC0ydE6qV1BssPliy5YJg xWAQ== X-Gm-Message-State: AOJu0YzInAqSNFPWx7jhjHQDhPUj7Jh778SAi9JVVOn6ZX+oy4aE2i+N +tCk4XikhHSeIC3z688ZuS9rWAEK8F349sqzZsYZGbX7I1AjjETHXjnWWsquYnrdeICrwSCP2aE PGICvrDSG2FfmLVG8EEOicV/y5gk1gUHQb90ysYrRGuFMGghDPlW/xPhGWnup X-Gm-Gg: ASbGncvku97A+0fhJj99Gvz37HCkR0rpERprQ5da0Zwq6a5ZvRimpLMYcckbXLtKoSZ 9qjcKj7Vq7M9cxqJsKW7shhYlDpGNRbLLG0HHSpiIYqUxwORpi0pr76vgleWNQGUkCs77uM20ST 4QFPuEWzzxo4pRgpvjy9CJwRHzkl+Aoc5fHo9nepAyggrnq0XfJKkLxZWfAwsPaZLkuD6KEw7tm k7eqLvqaAfn27FeEt05seKRICzALZxN1WmIOZ93t/7IxfCqgPyZ/hlazwVTtoME3GfZE4LG1uTZ EC72dEj2Vfdj3zo5B4H3VlpZJJzE+y+EralX2+7fYQ2+6pePdw== X-Google-Smtp-Source: AGHT+IGX/d0zAQ0q3dGOpHDVRj98Vasy1eHQD/FKrQ6/OK8qi8KeKxUcJNBJHrzR932clNe0Eeob/TZvdR7a X-Received: by 2002:a17:90b:6cd:b0:311:c1ec:7d12 with SMTP id 98e67ed59e1d1-31e507daafemr1932553a91.23.1753234497851; Tue, 22 Jul 2025 18:34:57 -0700 (PDT) Received: from postal.iol.unh.edu (postal.iol.unh.edu. [2606:4100:3880:1234::84]) by smtp-relay.gmail.com with ESMTPS id 98e67ed59e1d1-31e519b1621sm30831a91.2.2025.07.22.18.34.57 (version=TLS1_2 cipher=ECDHE-ECDSA-AES128-GCM-SHA256 bits=128/128); Tue, 22 Jul 2025 18:34:57 -0700 (PDT) X-Relaying-Domain: iol.unh.edu Date: Tue, 22 Jul 2025 18:34:57 -0700 (PDT) Message-ID: <68803c41.170a0220.72709.1adfSMTPIN_ADDED_MISSING@mx.google.com> Received: from [172.21.0.2] (unknown [172.18.0.240]) by postal.iol.unh.edu (Postfix) with ESMTP id 1CC286051830; Tue, 22 Jul 2025 21:34:57 -0400 (EDT) Subject: |SUCCESS| pw155431-155432 [PATCH] [v1,2/2] dts: add exception handli From: dpdklab@iol.unh.edu To: Test Report Cc: dpdk-test-reports@iol.unh.edu In-Reply-To: <20250722172214.202308-2-dmarx@iol.unh.edu> References: <20250722172214.202308-2-dmarx@iol.unh.edu> Content-Type: text/plain X-BeenThere: test-report@dpdk.org X-Mailman-Version: 2.1.29 Precedence: list List-Id: automatic DPDK test reports List-Unsubscribe: , List-Archive: List-Post: List-Help: List-Subscribe: , Errors-To: test-report-bounces@dpdk.org Test-Label: iol-compile-amd64-testing Test-Status: SUCCESS http://dpdk.org/patch/155432 _Testing PASS_ Submitter: Dean Marx Date: Tuesday, July 22 2025 17:22:14 DPDK git baseline: Repo:dpdk Branch: master CommitID:f8fb19d5e2fc20798ed0caa292a1538fbbd98f96 155431-155432 --> testing pass Upstream job id: Generic-DPDK-Compile-Meson#411258 Test environment and result as below: +-------------------------------+--------------------+-------------------+-------------------------+----------------------+-------------------+------------------+ | Environment | dpdk_meson_compile | dpdk_msvc_compile | dpdk_llvm_clang_compile | dpdk_mingw64_compile | dpdk_compile_spdk | dpdk_compile_ovs | +===============================+====================+===================+=========================+======================+===================+==================+ | FreeBSD 14.2 | PASS | SKIPPED | SKIPPED | SKIPPED | SKIPPED | SKIPPED | +-------------------------------+--------------------+-------------------+-------------------------+----------------------+-------------------+------------------+ | Ubuntu 20.04 | PASS | SKIPPED | SKIPPED | SKIPPED | SKIPPED | SKIPPED | +-------------------------------+--------------------+-------------------+-------------------------+----------------------+-------------------+------------------+ | CentOS Stream 9 | PASS | SKIPPED | SKIPPED | SKIPPED | PASS | SKIPPED | +-------------------------------+--------------------+-------------------+-------------------------+----------------------+-------------------+------------------+ | CentOS Stream 10 | PASS | SKIPPED | SKIPPED | SKIPPED | SKIPPED | SKIPPED | +-------------------------------+--------------------+-------------------+-------------------------+----------------------+-------------------+------------------+ | Debian GNU/Linux 12 | PASS | SKIPPED | SKIPPED | SKIPPED | PASS | SKIPPED | +-------------------------------+--------------------+-------------------+-------------------------+----------------------+-------------------+------------------+ | Fedora Linux 40 | PASS | SKIPPED | SKIPPED | SKIPPED | PASS | SKIPPED | +-------------------------------+--------------------+-------------------+-------------------------+----------------------+-------------------+------------------+ | Fedora Linux 41 | PASS | SKIPPED | SKIPPED | SKIPPED | PASS | PASS | +-------------------------------+--------------------+-------------------+-------------------------+----------------------+-------------------+------------------+ | openSUSE Leap 15.6 | PASS | SKIPPED | SKIPPED | SKIPPED | SKIPPED | SKIPPED | +-------------------------------+--------------------+-------------------+-------------------------+----------------------+-------------------+------------------+ | Red Hat Enterprise Linux 8.10 | PASS | SKIPPED | SKIPPED | SKIPPED | SKIPPED | SKIPPED | +-------------------------------+--------------------+-------------------+-------------------------+----------------------+-------------------+------------------+ | Red Hat Enterprise Linux 9.5 | PASS | SKIPPED | SKIPPED | SKIPPED | SKIPPED | SKIPPED | +-------------------------------+--------------------+-------------------+-------------------------+----------------------+-------------------+------------------+ | Ubuntu 22.04 | PASS | SKIPPED | SKIPPED | SKIPPED | PASS | SKIPPED | +-------------------------------+--------------------+-------------------+-------------------------+----------------------+-------------------+------------------+ | Ubuntu 24.04 | PASS | SKIPPED | SKIPPED | SKIPPED | PASS | PASS | +-------------------------------+--------------------+-------------------+-------------------------+----------------------+-------------------+------------------+ | Alpine Linux 3.22.0 | PASS | SKIPPED | SKIPPED | SKIPPED | SKIPPED | SKIPPED | +-------------------------------+--------------------+-------------------+-------------------------+----------------------+-------------------+------------------+ | Windows Server 2022 | SKIPPED | PASS | PASS | PASS | SKIPPED | SKIPPED | +-------------------------------+--------------------+-------------------+-------------------------+----------------------+-------------------+------------------+ FreeBSD 14.2 Kernel: 14.2-RELEASE Compiler: clang 18.1.6 Ubuntu 20.04 Kernel: 4.19 Compiler: gcc gcc (Ubuntu 9.4.0-1ubuntu1~20.04.2) 9.4.0 CentOS Stream 9 Kernel: 5.15 Compiler: gcc gcc (GCC) 11.5.0 20240719 (Red Hat 11.5.0-7) CentOS Stream 10 Kernel: 5.15 Compiler: gcc gcc (GCC) 14.2.1 20250110 (Red Hat 14.2.1-8) Debian GNU/Linux 12 Kernel: 5.15 Compiler: gcc gcc (Debian 12.2.0-14+deb12u1) 12.2.0 Fedora Linux 40 Kernel: 5.15 Compiler: clang gcc (GCC) 14.2.1 20240912 (Red Hat 14.2.1-3) Fedora Linux 41 Kernel: 5.15 Compiler: clang gcc (GCC) 14.3.1 20250523 (Red Hat 14.3.1-1) openSUSE Leap 15.6 Kernel: 5.15 Compiler: gcc gcc (SUSE Linux) 7.5.0 Red Hat Enterprise Linux 8.10 Kernel: 5.15 Compiler: gcc gcc (GCC) 8.5.0 20210514 (Red Hat 8.5.0-22) Red Hat Enterprise Linux 9.5 Kernel: 5.15 Compiler: gcc gcc (GCC) 11.5.0 20240719 (Red Hat 11.5.0-2) Ubuntu 22.04 Kernel: 5.15 Compiler: gcc gcc (Ubuntu 11.4.0-1ubuntu1~22.04) 11.4.0 Ubuntu 24.04 Kernel: 5.15 Compiler: gcc gcc (Ubuntu 13.3.0-6ubuntu2~24.04) 13.3.0 Alpine Linux 3.22.0 Kernel: 5.15 Compiler: gcc gcc (Alpine 14.2.0) 14.2.0 Windows Server 2022 Kernel: 10.0.20348.2031 Compiler: clang 15.0.7, gcc 14.1.0 (MinGW), and MSVC VS 19.39.33521 To view detailed results, visit: https://lab.dpdk.org/results/dashboard/patchsets/33729/ UNH-IOL DPDK Community Lab To manage your email subscriptions, visit: https://lab.dpdk.org/results/dashboard/preferences/subscriptions/