From mboxrd@z Thu Jan 1 00:00:00 1970 Return-Path: Received: from mails.dpdk.org (mails.dpdk.org [217.70.189.124]) by inbox.dpdk.org (Postfix) with ESMTP id 5935B46BEA for ; Wed, 23 Jul 2025 03:40:04 +0200 (CEST) Received: from mails.dpdk.org (localhost [127.0.0.1]) by mails.dpdk.org (Postfix) with ESMTP id 3AC054026D; Wed, 23 Jul 2025 03:40:04 +0200 (CEST) Received: from mail-pg1-f227.google.com (mail-pg1-f227.google.com [209.85.215.227]) by mails.dpdk.org (Postfix) with ESMTP id B20954026D for ; Wed, 23 Jul 2025 03:40:02 +0200 (CEST) Received: by mail-pg1-f227.google.com with SMTP id 41be03b00d2f7-b3be5c0eb99so4637494a12.1 for ; Tue, 22 Jul 2025 18:40:02 -0700 (PDT) DKIM-Signature: v=1; a=rsa-sha256; c=relaxed/relaxed; d=iol.unh.edu; s=unh-iol; t=1753234802; x=1753839602; darn=dpdk.org; h=references:in-reply-to:cc:to:from:subject:message-id:date:from:to :cc:subject:date:message-id:reply-to; bh=drO060Peu5T0KmXh71DNyEXxLga9R95nqDWE0ewwmcs=; b=jlY+v86opTbLRcypDWcK9rGpU7OxrQBYQbNmjV65/c8j4xNzZQrnRVoY8iLPfR4Jla ppc80zJ0wX3D+TcFnzM9wEfzfJwS8B+6rR9JzRWQbSkPTK38iH6a5niKQrUf9MZVbr+p moo2XPaZpGta2JH5xLyR4M0nmq3oGZNx2Aw+M= X-Google-DKIM-Signature: v=1; a=rsa-sha256; c=relaxed/relaxed; d=1e100.net; s=20230601; t=1753234802; x=1753839602; h=references:in-reply-to:cc:to:from:subject:message-id:date :x-gm-message-state:from:to:cc:subject:date:message-id:reply-to; bh=drO060Peu5T0KmXh71DNyEXxLga9R95nqDWE0ewwmcs=; b=keQ+YFV70Ne2W3qnfM+tMk1suNJ+sTaHgWdbcflmCxa4K+3aelpTjCgoRkwQ62s791 yFgYHS+yZYjWFHm9e0ypY4U4gpC3H2MtggYNaGWLVRXWZ3jerpIjpdmVg3q1wBzyTS2K D7dzxLCkessvzO6Qsnj65SqNGOsXG8XXzXGRDD0CzWHzIYRhm4Z8fikHrQdL58Jfobkx QWBDdcn7CPXS7sWwaes6jIpHmrKaFnFqiRlDLv0JJofqCXFXxYPoMA644QxS5fCPC0OF 8km00hy5SW0n/ktKPf9zeXmQspU/up6YQS+z/WtkkcuMEsFFamJReHbbwDo4gNbhOUog Gwgg== X-Gm-Message-State: AOJu0YzupE2GY7CPFmuoYKe+J8poCagfYeA5gc8c78NntnQjUd1OdpWo 1wWz+Ynoj2RniDKRdaK+OSeqoFrpQY3MOspIpShaiCZHdQVJh7fzkVEZ0SIgvpNeE5uhRf4nKI7 YxOrvrnrXxAjRtPq6bbM7SBOVzpaHZHB1MtSQoCi6KN6R X-Gm-Gg: ASbGncs6887JKTsudd8t9GyW/pFR/Gu4JZ0svXugGP0i4W4dzrfb2ZvFwcHQqIqkF0K QUvLnGxO3ufe4z5PaoIXKo7TkNHB+vbEfGytxlI1DXsQTXcmO2ghMVOdbDnB/U+GR0l5vXitczL 0H0wTL2TXAV7KdlPOSygHwl/G/7XzIxpKu6G2J8T9BiFZuDLWj2wByqB1M4wO7PcVZhk040O4Yw EDmzVLMOUryypWeBlOFpOAXECuOUCeUZ7bl71RA05yNm7Xmpc8e7qOJW4R6vpWXjVYeCn4NZKIB GNIt3mRKAUHsQL5A+J0thD1zDcStKTACIIcmtGJkeJ7XZk8KiGFWudY9ZMfoaTH4T907PUH2 X-Google-Smtp-Source: AGHT+IFNziNr/QzZ/0w0NePnPgZi+7SYhHeycRmwotXZainbkKVzPTVFii/MoYUvBu1jXkFeEyg+ho2MnTUN X-Received: by 2002:a17:90b:4a0a:b0:311:c1ec:7cfd with SMTP id 98e67ed59e1d1-31e507dc6femr1794277a91.26.1753234801754; Tue, 22 Jul 2025 18:40:01 -0700 (PDT) Received: from postal.iol.unh.edu (postal.iol.unh.edu. [132.177.123.84]) by smtp-relay.gmail.com with ESMTPS id 98e67ed59e1d1-31e519acef6sm30642a91.3.2025.07.22.18.40.01 (version=TLS1_2 cipher=ECDHE-ECDSA-AES128-GCM-SHA256 bits=128/128); Tue, 22 Jul 2025 18:40:01 -0700 (PDT) X-Relaying-Domain: iol.unh.edu Date: Tue, 22 Jul 2025 18:40:01 -0700 (PDT) Message-ID: <68803d71.170a0220.147d47.19a3SMTPIN_ADDED_MISSING@mx.google.com> Received: from [172.21.0.2] (unknown [172.18.0.240]) by postal.iol.unh.edu (Postfix) with ESMTP id F40676051830; Tue, 22 Jul 2025 21:40:00 -0400 (EDT) Subject: |SUCCESS| pw155426-155427 [PATCH] [v3,2/2] test/strsep: add tests fo From: dpdklab@iol.unh.edu To: Test Report Cc: dpdk-test-reports@iol.unh.edu In-Reply-To: <1753202334-27615-2-git-send-email-andremue@linux.microsoft.com> References: <1753202334-27615-2-git-send-email-andremue@linux.microsoft.com> Content-Type: text/plain X-BeenThere: test-report@dpdk.org X-Mailman-Version: 2.1.29 Precedence: list List-Id: automatic DPDK test reports List-Unsubscribe: , List-Archive: List-Post: List-Help: List-Subscribe: , Errors-To: test-report-bounces@dpdk.org Test-Label: iol-unit-arm64-testing Test-Status: SUCCESS http://dpdk.org/patch/155427 _Testing PASS_ Submitter: Andre Muezerie Date: Tuesday, July 22 2025 16:38:54 DPDK git baseline: Repo:dpdk Branch: master CommitID:b222395561638f89562e4ef42e1eabf2d6db43dd 155426-155427 --> testing pass Upstream job id: Generic-Unit-Test-DPDK#357402 Test environment and result as below: +------------------------------+---------------------------+------------------------------+--------------+----------------+ | Environment | cryptodev_sw_zuc_autotest | cryptodev_sw_snow3g_autotest | lpm_autotest | dpdk_unit_test | +==============================+===========================+==============================+==============+================+ | Debian 12 (arm) | PASS | PASS | SKIPPED | SKIPPED | +------------------------------+---------------------------+------------------------------+--------------+----------------+ | Ubuntu 20.04 | SKIPPED | SKIPPED | PASS | PASS | +------------------------------+---------------------------+------------------------------+--------------+----------------+ | Ubuntu 22.04 | SKIPPED | SKIPPED | SKIPPED | PASS | +------------------------------+---------------------------+------------------------------+--------------+----------------+ | CentOS Stream 9 | SKIPPED | SKIPPED | SKIPPED | PASS | +------------------------------+---------------------------+------------------------------+--------------+----------------+ | Red Hat Enterprise Linux 9.5 | SKIPPED | SKIPPED | SKIPPED | PASS | +------------------------------+---------------------------+------------------------------+--------------+----------------+ | Debian GNU/Linux 12 | SKIPPED | SKIPPED | SKIPPED | PASS | +------------------------------+---------------------------+------------------------------+--------------+----------------+ | Fedora Linux 40 | SKIPPED | SKIPPED | SKIPPED | PASS | +------------------------------+---------------------------+------------------------------+--------------+----------------+ | CentOS Stream 10 | SKIPPED | SKIPPED | SKIPPED | PASS | +------------------------------+---------------------------+------------------------------+--------------+----------------+ | Fedora Linux 41 | SKIPPED | SKIPPED | SKIPPED | PASS | +------------------------------+---------------------------+------------------------------+--------------+----------------+ | Ubuntu 24.04 | SKIPPED | SKIPPED | SKIPPED | PASS | +------------------------------+---------------------------+------------------------------+--------------+----------------+ Debian 12 (arm) Kernel: Depends on container host Compiler: gcc (Debian 12.2.0-14) 12.2.0 Ubuntu 20.04 Kernel: 5.4 Compiler: gcc gcc (Ubuntu 9.4.0-1ubuntu1~20.04.2) 9.4.0 Ubuntu 22.04 Kernel: 5.15 Compiler: gcc gcc (Ubuntu 11.4.0-1ubuntu1~22.04) 11.4.0 CentOS Stream 9 Kernel: 5.4 Compiler: gcc gcc (GCC) 11.5.0 20240719 (Red Hat 11.5.0-7) Red Hat Enterprise Linux 9.5 Kernel: 5.4 Compiler: gcc gcc (GCC) 11.5.0 20240719 (Red Hat 11.5.0-2) Debian GNU/Linux 12 Kernel: 5.4 Compiler: gcc gcc (Debian 12.2.0-14+deb12u1) 12.2.0 Fedora Linux 40 Kernel: 5.4 Compiler: clang gcc (GCC) 14.2.1 20240912 (Red Hat 14.2.1-3) CentOS Stream 10 Kernel: 5.4 Compiler: gcc gcc (GCC) 14.2.1 20250110 (Red Hat 14.2.1-8) Fedora Linux 41 Kernel: 5.4 Compiler: clang gcc (GCC) 14.3.1 20250523 (Red Hat 14.3.1-1) Ubuntu 24.04 Kernel: 5.4 Compiler: gcc gcc (Ubuntu 13.3.0-6ubuntu2~24.04) 13.3.0 To view detailed results, visit: https://lab.dpdk.org/results/dashboard/patchsets/33726/ UNH-IOL DPDK Community Lab To manage your email subscriptions, visit: https://lab.dpdk.org/results/dashboard/preferences/subscriptions/