From mboxrd@z Thu Jan 1 00:00:00 1970 Return-Path: Received: from mails.dpdk.org (mails.dpdk.org [217.70.189.124]) by inbox.dpdk.org (Postfix) with ESMTP id 2603546BE2 for ; Wed, 23 Jul 2025 05:44:42 +0200 (CEST) Received: from mails.dpdk.org (localhost [127.0.0.1]) by mails.dpdk.org (Postfix) with ESMTP id 031554026D; Wed, 23 Jul 2025 05:44:42 +0200 (CEST) Received: from mail-yb1-f226.google.com (mail-yb1-f226.google.com [209.85.219.226]) by mails.dpdk.org (Postfix) with ESMTP id B9D174026D for ; Wed, 23 Jul 2025 05:44:40 +0200 (CEST) Received: by mail-yb1-f226.google.com with SMTP id 3f1490d57ef6-e8d7122c3a5so5313207276.1 for ; Tue, 22 Jul 2025 20:44:40 -0700 (PDT) DKIM-Signature: v=1; a=rsa-sha256; c=relaxed/relaxed; d=iol.unh.edu; s=unh-iol; t=1753242280; x=1753847080; darn=dpdk.org; h=references:in-reply-to:cc:to:from:subject:message-id:date:from:to :cc:subject:date:message-id:reply-to; bh=HtIrRRHjG7bi2D+gcHoK7kiWi3cJvj9sNC84aAljWMc=; b=ZmkN0/1WqfI69C1cza4QZPrE6vQ0ifGz+vxulN+dcGurY/jRyrYklxkDZy1yZGTRbr 4ei1fUrpT2da/F123g/mK96Bilw1boQZIiQNoxIZ4D8BL0TVpENTTtIluJikTdWSCfRm JKrqM/spXxKdv8DAkJaRCleVgTuooHFVojcEs= X-Google-DKIM-Signature: v=1; a=rsa-sha256; c=relaxed/relaxed; d=1e100.net; s=20230601; t=1753242280; x=1753847080; h=references:in-reply-to:cc:to:from:subject:message-id:date :x-gm-message-state:from:to:cc:subject:date:message-id:reply-to; bh=HtIrRRHjG7bi2D+gcHoK7kiWi3cJvj9sNC84aAljWMc=; b=BNpYHd4pWDQcWivD62YmU5z63NqymMTBqJ0/uTwyAvSUrzvDLVCTcpuzOs2bIZsiIL HHtONGjmB6FzH2KJSFyo9T/3mAK3y0ZsSewqb/Wyx8i9659BbApckjO2fovZNOj4vYqb 8ImvSCuI4JEpBj0uUTvIh/hSBHi/e4mclhc/HtbbdQy92uzhnLDfKHNt76LQPwSdWQPc 3VWnFMVlmXpfuLvpQrdvg7vVP1nujZXwkcaYshKKQwvO2xihBh6TJiOxD21vDOYo8Rlk J6doy7MotkGSRzv50KzVmems1MS86rSK2VPfIUQlQYuqCOuFW49eyhU0rGggljPycgHE YRKw== X-Gm-Message-State: AOJu0YxUgA5uQpqUrIv8u/bIUo5J18l0WMKq4lzsXkoR9QNNyc48h0mc 1rp0P96hqsr+jQvoRvgj8yze2saoD7s6zjOR72p62EVhu01/TOS4UuzLNRU3OV0pdjjqIkBctts a7AY+JGYEHcqV25VaAvcN3n27XSXteueV2VXS65kiH76ibo+y3jvCDMW8bhqv X-Gm-Gg: ASbGncvBjQ5B3QJzxMm7fx2ZKv/Eb+U9o8F0pgbZxblqVb4ZcREUbNWH9DqJcQ7Byd2 IUrN0Po75fCaij7lzGpjXBADaCXc+v5kKhRx7RF+tL788V20beLHRnsD9KhnB68UWF8tW6FYpE9 RAGhu74K6dvhHPvVnZLyYds4O0jvehjI+cOIeXcbRCgSW5t06rFmMCTkjUP+ofZSEXxrh8YtcTU wCVAAFfgajy4t6wiGCM90mHBrN4QiM/9JXT7Y3mEjFuZCtg1SO16qd31Q84iKe32RBcBT2uHEmU xITWZRhHih2IqwXpinX6JlniEzyC1dr34jDTELxsqd13D1gdEw== X-Google-Smtp-Source: AGHT+IGkBN6DCKNQJL0QcVf6AvbXXzwI7myrOEkottSAItJhA3Ag8XrUL3VEzz4ug5cA38gRKJR4mdI9UGNd X-Received: by 2002:a05:6902:2b10:b0:e87:9bb7:beac with SMTP id 3f1490d57ef6-e8dc58cbff2mr2043474276.15.1753242280013; Tue, 22 Jul 2025 20:44:40 -0700 (PDT) Received: from postal.iol.unh.edu (postal.iol.unh.edu. [2606:4100:3880:1234::84]) by smtp-relay.gmail.com with ESMTPS id 3f1490d57ef6-e8d7cc0eea9sm665318276.6.2025.07.22.20.44.39 (version=TLS1_2 cipher=ECDHE-ECDSA-AES128-GCM-SHA256 bits=128/128); Tue, 22 Jul 2025 20:44:40 -0700 (PDT) X-Relaying-Domain: iol.unh.edu Date: Tue, 22 Jul 2025 20:44:40 -0700 (PDT) Message-ID: <68805aa8.050a0220.3addcb.2232SMTPIN_ADDED_MISSING@mx.google.com> Received: from [172.21.0.2] (unknown [172.18.0.240]) by postal.iol.unh.edu (Postfix) with ESMTP id A7AFB6051830; Tue, 22 Jul 2025 23:44:39 -0400 (EDT) Subject: |SUCCESS| pw155433-155445 [PATCH] [v6,13/13] pdump: mark API and app From: dpdklab@iol.unh.edu To: Test Report Cc: dpdk-test-reports@iol.unh.edu In-Reply-To: <20250722173552.184141-14-stephen@networkplumber.org> References: <20250722173552.184141-14-stephen@networkplumber.org> Content-Type: text/plain X-BeenThere: test-report@dpdk.org X-Mailman-Version: 2.1.29 Precedence: list List-Id: automatic DPDK test reports List-Unsubscribe: , List-Archive: List-Post: List-Help: List-Subscribe: , Errors-To: test-report-bounces@dpdk.org Test-Label: iol-unit-arm64-testing Test-Status: SUCCESS http://dpdk.org/patch/155445 _Testing PASS_ Submitter: Stephen Hemminger Date: Tuesday, July 22 2025 17:34:44 DPDK git baseline: Repo:dpdk Branch: master CommitID:b222395561638f89562e4ef42e1eabf2d6db43dd 155433-155445 --> testing pass Upstream job id: Generic-Unit-Test-DPDK#357436 Test environment and result as below: +------------------------------+----------------+--------------+------------------------------+---------------------------+ | Environment | dpdk_unit_test | lpm_autotest | cryptodev_sw_snow3g_autotest | cryptodev_sw_zuc_autotest | +==============================+================+==============+==============================+===========================+ | CentOS Stream 10 | PASS | SKIPPED | SKIPPED | SKIPPED | +------------------------------+----------------+--------------+------------------------------+---------------------------+ | CentOS Stream 9 | PASS | SKIPPED | SKIPPED | SKIPPED | +------------------------------+----------------+--------------+------------------------------+---------------------------+ | Debian GNU/Linux 12 | PASS | SKIPPED | SKIPPED | SKIPPED | +------------------------------+----------------+--------------+------------------------------+---------------------------+ | Fedora Linux 40 | PASS | SKIPPED | SKIPPED | SKIPPED | +------------------------------+----------------+--------------+------------------------------+---------------------------+ | Red Hat Enterprise Linux 9.5 | PASS | SKIPPED | SKIPPED | SKIPPED | +------------------------------+----------------+--------------+------------------------------+---------------------------+ | Ubuntu 20.04 | PASS | PASS | SKIPPED | SKIPPED | +------------------------------+----------------+--------------+------------------------------+---------------------------+ | Fedora Linux 41 | PASS | SKIPPED | SKIPPED | SKIPPED | +------------------------------+----------------+--------------+------------------------------+---------------------------+ | Ubuntu 24.04 | PASS | SKIPPED | SKIPPED | SKIPPED | +------------------------------+----------------+--------------+------------------------------+---------------------------+ | Ubuntu 22.04 | PASS | SKIPPED | SKIPPED | SKIPPED | +------------------------------+----------------+--------------+------------------------------+---------------------------+ | Debian 12 (arm) | SKIPPED | SKIPPED | PASS | PASS | +------------------------------+----------------+--------------+------------------------------+---------------------------+ CentOS Stream 10 Kernel: 5.4 Compiler: gcc gcc (GCC) 14.2.1 20250110 (Red Hat 14.2.1-8) CentOS Stream 9 Kernel: 5.4 Compiler: gcc gcc (GCC) 11.5.0 20240719 (Red Hat 11.5.0-7) Debian GNU/Linux 12 Kernel: 5.4 Compiler: gcc gcc (Debian 12.2.0-14+deb12u1) 12.2.0 Fedora Linux 40 Kernel: 5.4 Compiler: clang gcc (GCC) 14.2.1 20240912 (Red Hat 14.2.1-3) Red Hat Enterprise Linux 9.5 Kernel: 5.4 Compiler: gcc gcc (GCC) 11.5.0 20240719 (Red Hat 11.5.0-2) Ubuntu 20.04 Kernel: 5.4 Compiler: gcc gcc (Ubuntu 9.4.0-1ubuntu1~20.04.2) 9.4.0 Fedora Linux 41 Kernel: 5.4 Compiler: clang gcc (GCC) 14.3.1 20250523 (Red Hat 14.3.1-1) Ubuntu 24.04 Kernel: 5.4 Compiler: gcc gcc (Ubuntu 13.3.0-6ubuntu2~24.04) 13.3.0 Ubuntu 22.04 Kernel: 5.4 Compiler: gcc gcc (Ubuntu 11.4.0-1ubuntu1~22.04) 11.4.0 Debian 12 (arm) Kernel: Depends on container host Compiler: gcc (Debian 12.2.0-14) 12.2.0 To view detailed results, visit: https://lab.dpdk.org/results/dashboard/patchsets/33730/ UNH-IOL DPDK Community Lab To manage your email subscriptions, visit: https://lab.dpdk.org/results/dashboard/preferences/subscriptions/