From mboxrd@z Thu Jan 1 00:00:00 1970 Return-Path: Received: from mails.dpdk.org (mails.dpdk.org [217.70.189.124]) by inbox.dpdk.org (Postfix) with ESMTP id 61B6E46BE3 for ; Wed, 23 Jul 2025 06:00:18 +0200 (CEST) Received: from mails.dpdk.org (localhost [127.0.0.1]) by mails.dpdk.org (Postfix) with ESMTP id 4CC2E4026D; Wed, 23 Jul 2025 06:00:18 +0200 (CEST) Received: from mail-qv1-f97.google.com (mail-qv1-f97.google.com [209.85.219.97]) by mails.dpdk.org (Postfix) with ESMTP id 2CE794026D for ; Wed, 23 Jul 2025 06:00:17 +0200 (CEST) Received: by mail-qv1-f97.google.com with SMTP id 6a1803df08f44-6fafdd322d3so56084616d6.3 for ; Tue, 22 Jul 2025 21:00:17 -0700 (PDT) DKIM-Signature: v=1; a=rsa-sha256; c=relaxed/relaxed; d=iol.unh.edu; s=unh-iol; t=1753243216; x=1753848016; darn=dpdk.org; h=references:in-reply-to:cc:to:from:subject:message-id:date:from:to :cc:subject:date:message-id:reply-to; bh=D7FHcvANn0xiHW1bXQGMy6UceZ3uaNDPRKAfpVQeV8w=; b=abV9F3xCSDBdhM8zziLokmT8kWFcpISXLVH2N4YKYSkrMCLGFIeWPoIzqRDgfPL9z8 jzA3oZ7HVuOkTLKfs6J4H2WZb+j+Er2T1Vj67JEYmH2xhaAYWlN5NoUfQy9j5Yru9dBN 3V8Xtf5D/NXWPCfg2t/pDpaeKsbbFzvqYeZLY= X-Google-DKIM-Signature: v=1; a=rsa-sha256; c=relaxed/relaxed; d=1e100.net; s=20230601; t=1753243216; x=1753848016; h=references:in-reply-to:cc:to:from:subject:message-id:date :x-gm-message-state:from:to:cc:subject:date:message-id:reply-to; bh=D7FHcvANn0xiHW1bXQGMy6UceZ3uaNDPRKAfpVQeV8w=; b=cTHrS34CzaP6hbFvbr90ptSy7gsJZSid6yCTXk+StSp/SozMF/ODtBp/3XplAelxhZ FmRHUeOjGK6rXma4OXZZTxp3bIZGVvw9fO9246+aS+rBU0RRYuZbcLi4m0EuipKP24Ad APnZkRMlsQBuoxe70LQEFB7Ra3KbzxgQsJZbU/HAbHSTWQTookDdqFSbCenqNKFJJwyL 9nVRivlTxwRaD34gSInSaWIhMivUscAQmifq16jyTf/g/z/JzNk3SB0O67O8nh1NAfP1 /hBEwQqA2MLtzKE1vc4uGkcRsbeNzk7FO3ZhkRL3MiaICYuZrdv8v56zsahzvcTXUTnD kUmA== X-Gm-Message-State: AOJu0Yzj33CPHoW7gR1yRaOzPIHTfgUAZpgbCjmWM8m0ojMV8/dF1DFn dkW7lyvmgtfiZSa2bhZpv16CTMMgAPRUKAC4FEJMaLNgInzyyCq1TGRnFXW2mXRIdXE0v+ify6Y VU/C+YyTtFy2g6tiEHfy45YuBZUGxUebYGVfUu827e+0s X-Gm-Gg: ASbGncsFvtFvyHA/CdCucfsUuNZ9zvvPom1z9TnOqwQTSA7zBmubHmSoH6gluXUqikw Yymjlad616FZ1NY4jtIo7IxrN95Nc2Zf6l+/X90JR/YLaSZFK/MYEx2ROaVIDgZq9M4DJWC51Vw ZUdMIaMBTzep6Q+X0CppLjD38z4l5n/oJiQ0QHhHvd35vZRA8+PeGu+cklbuegseFIpvKnsX5y2 7M7PkJFgFVUHSEmse4v2X2mzqcfdV5HMgL38ScopGQ8U8xwqYAQ3Dlp8CGZ22V/07SmgE340YjR bLRTGuEHwJpv/bAxGe1/lbHLE7/T/kp9slBtLiSWMfm772WOrjkUvHqnmSO/yZi19x/+CJJZ X-Google-Smtp-Source: AGHT+IF18Asrrk+cCSpuXsHGGcubnWDjQmwzcdA5F8e81HdNBIHqXN/J7lb1ZY0KjytSQ/eptjo3SpVV/VyK X-Received: by 2002:a05:6214:29cd:b0:704:f952:18bf with SMTP id 6a1803df08f44-7070073b4d7mr24687326d6.50.1753243216455; Tue, 22 Jul 2025 21:00:16 -0700 (PDT) Received: from postal.iol.unh.edu (postal.iol.unh.edu. [132.177.123.84]) by smtp-relay.gmail.com with ESMTPS id 6a1803df08f44-7051ba2b767sm6144326d6.8.2025.07.22.21.00.16 (version=TLS1_2 cipher=ECDHE-ECDSA-AES128-GCM-SHA256 bits=128/128); Tue, 22 Jul 2025 21:00:16 -0700 (PDT) X-Relaying-Domain: iol.unh.edu Date: Tue, 22 Jul 2025 21:00:16 -0700 (PDT) Message-ID: <68805e50.050a0220.2d1e5b.ebd4SMTPIN_ADDED_MISSING@mx.google.com> Received: from [172.21.0.3] (unknown [172.18.0.240]) by postal.iol.unh.edu (Postfix) with ESMTP id 272196051830; Wed, 23 Jul 2025 00:00:16 -0400 (EDT) Subject: |SUCCESS| pw155425 [PATCH] maintainers: update for DTS From: dpdklab@iol.unh.edu To: Test Report Cc: dpdk-test-reports@iol.unh.edu In-Reply-To: <20250722160529.2659392-1-luca.vizzarro@arm.com> References: <20250722160529.2659392-1-luca.vizzarro@arm.com> Content-Type: text/plain X-BeenThere: test-report@dpdk.org X-Mailman-Version: 2.1.29 Precedence: list List-Id: automatic DPDK test reports List-Unsubscribe: , List-Archive: List-Post: List-Help: List-Subscribe: , Errors-To: test-report-bounces@dpdk.org Test-Label: iol-compile-arm64-testing Test-Status: SUCCESS http://dpdk.org/patch/155425 _Testing PASS_ Submitter: Luca Vizzarro Date: Tuesday, July 22 2025 16:05:14 DPDK git baseline: Repo:dpdk Branch: master CommitID:b222395561638f89562e4ef42e1eabf2d6db43dd 155425 --> testing pass Upstream job id: Generic-DPDK-Compile-Meson#411135 Test environment and result as below: +------------------------------+--------------------+ | Environment | dpdk_meson_compile | +==============================+====================+ | Red Hat Enterprise Linux 9.5 | PASS | +------------------------------+--------------------+ | Ubuntu 20.04 | PASS | +------------------------------+--------------------+ | Debian GNU/Linux 12 | PASS | +------------------------------+--------------------+ | Fedora Linux 40 | PASS | +------------------------------+--------------------+ | Ubuntu 24.04 | PASS | +------------------------------+--------------------+ | Fedora Linux 41 | PASS | +------------------------------+--------------------+ | CentOS Stream 9 | PASS | +------------------------------+--------------------+ | Ubuntu 22.04 | PASS | +------------------------------+--------------------+ | CentOS Stream 10 | PASS | +------------------------------+--------------------+ Red Hat Enterprise Linux 9.5 Kernel: 5.4 Compiler: gcc gcc (GCC) 11.5.0 20240719 (Red Hat 11.5.0-2) Ubuntu 20.04 Kernel: 5.15 Compiler: aarch64-linux-gnu-gcc gcc (Ubuntu 9.4.0-1ubuntu1~20.04.2) 9.4.0 Debian GNU/Linux 12 Kernel: 5.4 Compiler: gcc gcc (Debian 12.2.0-14+deb12u1) 12.2.0 Fedora Linux 40 Kernel: 5.4 Compiler: gcc gcc (GCC) 14.2.1 20240912 (Red Hat 14.2.1-3) Ubuntu 24.04 Kernel: 5.4 Compiler: gcc gcc (Ubuntu 13.3.0-6ubuntu2~24.04) 13.3.0 Fedora Linux 41 Kernel: 5.4 Compiler: gcc gcc (GCC) 14.3.1 20250523 (Red Hat 14.3.1-1) CentOS Stream 9 Kernel: 5.4 Compiler: gcc gcc (GCC) 11.5.0 20240719 (Red Hat 11.5.0-7) Ubuntu 22.04 Kernel: 5.4 Compiler: gcc gcc (Ubuntu 11.4.0-1ubuntu1~22.04) 11.4.0 CentOS Stream 10 Kernel: 5.4 Compiler: gcc gcc (GCC) 14.2.1 20250110 (Red Hat 14.2.1-8) To view detailed results, visit: https://lab.dpdk.org/results/dashboard/patchsets/33725/ UNH-IOL DPDK Community Lab To manage your email subscriptions, visit: https://lab.dpdk.org/results/dashboard/preferences/subscriptions/