From mboxrd@z Thu Jan 1 00:00:00 1970 Return-Path: Received: from mails.dpdk.org (mails.dpdk.org [217.70.189.124]) by inbox.dpdk.org (Postfix) with ESMTP id 5D95246BE3 for ; Wed, 23 Jul 2025 06:00:31 +0200 (CEST) Received: from mails.dpdk.org (localhost [127.0.0.1]) by mails.dpdk.org (Postfix) with ESMTP id 581CB4026D; Wed, 23 Jul 2025 06:00:31 +0200 (CEST) Received: from mail-yb1-f228.google.com (mail-yb1-f228.google.com [209.85.219.228]) by mails.dpdk.org (Postfix) with ESMTP id 58AF54026D for ; Wed, 23 Jul 2025 06:00:30 +0200 (CEST) Received: by mail-yb1-f228.google.com with SMTP id 3f1490d57ef6-e8dc01ffc4aso1063372276.0 for ; Tue, 22 Jul 2025 21:00:30 -0700 (PDT) DKIM-Signature: v=1; a=rsa-sha256; c=relaxed/relaxed; d=iol.unh.edu; s=unh-iol; t=1753243230; x=1753848030; darn=dpdk.org; h=references:in-reply-to:cc:to:from:subject:message-id:date:from:to :cc:subject:date:message-id:reply-to; bh=F+VxYbGDqfSflZsu0WapErVqQrMn3AfDvgwBmFOrw0M=; b=WI/uTMxM98OwJt0n1FGu0cklB+06WzowLwTznBofGp8XxGiNyNEAUaFNAiAM4nTcAG FVaY3S93wol9oXhZoN0qEwgD5f5OhI8iuwoe8GH8NpBlap38pC+XRpp7W4dHJ3Vp1G3J ZEC7D+SNQXBb84FAVfv5sUGHg5hAiCQYCPjSo= X-Google-DKIM-Signature: v=1; a=rsa-sha256; c=relaxed/relaxed; d=1e100.net; s=20230601; t=1753243230; x=1753848030; h=references:in-reply-to:cc:to:from:subject:message-id:date :x-gm-message-state:from:to:cc:subject:date:message-id:reply-to; bh=F+VxYbGDqfSflZsu0WapErVqQrMn3AfDvgwBmFOrw0M=; b=crhxiO2LEb5/fd7ZS9HOw7NGDNEvD6Xsp4FjMmurKeQ4CUeS0XH656pVDNpTcRSqIV Qlzxbg5PgZ/7nQshP+LkkqGL/0pIU+dZSQ+rvkDxP25l1stwpjjgs8paJIjWDxg7oj0O srIYwJuLWtKGdWSW3ZCMP7Z77cewyEMxmdQuu48PDamisAHfdGSKTmtxnjtmFey2k8lW UgAL6vrBShAae4zalmzLPQWCrWR4pkLW1SYzVY76vVM+r7ceeyZs85g4Fl7wp22dZAnA 3QlKv7AoY9iAsoFma2IKaT8bCqIoyATyISYAFE7IO1lPtQ/y6xd8mDGjQ9x2H04G4mwq f9hw== X-Gm-Message-State: AOJu0YxzQxi7m7SeEFZHsQOPFcKcyH6zd+BM04FFKfrOUoNNUngUhkQf nUrXO+cwULvAddbsqY3xeo/nVVR/08o6sC/w4XbpOjTA4u87pgXvFmnlTYZL2LBvAuO/ECXEqWk KvTFGRq9FhT89v17SO1a95TFX5jETzBWCHE7GcoDFkt4XO67RSHpUqzPt7HK7 X-Gm-Gg: ASbGncvpGag/sCvM2iXOuf7inerw8/DM6r/DmU3Tu+g9Rp7O1caqVhKBJ/NVxEezxzb PAyCr4PizcrJ/i7Pfdp6qxYEtNaMDk+B4T6IYH9wVdneV5xMDUsGpmZAyotnU9exY7ANsGsIK5o CjGUNJqGjFqnzrGkOpdBQ/NHfElG33slNEJJIyPKFIlwz0bzHhY9BJayn6UidAfElYncILEuWNe IkbYdBQMBrU9gLj3dHT05z6ky2S/t/uco4IUbPXdDt17hThapAMcNpOY5RcXICzp1Ia7Q6NyWwN DDfCSz2fc5SUcNFNWwmGE+uUObJZgEfyDL9Y+HgiMr4cqFD4vQ== X-Google-Smtp-Source: AGHT+IGRdghn7e9aTBTyxPyWD51B6mf2msg8EI15ubtZavYyrz+BJqfQabZ9nVfbhDwdK6qP5NsYcvT2coDe X-Received: by 2002:a05:6902:2492:b0:e81:b8c2:b5eb with SMTP id 3f1490d57ef6-e8dc5b021c3mr1683451276.43.1753243229506; Tue, 22 Jul 2025 21:00:29 -0700 (PDT) Received: from postal.iol.unh.edu (postal.iol.unh.edu. [2606:4100:3880:1234::84]) by smtp-relay.gmail.com with ESMTPS id 3f1490d57ef6-e8d7ce09161sm650032276.22.2025.07.22.21.00.29 (version=TLS1_2 cipher=ECDHE-ECDSA-AES128-GCM-SHA256 bits=128/128); Tue, 22 Jul 2025 21:00:29 -0700 (PDT) X-Relaying-Domain: iol.unh.edu Date: Tue, 22 Jul 2025 21:00:29 -0700 (PDT) Message-ID: <68805e5d.250a0220.48208.1484SMTPIN_ADDED_MISSING@mx.google.com> Received: from [172.21.0.4] (unknown [172.18.0.240]) by postal.iol.unh.edu (Postfix) with ESMTP id 2679E6051830; Wed, 23 Jul 2025 00:00:29 -0400 (EDT) Subject: |SUCCESS| pw155425 [PATCH] maintainers: update for DTS From: dpdklab@iol.unh.edu To: Test Report Cc: dpdk-test-reports@iol.unh.edu In-Reply-To: <20250722160529.2659392-1-luca.vizzarro@arm.com> References: <20250722160529.2659392-1-luca.vizzarro@arm.com> Content-Type: text/plain X-BeenThere: test-report@dpdk.org X-Mailman-Version: 2.1.29 Precedence: list List-Id: automatic DPDK test reports List-Unsubscribe: , List-Archive: List-Post: List-Help: List-Subscribe: , Errors-To: test-report-bounces@dpdk.org Test-Label: iol-compile-arm64-testing Test-Status: SUCCESS http://dpdk.org/patch/155425 _Testing PASS_ Submitter: Luca Vizzarro Date: Tuesday, July 22 2025 16:05:14 DPDK git baseline: Repo:dpdk Branch: master CommitID:b222395561638f89562e4ef42e1eabf2d6db43dd 155425 --> testing pass Upstream job id: Generic-DPDK-Compile-Meson#411137 Test environment and result as below: +------------------------------+--------------------+ | Environment | dpdk_meson_compile | +==============================+====================+ | Red Hat Enterprise Linux 9.5 | PASS | +------------------------------+--------------------+ | Ubuntu 20.04 | PASS | +------------------------------+--------------------+ | Debian GNU/Linux 12 | PASS | +------------------------------+--------------------+ | Fedora Linux 40 | PASS | +------------------------------+--------------------+ | Ubuntu 24.04 | PASS | +------------------------------+--------------------+ | Fedora Linux 41 | PASS | +------------------------------+--------------------+ | CentOS Stream 9 | PASS | +------------------------------+--------------------+ | Ubuntu 22.04 | PASS | +------------------------------+--------------------+ | CentOS Stream 10 | PASS | +------------------------------+--------------------+ Red Hat Enterprise Linux 9.5 Kernel: 5.4 Compiler: gcc gcc (GCC) 11.5.0 20240719 (Red Hat 11.5.0-2) Ubuntu 20.04 Kernel: 5.15 Compiler: aarch64-linux-gnu-gcc gcc (Ubuntu 9.4.0-1ubuntu1~20.04.2) 9.4.0 Debian GNU/Linux 12 Kernel: 5.4 Compiler: gcc gcc (Debian 12.2.0-14+deb12u1) 12.2.0 Fedora Linux 40 Kernel: 5.4 Compiler: gcc gcc (GCC) 14.2.1 20240912 (Red Hat 14.2.1-3) Ubuntu 24.04 Kernel: 5.4 Compiler: gcc gcc (Ubuntu 13.3.0-6ubuntu2~24.04) 13.3.0 Fedora Linux 41 Kernel: 5.4 Compiler: gcc gcc (GCC) 14.3.1 20250523 (Red Hat 14.3.1-1) CentOS Stream 9 Kernel: 5.4 Compiler: gcc gcc (GCC) 11.5.0 20240719 (Red Hat 11.5.0-7) Ubuntu 22.04 Kernel: 5.4 Compiler: gcc gcc (Ubuntu 11.4.0-1ubuntu1~22.04) 11.4.0 CentOS Stream 10 Kernel: 5.4 Compiler: gcc gcc (GCC) 14.2.1 20250110 (Red Hat 14.2.1-8) To view detailed results, visit: https://lab.dpdk.org/results/dashboard/patchsets/33725/ UNH-IOL DPDK Community Lab To manage your email subscriptions, visit: https://lab.dpdk.org/results/dashboard/preferences/subscriptions/