From mboxrd@z Thu Jan 1 00:00:00 1970 Return-Path: Received: from mails.dpdk.org (mails.dpdk.org [217.70.189.124]) by inbox.dpdk.org (Postfix) with ESMTP id C8D6B46BE3 for ; Wed, 23 Jul 2025 06:04:27 +0200 (CEST) Received: from mails.dpdk.org (localhost [127.0.0.1]) by mails.dpdk.org (Postfix) with ESMTP id AD1DB4026D; Wed, 23 Jul 2025 06:04:27 +0200 (CEST) Received: from mail-vs1-f98.google.com (mail-vs1-f98.google.com [209.85.217.98]) by mails.dpdk.org (Postfix) with ESMTP id 4C87C4026D for ; Wed, 23 Jul 2025 06:04:26 +0200 (CEST) Received: by mail-vs1-f98.google.com with SMTP id ada2fe7eead31-4e7fc3309f2so680115137.2 for ; Tue, 22 Jul 2025 21:04:26 -0700 (PDT) DKIM-Signature: v=1; a=rsa-sha256; c=relaxed/relaxed; d=iol.unh.edu; s=unh-iol; t=1753243465; x=1753848265; darn=dpdk.org; h=references:in-reply-to:cc:to:from:subject:message-id:date:from:to :cc:subject:date:message-id:reply-to; bh=1sHiPEs24ESbxnZb14TjGeWj0A5gzs5POUefywhweWw=; b=Wp+s8NQHaILvr7tWCLZWRwL0qctOtRKcZKgqMnkKDK2aqO7/Kw/cEYhVp5pt/ay4Ml VgzVsp4COSjckHC+K9j10K9c8FykL/In5CzEVCK8CpImH5FhL6zNN4vvYSEiKHj0bN7S tSc6J/f3eXIEp9drRuZbCIOc22hytXc+hn7tU= X-Google-DKIM-Signature: v=1; a=rsa-sha256; c=relaxed/relaxed; d=1e100.net; s=20230601; t=1753243465; x=1753848265; h=references:in-reply-to:cc:to:from:subject:message-id:date :x-gm-message-state:from:to:cc:subject:date:message-id:reply-to; bh=1sHiPEs24ESbxnZb14TjGeWj0A5gzs5POUefywhweWw=; b=gW1hp04l4AKNGIDw5iLFk9B/ysDSkkrWfS1UmeBwDDH91uDsxDal6uqMlSOnVr1w4v yLtTeCto/Ldg7z16MeiATaIly3LTPJPwRwEiYoMcCI9B3iEwd+BfV+7W0MaY5Kcx07ct ke5a5WrjFBukEPue1DSBeFxyqpb4lOnfzfzW8namljX/r+DZp2ANeaemcQozyCJWbFGH ala8tz9G9KVmtBtaNIxijYq+zBlcMUg4hQzsIFlaVkA3pABAv66BBgD6PjeeaYCybXf+ ENIktJK1PkAK/hi1Nill+JvFMvOBLssn0v8Ht3ipPzSDv0td0TxvaGrV2suBdjdJUZTT 70ZA== X-Gm-Message-State: AOJu0YwQggJgRfYP4UeaDG0N0B2GlGpFvs8xTUXr58KU4hHW90OeD4Pm avF5XbF1aea2F6T9CaK+GnAOdbMMJ3RRHbjWyQsGl+sTtSgd55Z6hmQF8ViLptCQyHTBtUV3toH BJCZCgfXwcusjl3t7EB1B4DbYszajkIGiK5Q1EM7Ce6Y0r04xmirDMoNBzJUC X-Gm-Gg: ASbGncuHDx+94cu4iO5kf8CnOV8jJKUCZg0RFeAw1IRKeyP/rBBiNOxIeRt8GsGsvwM U5xluS2u6mm2EyMoM0/x+KDvp76GXqbvrFPKjZ25qKBUytm6Kw7QumSSumdTP1w9p7UWvGkIbQ6 KGnsk6WUehmNDE76ALlebPq4hXYszHp6Sr38YRH6/tF70moNWX3NLpOT48sPdMrWSWGb53yPAe2 AMHMOqKh1phlnZ1OIvxNEXpzy5iSIahCNylxbd9wqRSIPqEx4t0p82YW/8D9AN7DNnduuzBCbpi Ku0NYyQ65y7Q/mloe+3tbrHx+dEn7r2PnISPViUkN247DxqeiQ== X-Google-Smtp-Source: AGHT+IGO5I7fZMFy5nLI/0pCEb6iKdhUzvs2z9wfPWb9oD22d1larCdWa8jrgP5xEwNUus50L+xob3DpUeRU X-Received: by 2002:a05:6102:2924:b0:4f9:d957:a417 with SMTP id ada2fe7eead31-4fa15198476mr569951137.17.1753243465595; Tue, 22 Jul 2025 21:04:25 -0700 (PDT) Received: from postal.iol.unh.edu (postal.iol.unh.edu. [2606:4100:3880:1234::84]) by smtp-relay.gmail.com with ESMTPS id 71dfb90a1353d-53764e96b38sm617444e0c.6.2025.07.22.21.04.25 (version=TLS1_2 cipher=ECDHE-ECDSA-AES128-GCM-SHA256 bits=128/128); Tue, 22 Jul 2025 21:04:25 -0700 (PDT) X-Relaying-Domain: iol.unh.edu Date: Tue, 22 Jul 2025 21:04:25 -0700 (PDT) Message-ID: <68805f49.050a0220.1b0f9.20adSMTPIN_ADDED_MISSING@mx.google.com> Received: from [172.21.0.7] (unknown [172.18.0.240]) by postal.iol.unh.edu (Postfix) with ESMTP id 4BC856051830; Wed, 23 Jul 2025 00:04:25 -0400 (EDT) Subject: |SUCCESS| pw155426-155427 [PATCH] [v3,2/2] test/strsep: add tests fo From: dpdklab@iol.unh.edu To: Test Report Cc: dpdk-test-reports@iol.unh.edu In-Reply-To: <1753202334-27615-2-git-send-email-andremue@linux.microsoft.com> References: <1753202334-27615-2-git-send-email-andremue@linux.microsoft.com> Content-Type: text/plain X-BeenThere: test-report@dpdk.org X-Mailman-Version: 2.1.29 Precedence: list List-Id: automatic DPDK test reports List-Unsubscribe: , List-Archive: List-Post: List-Help: List-Subscribe: , Errors-To: test-report-bounces@dpdk.org Test-Label: iol-compile-arm64-testing Test-Status: SUCCESS http://dpdk.org/patch/155427 _Testing PASS_ Submitter: Andre Muezerie Date: Tuesday, July 22 2025 16:38:54 DPDK git baseline: Repo:dpdk Branch: master CommitID:b222395561638f89562e4ef42e1eabf2d6db43dd 155426-155427 --> testing pass Upstream job id: Generic-DPDK-Compile-Meson#411151 Test environment and result as below: +------------------------------+--------------------+ | Environment | dpdk_meson_compile | +==============================+====================+ | Red Hat Enterprise Linux 9.5 | PASS | +------------------------------+--------------------+ | Ubuntu 20.04 | PASS | +------------------------------+--------------------+ | Debian GNU/Linux 12 | PASS | +------------------------------+--------------------+ | Fedora Linux 40 | PASS | +------------------------------+--------------------+ | Fedora Linux 41 | PASS | +------------------------------+--------------------+ | Ubuntu 22.04 | PASS | +------------------------------+--------------------+ | Ubuntu 24.04 | PASS | +------------------------------+--------------------+ | CentOS Stream 9 | PASS | +------------------------------+--------------------+ | CentOS Stream 10 | PASS | +------------------------------+--------------------+ Red Hat Enterprise Linux 9.5 Kernel: 5.4 Compiler: gcc gcc (GCC) 11.5.0 20240719 (Red Hat 11.5.0-2) Ubuntu 20.04 Kernel: 5.15 Compiler: aarch64-linux-gnu-gcc gcc (Ubuntu 9.4.0-1ubuntu1~20.04.2) 9.4.0 Debian GNU/Linux 12 Kernel: 5.4 Compiler: gcc gcc (Debian 12.2.0-14+deb12u1) 12.2.0 Fedora Linux 40 Kernel: 5.4 Compiler: gcc gcc (GCC) 14.2.1 20240912 (Red Hat 14.2.1-3) Fedora Linux 41 Kernel: 5.4 Compiler: gcc gcc (GCC) 14.3.1 20250523 (Red Hat 14.3.1-1) Ubuntu 22.04 Kernel: 5.4 Compiler: gcc gcc (Ubuntu 11.4.0-1ubuntu1~22.04) 11.4.0 Ubuntu 24.04 Kernel: 5.4 Compiler: gcc gcc (Ubuntu 13.3.0-6ubuntu2~24.04) 13.3.0 CentOS Stream 9 Kernel: 5.4 Compiler: gcc gcc (GCC) 11.5.0 20240719 (Red Hat 11.5.0-7) CentOS Stream 10 Kernel: 5.4 Compiler: gcc gcc (GCC) 14.2.1 20250110 (Red Hat 14.2.1-8) To view detailed results, visit: https://lab.dpdk.org/results/dashboard/patchsets/33726/ UNH-IOL DPDK Community Lab To manage your email subscriptions, visit: https://lab.dpdk.org/results/dashboard/preferences/subscriptions/