From mboxrd@z Thu Jan 1 00:00:00 1970 Return-Path: Received: from mails.dpdk.org (mails.dpdk.org [217.70.189.124]) by inbox.dpdk.org (Postfix) with ESMTP id CAC1946BE3 for ; Wed, 23 Jul 2025 06:05:01 +0200 (CEST) Received: from mails.dpdk.org (localhost [127.0.0.1]) by mails.dpdk.org (Postfix) with ESMTP id C4F5A4026D; Wed, 23 Jul 2025 06:05:01 +0200 (CEST) Received: from mail-qv1-f97.google.com (mail-qv1-f97.google.com [209.85.219.97]) by mails.dpdk.org (Postfix) with ESMTP id 544754026D for ; Wed, 23 Jul 2025 06:05:00 +0200 (CEST) Received: by mail-qv1-f97.google.com with SMTP id 6a1803df08f44-6fada2dd785so64247226d6.2 for ; Tue, 22 Jul 2025 21:05:00 -0700 (PDT) DKIM-Signature: v=1; a=rsa-sha256; c=relaxed/relaxed; d=iol.unh.edu; s=unh-iol; t=1753243500; x=1753848300; darn=dpdk.org; h=references:in-reply-to:cc:to:from:subject:message-id:date:from:to :cc:subject:date:message-id:reply-to; bh=5g5TQ0Q34ANdMD7pTzthM7rSFldShp+3ahxFvPQ3N0k=; b=WR/6lGDPYBmfOICS2ZI1D3V2K41Tc5neLFPwWf1sLGwiZYtATp5b9cDzs6DyALcUEA hRs7904DiUuLMq8hBMQLgZTbcmmWs5XnErFquoGDSoy/YgdVzguplVbZ7xwLC3S2VkZg k5Csu1H1jyZNmIGaVg12E8UK3BsRJ4z9RkFuU= X-Google-DKIM-Signature: v=1; a=rsa-sha256; c=relaxed/relaxed; d=1e100.net; s=20230601; t=1753243500; x=1753848300; h=references:in-reply-to:cc:to:from:subject:message-id:date :x-gm-message-state:from:to:cc:subject:date:message-id:reply-to; bh=5g5TQ0Q34ANdMD7pTzthM7rSFldShp+3ahxFvPQ3N0k=; b=w2iPHPLJKzJrysRd4HCfqQW1+/SRDqH0O6cGlBonkxZg09QpubojwQ/Tqxjh2JxaeS yaF7VtWtgueUJFEIxfAWzlGz0tn/IjRzSm/XogA7Ao881K8oWUSsRjTTwsN6D2cSjQDx EPzr7iyJEH5FoBdsnq4qKS6RhWde8o/UaW0H5VrI/DOAvn974iBu1mnvKsfklKgQSJ/o sLysWRvSNcL/Gcei/7RBG9piRe5EzuIxAfY07ZoOLmstox7MxZwI8nV1lFF5TM+BhgBl YA2o8F0FfROGmClHU7llb0g0gwqvZD2RoPpmDfjszBQwK8/KbWKrgrEJF+6AQJL+ONnb dAAg== X-Gm-Message-State: AOJu0YwWmRfZpCFu/hzgVVb44ij9UbQYP1cjTqf3G2DjSQ8UEBxIGGZt rDwc9aaD93n0X5fIMkrB0f0OR+xNCmRUz4ZHizUOcdT451xR6aOy/UwYKIvpu3f1pmZBuc8nw78 E44rHtHBv3qtAK/CrYvlgUEeHPmf+KpJibnK7JqqYMeo3rA+/XIF2Oo9WjEU+ X-Gm-Gg: ASbGncs0bZERofbw+GXvP93Ixs4lOGL3o55Q0HWFX3A4lfdGwpuF7f4+A6ELOKkvhjc +c4nFxfjL1rKPAv35tY+3xXWJAWY7KrOzbJweWOJ02UHdvZx73JhNUDgRmfAMFqX4fkJPXQVg48 LGK/TtY/300ToOG0fSks16PrWIg40efxEuf7/3PUmxRt9FEP78K5UTsv3Sw/PhTebX4Sf8pQoIY rV1WKFFqkRLqchXJQG3d6SZCnw2HM2vNx36OPOmRJLlMJgKqy14lGgFQcaLK/J25HiyXjlsNLpi hLQy69+wCRgVAD58aqRNqYe3Rk+318iPvkDJZsf4B8p5RDGbAg== X-Google-Smtp-Source: AGHT+IFdNSpQ+mtaXeuTVL+YPGZ+uHvqOVyI3oJIpE2M/doiR5MbCW9TNkpT+brywsaaa5y+X52vNiV8+r6q X-Received: by 2002:ad4:4ea9:0:b0:6fd:151:a58b with SMTP id 6a1803df08f44-707005422edmr23426486d6.18.1753243499477; Tue, 22 Jul 2025 21:04:59 -0700 (PDT) Received: from postal.iol.unh.edu (postal.iol.unh.edu. [2606:4100:3880:1234::84]) by smtp-relay.gmail.com with ESMTPS id 6a1803df08f44-706ff76613csm560726d6.64.2025.07.22.21.04.59 (version=TLS1_2 cipher=ECDHE-ECDSA-AES128-GCM-SHA256 bits=128/128); Tue, 22 Jul 2025 21:04:59 -0700 (PDT) X-Relaying-Domain: iol.unh.edu Date: Tue, 22 Jul 2025 21:04:59 -0700 (PDT) Message-ID: <68805f6b.050a0220.268588.2fd4SMTPIN_ADDED_MISSING@mx.google.com> Received: from [172.21.0.5] (unknown [172.18.0.240]) by postal.iol.unh.edu (Postfix) with ESMTP id C50E06051830; Wed, 23 Jul 2025 00:04:57 -0400 (EDT) Subject: |SUCCESS| pw155426-155427 [PATCH] [v3,2/2] test/strsep: add tests fo From: dpdklab@iol.unh.edu To: Test Report Cc: dpdk-test-reports@iol.unh.edu In-Reply-To: <1753202334-27615-2-git-send-email-andremue@linux.microsoft.com> References: <1753202334-27615-2-git-send-email-andremue@linux.microsoft.com> Content-Type: text/plain X-BeenThere: test-report@dpdk.org X-Mailman-Version: 2.1.29 Precedence: list List-Id: automatic DPDK test reports List-Unsubscribe: , List-Archive: List-Post: List-Help: List-Subscribe: , Errors-To: test-report-bounces@dpdk.org Test-Label: iol-compile-arm64-testing Test-Status: SUCCESS http://dpdk.org/patch/155427 _Testing PASS_ Submitter: Andre Muezerie Date: Tuesday, July 22 2025 16:38:54 DPDK git baseline: Repo:dpdk Branch: master CommitID:b222395561638f89562e4ef42e1eabf2d6db43dd 155426-155427 --> testing pass Upstream job id: Generic-DPDK-Compile-Meson#411153 Test environment and result as below: +------------------------------+--------------------+ | Environment | dpdk_meson_compile | +==============================+====================+ | Red Hat Enterprise Linux 9.5 | PASS | +------------------------------+--------------------+ | Ubuntu 20.04 | PASS | +------------------------------+--------------------+ | Debian GNU/Linux 12 | PASS | +------------------------------+--------------------+ | Fedora Linux 40 | PASS | +------------------------------+--------------------+ | Fedora Linux 41 | PASS | +------------------------------+--------------------+ | Ubuntu 22.04 | PASS | +------------------------------+--------------------+ | Ubuntu 24.04 | PASS | +------------------------------+--------------------+ | CentOS Stream 9 | PASS | +------------------------------+--------------------+ | CentOS Stream 10 | PASS | +------------------------------+--------------------+ Red Hat Enterprise Linux 9.5 Kernel: 5.4 Compiler: gcc gcc (GCC) 11.5.0 20240719 (Red Hat 11.5.0-2) Ubuntu 20.04 Kernel: 5.15 Compiler: aarch64-linux-gnu-gcc gcc (Ubuntu 9.4.0-1ubuntu1~20.04.2) 9.4.0 Debian GNU/Linux 12 Kernel: 5.4 Compiler: gcc gcc (Debian 12.2.0-14+deb12u1) 12.2.0 Fedora Linux 40 Kernel: 5.4 Compiler: gcc gcc (GCC) 14.2.1 20240912 (Red Hat 14.2.1-3) Fedora Linux 41 Kernel: 5.4 Compiler: gcc gcc (GCC) 14.3.1 20250523 (Red Hat 14.3.1-1) Ubuntu 22.04 Kernel: 5.4 Compiler: gcc gcc (Ubuntu 11.4.0-1ubuntu1~22.04) 11.4.0 Ubuntu 24.04 Kernel: 5.4 Compiler: gcc gcc (Ubuntu 13.3.0-6ubuntu2~24.04) 13.3.0 CentOS Stream 9 Kernel: 5.4 Compiler: gcc gcc (GCC) 11.5.0 20240719 (Red Hat 11.5.0-7) CentOS Stream 10 Kernel: 5.4 Compiler: gcc gcc (GCC) 14.2.1 20250110 (Red Hat 14.2.1-8) To view detailed results, visit: https://lab.dpdk.org/results/dashboard/patchsets/33726/ UNH-IOL DPDK Community Lab To manage your email subscriptions, visit: https://lab.dpdk.org/results/dashboard/preferences/subscriptions/