From mboxrd@z Thu Jan 1 00:00:00 1970 Return-Path: Received: from mails.dpdk.org (mails.dpdk.org [217.70.189.124]) by inbox.dpdk.org (Postfix) with ESMTP id EEE5646BE3 for ; Wed, 23 Jul 2025 06:38:49 +0200 (CEST) Received: from mails.dpdk.org (localhost [127.0.0.1]) by mails.dpdk.org (Postfix) with ESMTP id CEB094026D; Wed, 23 Jul 2025 06:38:49 +0200 (CEST) Received: from mail-qv1-f97.google.com (mail-qv1-f97.google.com [209.85.219.97]) by mails.dpdk.org (Postfix) with ESMTP id C704C4026D for ; Wed, 23 Jul 2025 06:38:47 +0200 (CEST) Received: by mail-qv1-f97.google.com with SMTP id 6a1803df08f44-700c7e4c048so98409876d6.3 for ; Tue, 22 Jul 2025 21:38:47 -0700 (PDT) DKIM-Signature: v=1; a=rsa-sha256; c=relaxed/relaxed; d=iol.unh.edu; s=unh-iol; t=1753245527; x=1753850327; darn=dpdk.org; h=references:in-reply-to:cc:to:from:subject:message-id:date:from:to :cc:subject:date:message-id:reply-to; bh=ODZYD59AhVadJuB/S5N45w+39P8UbdfQkbQprBSB+Jg=; b=TdfmzRYbvrBsbI4eyIjZqawfILk70tGewjyID4bWDvBIZ8bIVY1MZ4MCI4gHhky1g7 tSXtfkqOtX9eCVS5cF75IDg3rIIS/pyI8D2+9jdOtr/JflrablBZVr9LlRR2jzU0vpuC fc+K3SPrH70NUjlpbgM4MpumjPnymen5pyvZ0= X-Google-DKIM-Signature: v=1; a=rsa-sha256; c=relaxed/relaxed; d=1e100.net; s=20230601; t=1753245527; x=1753850327; h=references:in-reply-to:cc:to:from:subject:message-id:date :x-gm-message-state:from:to:cc:subject:date:message-id:reply-to; bh=ODZYD59AhVadJuB/S5N45w+39P8UbdfQkbQprBSB+Jg=; b=ZaYWbUjPWmzGOxKn6FPar1B5/hqreLQLiOa8CsOapHzkpiY8arxCDGqnKILgEQHy/b BKMff9ezmFHbQNjAck8RxtU8VKaxiIdby5/jpqXWeF1FAxCZIYdc4nmCKUnwoAV3Mgwm xeGNKGWaakEjG/WG8lFVYGu/t+/6mvprlVaEZGltm1Op0f18gJCVbXAL6ku0RJ4v7/jN yxQQWIXGw6NkMhx3/4At55yBi3jrNhZu63AXCqUTmHVKSa1lRtbNZnh0ExrxXAqjQnvq sXaPC0nrd59Z/d238XGQ8uwLyyU0cMtYFrKYhj/mAUmAmiNqx7s8iKvpuNYlRUgRhCsy DBUA== X-Gm-Message-State: AOJu0YzUnQcdDSr2O7HH+tTktsoKMmdm85ZjQ0HOijLBIv6jLg4e80SS wvOxNLJtQsPiQObT9usAWpzmqQuWQEcVntCJ+K0sR87z0i9WfXhD2C93cqFV8Qb68CALCqALffT jZi4YmuQ0sUgqq6fi6pvnhBT31Gyb5fExB9NvE+fY9b3e X-Gm-Gg: ASbGncuqhVZ7fxAR84I2wGxnX/ZXhizyGByk3PmtcwyQk4UBWx15JQaWOcH0+bNYhP7 4yn2cLGEuHkD3AIDdJWER9SLN17ZzLFQYKfrQnHU/mnLyD8oM9tQ7unYMnf+mPCaEy9J/KIn3BT bR+yyFLpDGVG05/NTZNx/oKhGDkXYOmDkwOpYSgsvco4GZvPQ/ID6mZf16ZjeRbad+OGXxj12r7 v/OrZMBJ0/cGEZxBlkLifsVd23tucKRAj5TNzvk6Tlr1TNrb8RTaBapC5IGQwzZRIHtsYp2tzHK nqQtGyytnM3d4k950YaOXNpk/dlIoZIo6RKsJUkRuT2uGDZhhe3V4N0Sg9JZMq4zAcpj/GYw X-Google-Smtp-Source: AGHT+IEgUzZKMyUqk0Y+wf6iGfaoSkqAYNOZM8a1v+K+LnazbCC1jpGGjzx4Mp2O0Nysgv7MWFxijxyJFzTv X-Received: by 2002:a05:6214:e81:b0:6fb:17a:c428 with SMTP id 6a1803df08f44-7070062e16emr25663986d6.16.1753245527017; Tue, 22 Jul 2025 21:38:47 -0700 (PDT) Received: from postal.iol.unh.edu (postal.iol.unh.edu. [132.177.123.84]) by smtp-relay.gmail.com with ESMTPS id 6a1803df08f44-706f72cee15sm1108416d6.40.2025.07.22.21.38.46 (version=TLS1_2 cipher=ECDHE-ECDSA-AES128-GCM-SHA256 bits=128/128); Tue, 22 Jul 2025 21:38:47 -0700 (PDT) X-Relaying-Domain: iol.unh.edu Date: Tue, 22 Jul 2025 21:38:47 -0700 (PDT) Message-ID: <68806757.050a0220.32425e.6f5dSMTPIN_ADDED_MISSING@mx.google.com> Received: from [172.21.0.3] (unknown [172.18.0.240]) by postal.iol.unh.edu (Postfix) with ESMTP id B419A6051830; Wed, 23 Jul 2025 00:38:46 -0400 (EDT) Subject: |SUCCESS| pw155431-155432 [PATCH] [v1,2/2] dts: add exception handli From: dpdklab@iol.unh.edu To: Test Report Cc: dpdk-test-reports@iol.unh.edu In-Reply-To: <20250722172214.202308-2-dmarx@iol.unh.edu> References: <20250722172214.202308-2-dmarx@iol.unh.edu> Content-Type: text/plain X-BeenThere: test-report@dpdk.org X-Mailman-Version: 2.1.29 Precedence: list List-Id: automatic DPDK test reports List-Unsubscribe: , List-Archive: List-Post: List-Help: List-Subscribe: , Errors-To: test-report-bounces@dpdk.org Test-Label: iol-unit-arm64-testing Test-Status: SUCCESS http://dpdk.org/patch/155432 _Testing PASS_ Submitter: Dean Marx Date: Tuesday, July 22 2025 17:22:14 DPDK git baseline: Repo:dpdk Branch: master CommitID:f8fb19d5e2fc20798ed0caa292a1538fbbd98f96 155431-155432 --> testing pass Upstream job id: Generic-Unit-Test-DPDK#357451 Test environment and result as below: +------------------------------+----------------+--------------+---------------------------+------------------------------+ | Environment | dpdk_unit_test | lpm_autotest | cryptodev_sw_zuc_autotest | cryptodev_sw_snow3g_autotest | +==============================+================+==============+===========================+==============================+ | Debian GNU/Linux 12 | PASS | SKIPPED | SKIPPED | SKIPPED | +------------------------------+----------------+--------------+---------------------------+------------------------------+ | CentOS Stream 9 | PASS | SKIPPED | SKIPPED | SKIPPED | +------------------------------+----------------+--------------+---------------------------+------------------------------+ | Fedora Linux 41 | PASS | SKIPPED | SKIPPED | SKIPPED | +------------------------------+----------------+--------------+---------------------------+------------------------------+ | CentOS Stream 10 | PASS | SKIPPED | SKIPPED | SKIPPED | +------------------------------+----------------+--------------+---------------------------+------------------------------+ | Ubuntu 24.04 | PASS | SKIPPED | SKIPPED | SKIPPED | +------------------------------+----------------+--------------+---------------------------+------------------------------+ | Fedora Linux 40 | PASS | SKIPPED | SKIPPED | SKIPPED | +------------------------------+----------------+--------------+---------------------------+------------------------------+ | Ubuntu 20.04 | PASS | PASS | SKIPPED | SKIPPED | +------------------------------+----------------+--------------+---------------------------+------------------------------+ | Ubuntu 22.04 | PASS | SKIPPED | SKIPPED | SKIPPED | +------------------------------+----------------+--------------+---------------------------+------------------------------+ | Red Hat Enterprise Linux 9.5 | PASS | SKIPPED | SKIPPED | SKIPPED | +------------------------------+----------------+--------------+---------------------------+------------------------------+ | Debian 12 (arm) | SKIPPED | SKIPPED | PASS | PASS | +------------------------------+----------------+--------------+---------------------------+------------------------------+ Debian GNU/Linux 12 Kernel: 5.4 Compiler: gcc gcc (Debian 12.2.0-14+deb12u1) 12.2.0 CentOS Stream 9 Kernel: 5.4 Compiler: gcc gcc (GCC) 11.5.0 20240719 (Red Hat 11.5.0-7) Fedora Linux 41 Kernel: 5.4 Compiler: gcc gcc (GCC) 14.3.1 20250523 (Red Hat 14.3.1-1) CentOS Stream 10 Kernel: 5.4 Compiler: gcc gcc (GCC) 14.2.1 20250110 (Red Hat 14.2.1-8) Ubuntu 24.04 Kernel: 5.4 Compiler: gcc gcc (Ubuntu 13.3.0-6ubuntu2~24.04) 13.3.0 Fedora Linux 40 Kernel: 5.4 Compiler: clang gcc (GCC) 14.2.1 20240912 (Red Hat 14.2.1-3) Ubuntu 20.04 Kernel: 5.4 Compiler: gcc gcc (Ubuntu 9.4.0-1ubuntu1~20.04.2) 9.4.0 Ubuntu 22.04 Kernel: 5.4 Compiler: gcc gcc (Ubuntu 11.4.0-1ubuntu1~22.04) 11.4.0 Red Hat Enterprise Linux 9.5 Kernel: 5.4 Compiler: gcc gcc (GCC) 11.5.0 20240719 (Red Hat 11.5.0-2) Debian 12 (arm) Kernel: Depends on container host Compiler: gcc (Debian 12.2.0-14) 12.2.0 To view detailed results, visit: https://lab.dpdk.org/results/dashboard/patchsets/33729/ UNH-IOL DPDK Community Lab To manage your email subscriptions, visit: https://lab.dpdk.org/results/dashboard/preferences/subscriptions/