From mboxrd@z Thu Jan 1 00:00:00 1970 Return-Path: Received: from mails.dpdk.org (mails.dpdk.org [217.70.189.124]) by inbox.dpdk.org (Postfix) with ESMTP id DDD4E46BE3 for ; Wed, 23 Jul 2025 07:33:59 +0200 (CEST) Received: from mails.dpdk.org (localhost [127.0.0.1]) by mails.dpdk.org (Postfix) with ESMTP id BE9C5402CA; Wed, 23 Jul 2025 07:33:59 +0200 (CEST) Received: from mail-oo1-f99.google.com (mail-oo1-f99.google.com [209.85.161.99]) by mails.dpdk.org (Postfix) with ESMTP id 118FB402CA for ; Wed, 23 Jul 2025 07:33:58 +0200 (CEST) Received: by mail-oo1-f99.google.com with SMTP id 006d021491bc7-615df2e8c27so1683950eaf.2 for ; Tue, 22 Jul 2025 22:33:57 -0700 (PDT) DKIM-Signature: v=1; a=rsa-sha256; c=relaxed/relaxed; d=iol.unh.edu; s=unh-iol; t=1753248837; x=1753853637; darn=dpdk.org; h=references:in-reply-to:cc:to:from:subject:message-id:date:from:to :cc:subject:date:message-id:reply-to; bh=wKtEFdFUNA/WTJRFcYxJOcnI7rhp0XulKByRSsc1CT8=; b=gjyV7cw8M75eIm3/c5jk70xWzNgIUOp7DH6ilMXz8sXCy873eqxmb6cV+zYcWe09kX sN19uS4NHY5T7fZwGSEdxWCHZcJhEGealUv0j0yy342hn9lbRlHtC+zGVxDhPECu+S1Q apA+uLziGyt2IVRfqa0zeWInewGGTlkZqkAlU= X-Google-DKIM-Signature: v=1; a=rsa-sha256; c=relaxed/relaxed; d=1e100.net; s=20230601; t=1753248837; x=1753853637; h=references:in-reply-to:cc:to:from:subject:message-id:date :x-gm-message-state:from:to:cc:subject:date:message-id:reply-to; bh=wKtEFdFUNA/WTJRFcYxJOcnI7rhp0XulKByRSsc1CT8=; b=oDerGDMjt/a3UoAE98FqCuUZ1UXRNLg4mJDgnet+vcPv4Wrq71124FFJfCs3sI7OfH u8fU931IZmE5LQr8x/fr2xHi3hSLMSaGR0R4OCpzJZUpdTX0q1yyjDj1KeF/RGZ54tXZ WyxlXC9EADkT59c/opmomIbGkDH0rRELlWkU1QSIk1dc1jMROLQXzW6lKFC3oVGloEFN x4NlTPOmmS3TBwHwVNnuE+AYmIfcbdNBekuz8EQdyCnzcalAJREYSUyBvNrzsnapMvcG +whLtjyRVKPUPDIjunyFL5+h+PlZaugCvXEucIqix++uHtUUQkpCpKWI+Zc61ONElSyM RGKw== X-Gm-Message-State: AOJu0Ywm4NsEftrZgLshwWar0kb6WN2UnNeAjwlGNNxmb/9ypf2JvIIC bMY81K1DC8y516ZwFz+QBEGltDueIYdWatA4dv6utUX1AzReGZShQ3gv/XBaGBeWp25vL+tX49T YPWFZITUCTKYpzlewV+ZSUMTJT7Vouhkgm1Ft63MVdFSFc90fWVurfHrLvWib X-Gm-Gg: ASbGncvuQmTaJ1AHBnZV8+AWSwXvDx3z+1zP35j0dA/HgH0Fp48LOtvi+WenXSWyl/m 1U1YyI2natUsh2Wd/2OWJ0ODjfnA3krud0sph4rwrytFJU5orouspyKmTRI8Q6EhnDUAJR1AfUx JpC0fSAWAlNlFm4XzHT4Nvtt00vq2RUWhpUJyJ8xWRQ+QOe6nweJ/+x50r417tRyRCwdmREFLKg 7Uhr1UnfafJ1WRW2t8yFHQkRLVEaex/7wvzsaMndIY0qfgmI8ROzMJpP68AroMc5TdG6wa6ORiK /F8CDJM41vJ4pAXRQOnE3w3eDxkmdRBCpF/mEkQTkGuVHzKFyA== X-Google-Smtp-Source: AGHT+IGGhB5JJuBKcsF3n+xq0ZML6s6KcvVBS7NZyvEpMgKtfNCZ0qLYhSG72Vk9OLB1unsn9eJQIsil1CxW X-Received: by 2002:a05:6870:eca6:b0:302:5dba:5ae1 with SMTP id 586e51a60fabf-306c72a5495mr1301210fac.29.1753248837213; Tue, 22 Jul 2025 22:33:57 -0700 (PDT) Received: from postal.iol.unh.edu (postal.iol.unh.edu. [2606:4100:3880:1234::84]) by smtp-relay.gmail.com with ESMTPS id 586e51a60fabf-30106541603sm860561fac.27.2025.07.22.22.33.57 (version=TLS1_2 cipher=ECDHE-ECDSA-AES128-GCM-SHA256 bits=128/128); Tue, 22 Jul 2025 22:33:57 -0700 (PDT) X-Relaying-Domain: iol.unh.edu Date: Tue, 22 Jul 2025 22:33:57 -0700 (PDT) Message-ID: <68807445.050a0220.253e3a.bd63SMTPIN_ADDED_MISSING@mx.google.com> Received: from [172.21.0.2] (unknown [172.18.0.240]) by postal.iol.unh.edu (Postfix) with ESMTP id B90916051830; Wed, 23 Jul 2025 01:33:56 -0400 (EDT) Subject: |SUCCESS| pw155431-155432 [PATCH] [v1,2/2] dts: add exception handli From: dpdklab@iol.unh.edu To: Test Report Cc: dpdk-test-reports@iol.unh.edu In-Reply-To: <20250722172214.202308-2-dmarx@iol.unh.edu> References: <20250722172214.202308-2-dmarx@iol.unh.edu> Content-Type: text/plain X-BeenThere: test-report@dpdk.org X-Mailman-Version: 2.1.29 Precedence: list List-Id: automatic DPDK test reports List-Unsubscribe: , List-Archive: List-Post: List-Help: List-Subscribe: , Errors-To: test-report-bounces@dpdk.org Test-Label: iol-unit-arm64-testing Test-Status: SUCCESS http://dpdk.org/patch/155432 _Testing PASS_ Submitter: Dean Marx Date: Tuesday, July 22 2025 17:22:14 DPDK git baseline: Repo:dpdk Branch: master CommitID:f8fb19d5e2fc20798ed0caa292a1538fbbd98f96 155431-155432 --> testing pass Upstream job id: Generic-Unit-Test-DPDK#357477 Test environment and result as below: +------------------------------+----------------+---------------------------+--------------+------------------------------+ | Environment | dpdk_unit_test | cryptodev_sw_zuc_autotest | lpm_autotest | cryptodev_sw_snow3g_autotest | +==============================+================+===========================+==============+==============================+ | Fedora Linux 40 | PASS | SKIPPED | SKIPPED | SKIPPED | +------------------------------+----------------+---------------------------+--------------+------------------------------+ | CentOS Stream 9 | PASS | SKIPPED | SKIPPED | SKIPPED | +------------------------------+----------------+---------------------------+--------------+------------------------------+ | Debian GNU/Linux 12 | PASS | SKIPPED | SKIPPED | SKIPPED | +------------------------------+----------------+---------------------------+--------------+------------------------------+ | CentOS Stream 10 | PASS | SKIPPED | SKIPPED | SKIPPED | +------------------------------+----------------+---------------------------+--------------+------------------------------+ | Fedora Linux 41 | PASS | SKIPPED | SKIPPED | SKIPPED | +------------------------------+----------------+---------------------------+--------------+------------------------------+ | Red Hat Enterprise Linux 9.5 | PASS | SKIPPED | SKIPPED | SKIPPED | +------------------------------+----------------+---------------------------+--------------+------------------------------+ | Ubuntu 20.04 | PASS | SKIPPED | PASS | SKIPPED | +------------------------------+----------------+---------------------------+--------------+------------------------------+ | Ubuntu 22.04 | PASS | SKIPPED | SKIPPED | SKIPPED | +------------------------------+----------------+---------------------------+--------------+------------------------------+ | Ubuntu 24.04 | PASS | SKIPPED | SKIPPED | SKIPPED | +------------------------------+----------------+---------------------------+--------------+------------------------------+ | Debian 12 (arm) | SKIPPED | PASS | SKIPPED | PASS | +------------------------------+----------------+---------------------------+--------------+------------------------------+ Fedora Linux 40 Kernel: 5.4 Compiler: clang gcc (GCC) 14.2.1 20240912 (Red Hat 14.2.1-3) CentOS Stream 9 Kernel: 5.4 Compiler: gcc gcc (GCC) 11.5.0 20240719 (Red Hat 11.5.0-7) Debian GNU/Linux 12 Kernel: 5.4 Compiler: gcc gcc (Debian 12.2.0-14+deb12u1) 12.2.0 CentOS Stream 10 Kernel: 5.4 Compiler: gcc gcc (GCC) 14.2.1 20250110 (Red Hat 14.2.1-8) Fedora Linux 41 Kernel: 5.4 Compiler: gcc gcc (GCC) 14.3.1 20250523 (Red Hat 14.3.1-1) Red Hat Enterprise Linux 9.5 Kernel: 5.4 Compiler: gcc gcc (GCC) 11.5.0 20240719 (Red Hat 11.5.0-2) Ubuntu 20.04 Kernel: 5.4 Compiler: gcc gcc (Ubuntu 9.4.0-1ubuntu1~20.04.2) 9.4.0 Ubuntu 22.04 Kernel: 5.4 Compiler: gcc gcc (Ubuntu 11.4.0-1ubuntu1~22.04) 11.4.0 Ubuntu 24.04 Kernel: 5.4 Compiler: gcc gcc (Ubuntu 13.3.0-6ubuntu2~24.04) 13.3.0 Debian 12 (arm) Kernel: Depends on container host Compiler: gcc (Debian 12.2.0-14) 12.2.0 To view detailed results, visit: https://lab.dpdk.org/results/dashboard/patchsets/33729/ UNH-IOL DPDK Community Lab To manage your email subscriptions, visit: https://lab.dpdk.org/results/dashboard/preferences/subscriptions/