From mboxrd@z Thu Jan 1 00:00:00 1970 Return-Path: Received: from mails.dpdk.org (mails.dpdk.org [217.70.189.124]) by inbox.dpdk.org (Postfix) with ESMTP id 0333246BEC for ; Wed, 23 Jul 2025 08:10:20 +0200 (CEST) Received: from mails.dpdk.org (localhost [127.0.0.1]) by mails.dpdk.org (Postfix) with ESMTP id F11EE402CA; Wed, 23 Jul 2025 08:10:19 +0200 (CEST) Received: from mail-pl1-f226.google.com (mail-pl1-f226.google.com [209.85.214.226]) by mails.dpdk.org (Postfix) with ESMTP id D6B90402CA for ; Wed, 23 Jul 2025 08:10:18 +0200 (CEST) Received: by mail-pl1-f226.google.com with SMTP id d9443c01a7336-235f9e87f78so59644665ad.2 for ; Tue, 22 Jul 2025 23:10:18 -0700 (PDT) DKIM-Signature: v=1; a=rsa-sha256; c=relaxed/relaxed; d=iol.unh.edu; s=unh-iol; t=1753251018; x=1753855818; darn=dpdk.org; h=references:in-reply-to:cc:to:from:subject:message-id:date:from:to :cc:subject:date:message-id:reply-to; bh=r9Z9ZAs3UlV2HmiGYq2RdL1Kpi4Nl+b0h6W/7xHzyYw=; b=TEOqab2DLA3iV3czo+SFq4MdmlAvoIsmI1eOe3PT09a4+gpREBuxWsG/HbRBDQ5Wui hEXbC3Vtt/B8j5uSTXCoemdhEFsfDDFvtEdYBbzzYFqPpqgNTHbvZj27EnHs7aUdMXWA Swrj7YTsDN2UPx78XE3wwK4EwaKVc9hAsdlg8= X-Google-DKIM-Signature: v=1; a=rsa-sha256; c=relaxed/relaxed; d=1e100.net; s=20230601; t=1753251018; x=1753855818; h=references:in-reply-to:cc:to:from:subject:message-id:date :x-gm-message-state:from:to:cc:subject:date:message-id:reply-to; bh=r9Z9ZAs3UlV2HmiGYq2RdL1Kpi4Nl+b0h6W/7xHzyYw=; b=CUy+i5sqyclb3yhuyurvJQIAFvWl9T9pJtow3pdQSKmBsYZZNBjeZOiRvh6T6xJaBj ioVQwzK5pBLYGp1/v/HVN8oxlXIOD18SivImwe5v91q36+VCLFl1qNJfJ0ok/jQRDANh 8WROUuzLihI44BkHXEyafqsTH6Z64UQHFkIRiaA9goPFq6YACjAlSUK73RYX4ns8/hxt 1BiJRE40A0JA9MbeB2gZvQllIWZ45cc4j2fXhFli0/RVRtbOt5bVMsvhRcDyOp3b7GqC 9ISckKUbdUf4w713wx+DT4tceft0Y47ymE/riOGiMTdFkBTqRZ4coJLZD8iGg2ANKrAG BQmg== X-Gm-Message-State: AOJu0YyxAtOPT9FDurHVL8KyRbD+YXZCIcJqnQrabTCixZk0/xVcA8P8 Te98lxzgpbUiksv3UHhZtuEi0zTfnzO6fWqCGjDOn2gzNu39wj+I77am010dMI3dtsB+xsFWPCF AyNLPklzX4rGSbtI9mu6kPJriEjJGaeRK5yceiCg+bDT+kuIiT6RvkDZrQPnl X-Gm-Gg: ASbGncuUzvtUUvPhDSLMr5GXsGqH81H1R1cD7OhrV+e09oGFB07ndynmfROVIyw/pTk kO8pq1do4ufhgTDJqLXx015e2j69b40LPFpHfq4EqoEaFQ3JDbN5m3oKs6H3IisrjThNaDmUtUw rajFRH53QiThgQjCswKf8J0BS4oZ7ptdCEcOGHGEfiIWzpYyKDEPal4u6HPzceIa1QB2zVV3+Q+ aF/HUtbghKfhtSgEthwZbVPkt8GO/WzSnEmUV6R2Gb8B7uhjBhT3ERzb6pIWCWkRfP/812rlunX LgmJaCuK3m5gixCtzMHqkKHfgGoN7JICW+vna+qK22qZcwvy6A== X-Google-Smtp-Source: AGHT+IEbyrqFtvDEQGLySjvpZbaosVbxA9Nv3U1TwKHBITf/Ikg7LqMcz12+m6yISGAm9MIeLhlahsu3agqo X-Received: by 2002:a17:903:2acd:b0:234:a139:11fa with SMTP id d9443c01a7336-23f98132910mr24372025ad.3.1753251017935; Tue, 22 Jul 2025 23:10:17 -0700 (PDT) Received: from postal.iol.unh.edu (postal.iol.unh.edu. [2606:4100:3880:1234::84]) by smtp-relay.gmail.com with ESMTPS id d9443c01a7336-23e3b6d8708sm6291225ad.85.2025.07.22.23.10.17 (version=TLS1_2 cipher=ECDHE-ECDSA-AES128-GCM-SHA256 bits=128/128); Tue, 22 Jul 2025 23:10:17 -0700 (PDT) X-Relaying-Domain: iol.unh.edu Date: Tue, 22 Jul 2025 23:10:17 -0700 (PDT) Message-ID: <68807cc9.170a0220.28d846.f5ddSMTPIN_ADDED_MISSING@mx.google.com> Received: from [172.21.0.3] (unknown [172.18.0.240]) by postal.iol.unh.edu (Postfix) with ESMTP id 30EF26051830; Wed, 23 Jul 2025 02:10:17 -0400 (EDT) Subject: |SUCCESS| pw155446 [PATCH] lib/ethdev: fix segfault in secondary pro From: dpdklab@iol.unh.edu To: Test Report Cc: dpdk-test-reports@iol.unh.edu In-Reply-To: <20250723042959.1576338-1-14pwcse1224@uetpeshawar.edu.pk> References: <20250723042959.1576338-1-14pwcse1224@uetpeshawar.edu.pk> Content-Type: text/plain X-BeenThere: test-report@dpdk.org X-Mailman-Version: 2.1.29 Precedence: list List-Id: automatic DPDK test reports List-Unsubscribe: , List-Archive: List-Post: List-Help: List-Subscribe: , Errors-To: test-report-bounces@dpdk.org Test-Label: iol-compile-amd64-testing Test-Status: SUCCESS http://dpdk.org/patch/155446 _Testing PASS_ Submitter: Khadem Ullah <14pwcse1224@uetpeshawar.edu.pk> Date: Wednesday, July 23 2025 04:29:59 DPDK git baseline: Repo:dpdk Branch: master CommitID:b78afde1fed9e11ee5cdce333a1a69dd7a9cf13e 155446 --> testing pass Upstream job id: Windows-Compile-DPDK-Native#29962 Test environment and result as below: +---------------------+--------------------+-------------------+-------------------------+ | Environment | dpdk_meson_compile | dpdk_msvc_compile | dpdk_llvm_clang_compile | +=====================+====================+===================+=========================+ | Ubuntu 20.04 | PASS | SKIPPED | SKIPPED | +---------------------+--------------------+-------------------+-------------------------+ | FreeBSD 14.2 | PASS | SKIPPED | SKIPPED | +---------------------+--------------------+-------------------+-------------------------+ | Windows Server 2022 | SKIPPED | PASS | PASS | +---------------------+--------------------+-------------------+-------------------------+ Ubuntu 20.04 Kernel: 4.19 Compiler: gcc gcc (Ubuntu 9.4.0-1ubuntu1~20.04.2) 9.4.0 FreeBSD 14.2 Kernel: 14.2-RELEASE Compiler: clang 18.1.6 Windows Server 2022 Kernel: 10.0.20348.2031 Compiler: clang 15.0.7, gcc 14.1.0 (MinGW), and MSVC VS 19.39.33521 To view detailed results, visit: https://lab.dpdk.org/results/dashboard/patchsets/33731/ UNH-IOL DPDK Community Lab To manage your email subscriptions, visit: https://lab.dpdk.org/results/dashboard/preferences/subscriptions/