* |SUCCESS| pw155430 [PATCH v1 2/2] dts: add steps and verify sections to docstrings
[not found] <20250722171957.200698-2-dmarx@iol.unh.edu>
@ 2025-07-22 17:18 ` checkpatch
2025-07-22 20:00 ` |SUCCESS| pw155429-155430 [PATCH] [v1,2/2] dts: add steps and verify dpdklab
` (30 subsequent siblings)
31 siblings, 0 replies; 32+ messages in thread
From: checkpatch @ 2025-07-22 17:18 UTC (permalink / raw)
To: test-report
Test-Label: checkpatch
Test-Status: SUCCESS
http://dpdk.org/patch/155430
_coding style OK_
^ permalink raw reply [flat|nested] 32+ messages in thread
* |SUCCESS| pw155429-155430 [PATCH] [v1,2/2] dts: add steps and verify
[not found] <20250722171957.200698-2-dmarx@iol.unh.edu>
2025-07-22 17:18 ` |SUCCESS| pw155430 [PATCH v1 2/2] dts: add steps and verify sections to docstrings checkpatch
@ 2025-07-22 20:00 ` dpdklab
2025-07-22 20:13 ` dpdklab
` (29 subsequent siblings)
31 siblings, 0 replies; 32+ messages in thread
From: dpdklab @ 2025-07-22 20:00 UTC (permalink / raw)
To: Test Report; +Cc: dpdk-test-reports
Test-Label: iol-dts-check-format-testing
Test-Status: SUCCESS
http://dpdk.org/patch/155430
_Testing PASS_
Submitter: Dean Marx <dmarx@iol.unh.edu>
Date: Tuesday, July 22 2025 17:19:57
DPDK git baseline: Repo:dpdk
Branch: master
CommitID:f8fb19d5e2fc20798ed0caa292a1538fbbd98f96
155429-155430 --> testing pass
Upstream job id: DTS-Check-Format-Pipeline#70
Test environment and result as below:
+--------------+------------------+
| Environment | dts-check-format |
+==============+==================+
| Ubuntu 24.04 | PASS |
+--------------+------------------+
Ubuntu 24.04
Kernel: 5.15
Compiler: gcc gcc (Ubuntu 13.3.0-6ubuntu2~24.04) 13.3.0
To view detailed results, visit:
https://lab.dpdk.org/results/dashboard/patchsets/33728/
UNH-IOL DPDK Community Lab
To manage your email subscriptions, visit:
https://lab.dpdk.org/results/dashboard/preferences/subscriptions/
^ permalink raw reply [flat|nested] 32+ messages in thread
* |SUCCESS| pw155429-155430 [PATCH] [v1,2/2] dts: add steps and verify
[not found] <20250722171957.200698-2-dmarx@iol.unh.edu>
2025-07-22 17:18 ` |SUCCESS| pw155430 [PATCH v1 2/2] dts: add steps and verify sections to docstrings checkpatch
2025-07-22 20:00 ` |SUCCESS| pw155429-155430 [PATCH] [v1,2/2] dts: add steps and verify dpdklab
@ 2025-07-22 20:13 ` dpdklab
2025-07-22 20:19 ` dpdklab
` (28 subsequent siblings)
31 siblings, 0 replies; 32+ messages in thread
From: dpdklab @ 2025-07-22 20:13 UTC (permalink / raw)
To: Test Report; +Cc: dpdk-test-reports
Test-Label: iol-marvell-Functional
Test-Status: SUCCESS
http://dpdk.org/patch/155430
_Functional Testing PASS_
Submitter: Dean Marx <dmarx@iol.unh.edu>
Date: Tuesday, July 22 2025 17:19:57
DPDK git baseline: Repo:dpdk
Branch: master
CommitID:f8fb19d5e2fc20798ed0caa292a1538fbbd98f96
155429-155430 --> functional testing pass
Upstream job id: Template-DTS-Pipeline#237763
Test environment and result as below:
Ubuntu 20.04.6
Kernel: 5.4.105
Compiler: gcc 9.4
NIC: Marvell CN106XX 50000 Mbps
Target: arm64-native-linuxapp-gcc
Aggregate Results by Test Suite
+----------------+--------+
| Test Suite | Result |
+================+========+
| cmdline | PASS |
+----------------+--------+
| rxtx_callbacks | PASS |
+----------------+--------+
To view detailed results, visit:
https://lab.dpdk.org/results/dashboard/patchsets/33728/
UNH-IOL DPDK Community Lab
To manage your email subscriptions, visit:
https://lab.dpdk.org/results/dashboard/preferences/subscriptions/
^ permalink raw reply [flat|nested] 32+ messages in thread
* |SUCCESS| pw155429-155430 [PATCH] [v1,2/2] dts: add steps and verify
[not found] <20250722171957.200698-2-dmarx@iol.unh.edu>
` (2 preceding siblings ...)
2025-07-22 20:13 ` dpdklab
@ 2025-07-22 20:19 ` dpdklab
2025-07-22 20:32 ` dpdklab
` (27 subsequent siblings)
31 siblings, 0 replies; 32+ messages in thread
From: dpdklab @ 2025-07-22 20:19 UTC (permalink / raw)
To: Test Report; +Cc: dpdk-test-reports
Test-Label: iol-dts-check-format-testing
Test-Status: SUCCESS
http://dpdk.org/patch/155430
_Testing PASS_
Submitter: Dean Marx <dmarx@iol.unh.edu>
Date: Tuesday, July 22 2025 17:19:57
DPDK git baseline: Repo:dpdk
Branch: master
CommitID:f8fb19d5e2fc20798ed0caa292a1538fbbd98f96
155429-155430 --> testing pass
Upstream job id: DTS-Check-Format-Pipeline#71
Test environment and result as below:
+--------------+------------------+
| Environment | dts-check-format |
+==============+==================+
| Ubuntu 24.04 | PASS |
+--------------+------------------+
Ubuntu 24.04
Kernel: 5.15
Compiler: gcc gcc (Ubuntu 13.3.0-6ubuntu2~24.04) 13.3.0
To view detailed results, visit:
https://lab.dpdk.org/results/dashboard/patchsets/33728/
UNH-IOL DPDK Community Lab
To manage your email subscriptions, visit:
https://lab.dpdk.org/results/dashboard/preferences/subscriptions/
^ permalink raw reply [flat|nested] 32+ messages in thread
* |SUCCESS| pw155429-155430 [PATCH] [v1,2/2] dts: add steps and verify
[not found] <20250722171957.200698-2-dmarx@iol.unh.edu>
` (3 preceding siblings ...)
2025-07-22 20:19 ` dpdklab
@ 2025-07-22 20:32 ` dpdklab
2025-07-22 20:33 ` dpdklab
` (26 subsequent siblings)
31 siblings, 0 replies; 32+ messages in thread
From: dpdklab @ 2025-07-22 20:32 UTC (permalink / raw)
To: Test Report; +Cc: dpdk-test-reports
Test-Label: iol-marvell-Functional
Test-Status: SUCCESS
http://dpdk.org/patch/155430
_Functional Testing PASS_
Submitter: Dean Marx <dmarx@iol.unh.edu>
Date: Tuesday, July 22 2025 17:19:57
DPDK git baseline: Repo:dpdk
Branch: master
CommitID:f8fb19d5e2fc20798ed0caa292a1538fbbd98f96
155429-155430 --> functional testing pass
Upstream job id: Template-DTS-Pipeline#237775
Test environment and result as below:
Ubuntu 20.04.6
Kernel: 5.4.105
Compiler: gcc 9.4
NIC: Marvell CN106XX 50000 Mbps
Target: arm64-native-linuxapp-gcc
Aggregate Results by Test Suite
+----------------+--------+
| Test Suite | Result |
+================+========+
| cmdline | PASS |
+----------------+--------+
| rxtx_callbacks | PASS |
+----------------+--------+
To view detailed results, visit:
https://lab.dpdk.org/results/dashboard/patchsets/33728/
UNH-IOL DPDK Community Lab
To manage your email subscriptions, visit:
https://lab.dpdk.org/results/dashboard/preferences/subscriptions/
^ permalink raw reply [flat|nested] 32+ messages in thread
* |SUCCESS| pw155429-155430 [PATCH] [v1,2/2] dts: add steps and verify
[not found] <20250722171957.200698-2-dmarx@iol.unh.edu>
` (4 preceding siblings ...)
2025-07-22 20:32 ` dpdklab
@ 2025-07-22 20:33 ` dpdklab
2025-07-22 20:39 ` |PENDING| " dpdklab
` (25 subsequent siblings)
31 siblings, 0 replies; 32+ messages in thread
From: dpdklab @ 2025-07-22 20:33 UTC (permalink / raw)
To: Test Report; +Cc: dpdk-test-reports
Test-Label: iol-intel-Functional
Test-Status: SUCCESS
http://dpdk.org/patch/155430
_Functional Testing PASS_
Submitter: Dean Marx <dmarx@iol.unh.edu>
Date: Tuesday, July 22 2025 17:19:57
DPDK git baseline: Repo:dpdk
Branch: master
CommitID:f8fb19d5e2fc20798ed0caa292a1538fbbd98f96
155429-155430 --> functional testing pass
Upstream job id: Template-DTS-Pipeline#237764
Test environment and result as below:
Ubuntu 24.04
Kernel: 6.8
Compiler: gcc gcc (Ubuntu 13.3.0-6ubuntu2~24.04) 13.3.0
NIC: Intel Corporation 4xxx Series QAT 0 Mbps
Aggregate Results by Test Suite
+----------------------------+--------+
| Test Suite | Result |
+============================+========+
| crypto_perf_cryptodev_perf | PASS |
+----------------------------+--------+
To view detailed results, visit:
https://lab.dpdk.org/results/dashboard/patchsets/33728/
UNH-IOL DPDK Community Lab
To manage your email subscriptions, visit:
https://lab.dpdk.org/results/dashboard/preferences/subscriptions/
^ permalink raw reply [flat|nested] 32+ messages in thread
* |PENDING| pw155429-155430 [PATCH] [v1,2/2] dts: add steps and verify
[not found] <20250722171957.200698-2-dmarx@iol.unh.edu>
` (5 preceding siblings ...)
2025-07-22 20:33 ` dpdklab
@ 2025-07-22 20:39 ` dpdklab
2025-07-22 20:39 ` |SUCCESS| " dpdklab
` (24 subsequent siblings)
31 siblings, 0 replies; 32+ messages in thread
From: dpdklab @ 2025-07-22 20:39 UTC (permalink / raw)
To: Test Report; +Cc: dpdk-test-reports
Test-Label: iol-compile-amd64-testing
Test-Status: PENDING
http://dpdk.org/patch/155430
_Testing pending_
Submitter: Dean Marx <dmarx@iol.unh.edu>
Date: Tuesday, July 22 2025 17:19:57
DPDK git baseline: Repo:dpdk
Branch: master
CommitID:f8fb19d5e2fc20798ed0caa292a1538fbbd98f96
155429-155430 --> testing pending
Upstream job id: Generic-VM-DPDK-Compile-Meson#37323
Test environment and result as below:
+--------------+--------------------+
| Environment | dpdk_meson_compile |
+==============+====================+
| Ubuntu 20.04 | PASS |
+--------------+--------------------+
| FreeBSD 14.2 | PEND |
+--------------+--------------------+
Ubuntu 20.04
Kernel: 4.19
Compiler: gcc gcc (Ubuntu 9.4.0-1ubuntu1~20.04.2) 9.4.0
FreeBSD 14.2
Kernel: 14.2-RELEASE
Compiler: clang 18.1.6
To view detailed results, visit:
https://lab.dpdk.org/results/dashboard/patchsets/33728/
UNH-IOL DPDK Community Lab
To manage your email subscriptions, visit:
https://lab.dpdk.org/results/dashboard/preferences/subscriptions/
^ permalink raw reply [flat|nested] 32+ messages in thread
* |SUCCESS| pw155429-155430 [PATCH] [v1,2/2] dts: add steps and verify
[not found] <20250722171957.200698-2-dmarx@iol.unh.edu>
` (6 preceding siblings ...)
2025-07-22 20:39 ` |PENDING| " dpdklab
@ 2025-07-22 20:39 ` dpdklab
2025-07-22 20:45 ` dpdklab
` (23 subsequent siblings)
31 siblings, 0 replies; 32+ messages in thread
From: dpdklab @ 2025-07-22 20:39 UTC (permalink / raw)
To: Ali Alnubani, Test Report; +Cc: dpdk-test-reports
Test-Label: iol-mellanox-Performance
Test-Status: SUCCESS
http://dpdk.org/patch/155430
_Performance Testing PASS_
Submitter: Dean Marx <dmarx@iol.unh.edu>
Date: Tuesday, July 22 2025 17:19:57
DPDK git baseline: Repo:dpdk
Branch: master
CommitID:f8fb19d5e2fc20798ed0caa292a1538fbbd98f96
155429-155430 --> performance testing pass
Upstream job id: Template-DTS-Pipeline#237754
Test environment and result as below:
Ubuntu 24.04
Kernel: 6.8
Compiler: gcc gcc (Ubuntu 13.3.0-6ubuntu2~24.04) 13.3.0
NIC: NVIDIA Mellanox ConnectX-7 100000 Mbps
Fail/Total: 0/6
Detail performance results:
+------------+---------+----------+-------------+------------------------------+
| frame_size | txd/rxd | num_cpus | num_threads | throughput difference from |
| | | | | expected |
+============+=========+==========+=============+==============================+
| 64 | 1024 | 1 | 1 | 1.3% |
+------------+---------+----------+-------------+------------------------------+
| 128 | 1024 | 1 | 1 | 0.8% |
+------------+---------+----------+-------------+------------------------------+
| 256 | 1024 | 1 | 1 | 0.2% |
+------------+---------+----------+-------------+------------------------------+
| 512 | 1024 | 1 | 1 | 0.0% |
+------------+---------+----------+-------------+------------------------------+
| 1024 | 1024 | 1 | 1 | -0.2% |
+------------+---------+----------+-------------+------------------------------+
| 1518 | 1024 | 1 | 1 | 0.1% |
+------------+---------+----------+-------------+------------------------------+
Ubuntu 24.04
Kernel: 6.8
Compiler: gcc gcc (Ubuntu 13.3.0-6ubuntu2~24.04) 13.3.0
NIC: Mellanox ConnectX-6 Lx 25000 Mbps
Fail/Total: 0/6
Detail performance results:
+------------+---------+----------+-------------+------------------------------+
| frame_size | txd/rxd | num_cpus | num_threads | throughput difference from |
| | | | | expected |
+============+=========+==========+=============+==============================+
| 64 | 1024 | 1 | 1 | -0.0% |
+------------+---------+----------+-------------+------------------------------+
| 128 | 1024 | 1 | 1 | 0.1% |
+------------+---------+----------+-------------+------------------------------+
| 256 | 1024 | 1 | 1 | 0.1% |
+------------+---------+----------+-------------+------------------------------+
| 512 | 1024 | 1 | 1 | 0.1% |
+------------+---------+----------+-------------+------------------------------+
| 1024 | 1024 | 1 | 1 | 0.1% |
+------------+---------+----------+-------------+------------------------------+
| 1518 | 1024 | 1 | 1 | 0.1% |
+------------+---------+----------+-------------+------------------------------+
To view detailed results, visit:
https://lab.dpdk.org/results/dashboard/patchsets/33728/
UNH-IOL DPDK Community Lab
To manage your email subscriptions, visit:
https://lab.dpdk.org/results/dashboard/preferences/subscriptions/
^ permalink raw reply [flat|nested] 32+ messages in thread
* |SUCCESS| pw155429-155430 [PATCH] [v1,2/2] dts: add steps and verify
[not found] <20250722171957.200698-2-dmarx@iol.unh.edu>
` (7 preceding siblings ...)
2025-07-22 20:39 ` |SUCCESS| " dpdklab
@ 2025-07-22 20:45 ` dpdklab
2025-07-22 20:49 ` dpdklab
` (22 subsequent siblings)
31 siblings, 0 replies; 32+ messages in thread
From: dpdklab @ 2025-07-22 20:45 UTC (permalink / raw)
To: Test Report; +Cc: dpdk-test-reports
Test-Label: iol-compile-amd64-testing
Test-Status: SUCCESS
http://dpdk.org/patch/155430
_Testing PASS_
Submitter: Dean Marx <dmarx@iol.unh.edu>
Date: Tuesday, July 22 2025 17:19:57
DPDK git baseline: Repo:dpdk
Branch: master
CommitID:f8fb19d5e2fc20798ed0caa292a1538fbbd98f96
155429-155430 --> testing pass
Upstream job id: Generic-VM-DPDK-Compile-Meson#37324
Test environment and result as below:
+--------------+--------------------+
| Environment | dpdk_meson_compile |
+==============+====================+
| Ubuntu 20.04 | PASS |
+--------------+--------------------+
| FreeBSD 14.2 | PASS |
+--------------+--------------------+
Ubuntu 20.04
Kernel: 4.19
Compiler: gcc gcc (Ubuntu 9.4.0-1ubuntu1~20.04.2) 9.4.0
FreeBSD 14.2
Kernel: 14.2-RELEASE
Compiler: clang 18.1.6
To view detailed results, visit:
https://lab.dpdk.org/results/dashboard/patchsets/33728/
UNH-IOL DPDK Community Lab
To manage your email subscriptions, visit:
https://lab.dpdk.org/results/dashboard/preferences/subscriptions/
^ permalink raw reply [flat|nested] 32+ messages in thread
* |SUCCESS| pw155429-155430 [PATCH] [v1,2/2] dts: add steps and verify
[not found] <20250722171957.200698-2-dmarx@iol.unh.edu>
` (8 preceding siblings ...)
2025-07-22 20:45 ` dpdklab
@ 2025-07-22 20:49 ` dpdklab
2025-07-22 21:06 ` dpdklab
` (21 subsequent siblings)
31 siblings, 0 replies; 32+ messages in thread
From: dpdklab @ 2025-07-22 20:49 UTC (permalink / raw)
To: Test Report; +Cc: dpdk-test-reports
Test-Label: iol-intel-Functional
Test-Status: SUCCESS
http://dpdk.org/patch/155430
_Functional Testing PASS_
Submitter: Dean Marx <dmarx@iol.unh.edu>
Date: Tuesday, July 22 2025 17:19:57
DPDK git baseline: Repo:dpdk
Branch: master
CommitID:f8fb19d5e2fc20798ed0caa292a1538fbbd98f96
155429-155430 --> functional testing pass
Upstream job id: Template-DTS-Pipeline#237776
Test environment and result as below:
Ubuntu 24.04
Kernel: 6.8
Compiler: gcc gcc (Ubuntu 13.3.0-6ubuntu2~24.04) 13.3.0
NIC: Intel Corporation 4xxx Series QAT 0 Mbps
Aggregate Results by Test Suite
+----------------------------+--------+
| Test Suite | Result |
+============================+========+
| crypto_perf_cryptodev_perf | PASS |
+----------------------------+--------+
To view detailed results, visit:
https://lab.dpdk.org/results/dashboard/patchsets/33728/
UNH-IOL DPDK Community Lab
To manage your email subscriptions, visit:
https://lab.dpdk.org/results/dashboard/preferences/subscriptions/
^ permalink raw reply [flat|nested] 32+ messages in thread
* |SUCCESS| pw155429-155430 [PATCH] [v1,2/2] dts: add steps and verify
[not found] <20250722171957.200698-2-dmarx@iol.unh.edu>
` (9 preceding siblings ...)
2025-07-22 20:49 ` dpdklab
@ 2025-07-22 21:06 ` dpdklab
2025-07-22 21:18 ` |PENDING| " dpdklab
` (20 subsequent siblings)
31 siblings, 0 replies; 32+ messages in thread
From: dpdklab @ 2025-07-22 21:06 UTC (permalink / raw)
To: Ali Alnubani, Test Report; +Cc: dpdk-test-reports
Test-Label: iol-mellanox-Performance
Test-Status: SUCCESS
http://dpdk.org/patch/155430
_Performance Testing PASS_
Submitter: Dean Marx <dmarx@iol.unh.edu>
Date: Tuesday, July 22 2025 17:19:57
DPDK git baseline: Repo:dpdk
Branch: master
CommitID:f8fb19d5e2fc20798ed0caa292a1538fbbd98f96
155429-155430 --> performance testing pass
Upstream job id: Template-DTS-Pipeline#237766
Test environment and result as below:
Ubuntu 24.04
Kernel: 6.8
Compiler: gcc gcc (Ubuntu 13.3.0-6ubuntu2~24.04) 13.3.0
NIC: NVIDIA Mellanox ConnectX-7 100000 Mbps
Fail/Total: 0/6
Detail performance results:
+------------+---------+----------+-------------+------------------------------+
| frame_size | txd/rxd | num_cpus | num_threads | throughput difference from |
| | | | | expected |
+============+=========+==========+=============+==============================+
| 64 | 1024 | 1 | 1 | 0.8% |
+------------+---------+----------+-------------+------------------------------+
| 128 | 1024 | 1 | 1 | -0.4% |
+------------+---------+----------+-------------+------------------------------+
| 256 | 1024 | 1 | 1 | 0.2% |
+------------+---------+----------+-------------+------------------------------+
| 512 | 1024 | 1 | 1 | 0.1% |
+------------+---------+----------+-------------+------------------------------+
| 1024 | 1024 | 1 | 1 | -0.2% |
+------------+---------+----------+-------------+------------------------------+
| 1518 | 1024 | 1 | 1 | 0.1% |
+------------+---------+----------+-------------+------------------------------+
Ubuntu 24.04
Kernel: 6.8
Compiler: gcc gcc (Ubuntu 13.3.0-6ubuntu2~24.04) 13.3.0
NIC: Mellanox ConnectX-6 Lx 25000 Mbps
Fail/Total: 0/6
Detail performance results:
+------------+---------+----------+-------------+------------------------------+
| frame_size | txd/rxd | num_cpus | num_threads | throughput difference from |
| | | | | expected |
+============+=========+==========+=============+==============================+
| 64 | 1024 | 1 | 1 | 0.1% |
+------------+---------+----------+-------------+------------------------------+
| 128 | 1024 | 1 | 1 | 0.2% |
+------------+---------+----------+-------------+------------------------------+
| 256 | 1024 | 1 | 1 | 0.2% |
+------------+---------+----------+-------------+------------------------------+
| 512 | 1024 | 1 | 1 | -0.2% |
+------------+---------+----------+-------------+------------------------------+
| 1024 | 1024 | 1 | 1 | -0.0% |
+------------+---------+----------+-------------+------------------------------+
| 1518 | 1024 | 1 | 1 | -0.1% |
+------------+---------+----------+-------------+------------------------------+
To view detailed results, visit:
https://lab.dpdk.org/results/dashboard/patchsets/33728/
UNH-IOL DPDK Community Lab
To manage your email subscriptions, visit:
https://lab.dpdk.org/results/dashboard/preferences/subscriptions/
^ permalink raw reply [flat|nested] 32+ messages in thread
* |PENDING| pw155429-155430 [PATCH] [v1,2/2] dts: add steps and verify
[not found] <20250722171957.200698-2-dmarx@iol.unh.edu>
` (10 preceding siblings ...)
2025-07-22 21:06 ` dpdklab
@ 2025-07-22 21:18 ` dpdklab
2025-07-22 21:21 ` |SUCCESS| " dpdklab
` (19 subsequent siblings)
31 siblings, 0 replies; 32+ messages in thread
From: dpdklab @ 2025-07-22 21:18 UTC (permalink / raw)
To: Test Report; +Cc: dpdk-test-reports
Test-Label: iol-unit-arm64-testing
Test-Status: PENDING
http://dpdk.org/patch/155430
_Testing pending_
Submitter: Dean Marx <dmarx@iol.unh.edu>
Date: Tuesday, July 22 2025 17:19:57
DPDK git baseline: Repo:dpdk
Branch: master
CommitID:f8fb19d5e2fc20798ed0caa292a1538fbbd98f96
155429-155430 --> testing pending
Upstream job id: Aarch32-Unit-Test#7006
Test environment and result as below:
+------------------------------+----------------+--------------+------------------------------+---------------------------+
| Environment | dpdk_unit_test | lpm_autotest | cryptodev_sw_snow3g_autotest | cryptodev_sw_zuc_autotest |
+==============================+================+==============+==============================+===========================+
| Fedora Linux 40 | PEND | SKIPPED | SKIPPED | SKIPPED |
+------------------------------+----------------+--------------+------------------------------+---------------------------+
| Debian GNU/Linux 12 | PEND | SKIPPED | SKIPPED | SKIPPED |
+------------------------------+----------------+--------------+------------------------------+---------------------------+
| CentOS Stream 9 | PEND | SKIPPED | SKIPPED | SKIPPED |
+------------------------------+----------------+--------------+------------------------------+---------------------------+
| Fedora Linux 41 | PEND | SKIPPED | SKIPPED | SKIPPED |
+------------------------------+----------------+--------------+------------------------------+---------------------------+
| Ubuntu 20.04 | PEND | PEND | SKIPPED | SKIPPED |
+------------------------------+----------------+--------------+------------------------------+---------------------------+
| Red Hat Enterprise Linux 9.5 | PEND | SKIPPED | SKIPPED | SKIPPED |
+------------------------------+----------------+--------------+------------------------------+---------------------------+
| CentOS Stream 10 | PEND | SKIPPED | SKIPPED | SKIPPED |
+------------------------------+----------------+--------------+------------------------------+---------------------------+
| Ubuntu 22.04 | PASS | SKIPPED | SKIPPED | SKIPPED |
+------------------------------+----------------+--------------+------------------------------+---------------------------+
| Ubuntu 24.04 | PEND | SKIPPED | SKIPPED | SKIPPED |
+------------------------------+----------------+--------------+------------------------------+---------------------------+
| Debian 12 (arm) | SKIPPED | SKIPPED | PEND | PEND |
+------------------------------+----------------+--------------+------------------------------+---------------------------+
Fedora Linux 40
Kernel: 5.4
Compiler: clang gcc (GCC) 14.2.1 20240912 (Red Hat 14.2.1-3)
Debian GNU/Linux 12
Kernel: 5.4
Compiler: gcc gcc (Debian 12.2.0-14+deb12u1) 12.2.0
CentOS Stream 9
Kernel: 5.4
Compiler: gcc gcc (GCC) 11.5.0 20240719 (Red Hat 11.5.0-7)
Fedora Linux 41
Kernel: 5.4
Compiler: gcc gcc (GCC) 14.3.1 20250523 (Red Hat 14.3.1-1)
Ubuntu 20.04
Kernel: 5.4
Compiler: gcc gcc (Ubuntu 9.4.0-1ubuntu1~20.04.2) 9.4.0
Red Hat Enterprise Linux 9.5
Kernel: 5.4
Compiler: gcc gcc (GCC) 11.5.0 20240719 (Red Hat 11.5.0-2)
CentOS Stream 10
Kernel: 5.4
Compiler: gcc gcc (GCC) 14.2.1 20250110 (Red Hat 14.2.1-8)
Ubuntu 22.04
Kernel: 5.4
Compiler: gcc gcc (Ubuntu 11.4.0-1ubuntu1~22.04) 11.4.0
Ubuntu 24.04
Kernel: 5.4
Compiler: gcc gcc (Ubuntu 13.3.0-6ubuntu2~24.04) 13.3.0
Debian 12 (arm)
Kernel: Depends on container host
Compiler: gcc (Debian 12.2.0-14) 12.2.0
To view detailed results, visit:
https://lab.dpdk.org/results/dashboard/patchsets/33728/
UNH-IOL DPDK Community Lab
To manage your email subscriptions, visit:
https://lab.dpdk.org/results/dashboard/preferences/subscriptions/
^ permalink raw reply [flat|nested] 32+ messages in thread
* |SUCCESS| pw155429-155430 [PATCH] [v1,2/2] dts: add steps and verify
[not found] <20250722171957.200698-2-dmarx@iol.unh.edu>
` (11 preceding siblings ...)
2025-07-22 21:18 ` |PENDING| " dpdklab
@ 2025-07-22 21:21 ` dpdklab
2025-07-22 21:22 ` dpdklab
` (18 subsequent siblings)
31 siblings, 0 replies; 32+ messages in thread
From: dpdklab @ 2025-07-22 21:21 UTC (permalink / raw)
To: Test Report; +Cc: dpdk-test-reports
Test-Label: iol-intel-Performance
Test-Status: SUCCESS
http://dpdk.org/patch/155430
_Performance Testing PASS_
Submitter: Dean Marx <dmarx@iol.unh.edu>
Date: Tuesday, July 22 2025 17:19:57
DPDK git baseline: Repo:dpdk
Branch: master
CommitID:f8fb19d5e2fc20798ed0caa292a1538fbbd98f96
155429-155430 --> performance testing pass
Upstream job id: Template-DTS-Pipeline#237756
Test environment and result as below:
Ubuntu 22.04
Kernel: 5.15
Compiler: gcc gcc (Ubuntu 11.4.0-1ubuntu1~22.04) 11.4.0
NIC: Intel E810 100000 Mbps
Fail/Total: 0/2
Detail performance results:
+------------+---------+----------+-------------+------------------------------+
| frame_size | txd/rxd | num_cpus | num_threads | throughput difference from |
| | | | | expected |
+============+=========+==========+=============+==============================+
| 64 | 512 | 1 | 1 | 1.3% |
+------------+---------+----------+-------------+------------------------------+
| 64 | 2048 | 1 | 1 | 1.4% |
+------------+---------+----------+-------------+------------------------------+
Ubuntu 20.04
Kernel: 5.4
Compiler: gcc gcc (Ubuntu 9.4.0-1ubuntu1~20.04.1) 9.4.0
NIC: Intel Corporation Ethernet Converged Network Adapter XL710-QDA2 40000 Mbps
Fail/Total: 0/4
Detail performance results:
+----------+-------------+---------+------------+------------------------------+
| num_cpus | num_threads | txd/rxd | frame_size | throughput difference from |
| | | | | expected |
+==========+=============+=========+============+==============================+
| 1 | 2 | 512 | 64 | -0.2% |
+----------+-------------+---------+------------+------------------------------+
| 1 | 2 | 2048 | 64 | 1.6% |
+----------+-------------+---------+------------+------------------------------+
| 1 | 1 | 512 | 64 | 2.2% |
+----------+-------------+---------+------------+------------------------------+
| 1 | 1 | 2048 | 64 | 0.4% |
+----------+-------------+---------+------------+------------------------------+
Ubuntu 24.04
Kernel: 6.8
Compiler: gcc gcc (Ubuntu 13.3.0-6ubuntu2~24.04) 13.3.0
NIC: Intel E810 (Arm Grace Server) 100000 Mbps
Fail/Total: 0/2
Detail performance results:
+------------+---------+----------+-------------+------------------------------+
| frame_size | txd/rxd | num_cpus | num_threads | throughput difference from |
| | | | | expected |
+============+=========+==========+=============+==============================+
| 64 | 512 | 1 | 1 | -0.5% |
+------------+---------+----------+-------------+------------------------------+
| 64 | 2048 | 1 | 1 | 0.1% |
+------------+---------+----------+-------------+------------------------------+
To view detailed results, visit:
https://lab.dpdk.org/results/dashboard/patchsets/33728/
UNH-IOL DPDK Community Lab
To manage your email subscriptions, visit:
https://lab.dpdk.org/results/dashboard/preferences/subscriptions/
^ permalink raw reply [flat|nested] 32+ messages in thread
* |SUCCESS| pw155429-155430 [PATCH] [v1,2/2] dts: add steps and verify
[not found] <20250722171957.200698-2-dmarx@iol.unh.edu>
` (12 preceding siblings ...)
2025-07-22 21:21 ` |SUCCESS| " dpdklab
@ 2025-07-22 21:22 ` dpdklab
2025-07-22 21:22 ` dpdklab
` (17 subsequent siblings)
31 siblings, 0 replies; 32+ messages in thread
From: dpdklab @ 2025-07-22 21:22 UTC (permalink / raw)
To: Test Report; +Cc: dpdk-test-reports
Test-Label: iol-intel-Functional
Test-Status: SUCCESS
http://dpdk.org/patch/155430
_Functional Testing PASS_
Submitter: Dean Marx <dmarx@iol.unh.edu>
Date: Tuesday, July 22 2025 17:19:57
DPDK git baseline: Repo:dpdk
Branch: master
CommitID:f8fb19d5e2fc20798ed0caa292a1538fbbd98f96
155429-155430 --> functional testing pass
Upstream job id: Template-DTS-Pipeline#237760
Test environment and result as below:
Ubuntu 24.04
Kernel: 6.8
Compiler: gcc gcc (Ubuntu 13.3.0-6ubuntu2~24.04) 13.3.0
NIC: Intel Corporation 4xxx Series QAT 0 Mbps
Aggregate Results by Test Suite
+----------------------------+--------+
| Test Suite | Result |
+============================+========+
| crypto_perf_cryptodev_perf | PASS |
+----------------------------+--------+
Ubuntu 20.04
Kernel: 5.4
Compiler: gcc gcc (Ubuntu 9.4.0-1ubuntu1~20.04.1) 9.4.0
NIC: Intel Corporation Ethernet Converged Network Adapter XL710-QDA2 40000 Mbps
Aggregate Results by Test Suite
+-----------------------------+--------+
| Test Suite | Result |
+=============================+========+
| unit_tests_mbuf | PASS |
+-----------------------------+--------+
| vhost_virtio_user_interrupt | PASS |
+-----------------------------+--------+
| virtio_smoke | PASS |
+-----------------------------+--------+
To view detailed results, visit:
https://lab.dpdk.org/results/dashboard/patchsets/33728/
UNH-IOL DPDK Community Lab
To manage your email subscriptions, visit:
https://lab.dpdk.org/results/dashboard/preferences/subscriptions/
^ permalink raw reply [flat|nested] 32+ messages in thread
* |SUCCESS| pw155429-155430 [PATCH] [v1,2/2] dts: add steps and verify
[not found] <20250722171957.200698-2-dmarx@iol.unh.edu>
` (13 preceding siblings ...)
2025-07-22 21:22 ` dpdklab
@ 2025-07-22 21:22 ` dpdklab
2025-07-22 21:46 ` dpdklab
` (16 subsequent siblings)
31 siblings, 0 replies; 32+ messages in thread
From: dpdklab @ 2025-07-22 21:22 UTC (permalink / raw)
To: Test Report; +Cc: dpdk-test-reports
Test-Label: iol-intel-Functional
Test-Status: SUCCESS
http://dpdk.org/patch/155430
_Functional Testing PASS_
Submitter: Dean Marx <dmarx@iol.unh.edu>
Date: Tuesday, July 22 2025 17:19:57
DPDK git baseline: Repo:dpdk
Branch: master
CommitID:f8fb19d5e2fc20798ed0caa292a1538fbbd98f96
155429-155430 --> functional testing pass
Upstream job id: Template-DTS-Pipeline#237772
Test environment and result as below:
Ubuntu 24.04
Kernel: 6.8
Compiler: gcc gcc (Ubuntu 13.3.0-6ubuntu2~24.04) 13.3.0
NIC: Intel Corporation 4xxx Series QAT 0 Mbps
Aggregate Results by Test Suite
+----------------------------+--------+
| Test Suite | Result |
+============================+========+
| crypto_perf_cryptodev_perf | PASS |
+----------------------------+--------+
Ubuntu 20.04
Kernel: 5.4
Compiler: gcc gcc (Ubuntu 9.4.0-1ubuntu1~20.04.1) 9.4.0
NIC: Intel Corporation Ethernet Converged Network Adapter XL710-QDA2 40000 Mbps
Aggregate Results by Test Suite
+-----------------------------+--------+
| Test Suite | Result |
+=============================+========+
| unit_tests_mbuf | PASS |
+-----------------------------+--------+
| vhost_virtio_user_interrupt | PASS |
+-----------------------------+--------+
| virtio_smoke | PASS |
+-----------------------------+--------+
To view detailed results, visit:
https://lab.dpdk.org/results/dashboard/patchsets/33728/
UNH-IOL DPDK Community Lab
To manage your email subscriptions, visit:
https://lab.dpdk.org/results/dashboard/preferences/subscriptions/
^ permalink raw reply [flat|nested] 32+ messages in thread
* |SUCCESS| pw155429-155430 [PATCH] [v1,2/2] dts: add steps and verify
[not found] <20250722171957.200698-2-dmarx@iol.unh.edu>
` (14 preceding siblings ...)
2025-07-22 21:22 ` dpdklab
@ 2025-07-22 21:46 ` dpdklab
2025-07-22 21:51 ` dpdklab
` (15 subsequent siblings)
31 siblings, 0 replies; 32+ messages in thread
From: dpdklab @ 2025-07-22 21:46 UTC (permalink / raw)
To: Test Report; +Cc: dpdk-test-reports
Test-Label: iol-compile-amd64-testing
Test-Status: SUCCESS
http://dpdk.org/patch/155430
_Testing PASS_
Submitter: Dean Marx <dmarx@iol.unh.edu>
Date: Tuesday, July 22 2025 17:19:57
DPDK git baseline: Repo:dpdk
Branch: master
CommitID:f8fb19d5e2fc20798ed0caa292a1538fbbd98f96
155429-155430 --> testing pass
Upstream job id: Windows-Compile-DPDK-Native#29954
Test environment and result as below:
+---------------------+--------------------+-------------------+-------------------------+
| Environment | dpdk_meson_compile | dpdk_msvc_compile | dpdk_llvm_clang_compile |
+=====================+====================+===================+=========================+
| Ubuntu 20.04 | PASS | SKIPPED | SKIPPED |
+---------------------+--------------------+-------------------+-------------------------+
| FreeBSD 14.2 | PASS | SKIPPED | SKIPPED |
+---------------------+--------------------+-------------------+-------------------------+
| Windows Server 2022 | SKIPPED | PASS | PASS |
+---------------------+--------------------+-------------------+-------------------------+
Ubuntu 20.04
Kernel: 4.19
Compiler: gcc gcc (Ubuntu 9.4.0-1ubuntu1~20.04.2) 9.4.0
FreeBSD 14.2
Kernel: 14.2-RELEASE
Compiler: clang 18.1.6
Windows Server 2022
Kernel: 10.0.20348.2031
Compiler: clang 15.0.7, gcc 14.1.0 (MinGW), and MSVC VS 19.39.33521
To view detailed results, visit:
https://lab.dpdk.org/results/dashboard/patchsets/33728/
UNH-IOL DPDK Community Lab
To manage your email subscriptions, visit:
https://lab.dpdk.org/results/dashboard/preferences/subscriptions/
^ permalink raw reply [flat|nested] 32+ messages in thread
* |SUCCESS| pw155429-155430 [PATCH] [v1,2/2] dts: add steps and verify
[not found] <20250722171957.200698-2-dmarx@iol.unh.edu>
` (15 preceding siblings ...)
2025-07-22 21:46 ` dpdklab
@ 2025-07-22 21:51 ` dpdklab
2025-07-22 22:18 ` dpdklab
` (14 subsequent siblings)
31 siblings, 0 replies; 32+ messages in thread
From: dpdklab @ 2025-07-22 21:51 UTC (permalink / raw)
To: Test Report; +Cc: dpdk-test-reports
Test-Label: iol-compile-amd64-testing
Test-Status: SUCCESS
http://dpdk.org/patch/155430
_Testing PASS_
Submitter: Dean Marx <dmarx@iol.unh.edu>
Date: Tuesday, July 22 2025 17:19:57
DPDK git baseline: Repo:dpdk
Branch: master
CommitID:f8fb19d5e2fc20798ed0caa292a1538fbbd98f96
155429-155430 --> testing pass
Upstream job id: Windows-Compile-DPDK-Native#29955
Test environment and result as below:
+---------------------+--------------------+-------------------+-------------------------+----------------------+
| Environment | dpdk_meson_compile | dpdk_msvc_compile | dpdk_llvm_clang_compile | dpdk_mingw64_compile |
+=====================+====================+===================+=========================+======================+
| Ubuntu 20.04 | PASS | SKIPPED | SKIPPED | SKIPPED |
+---------------------+--------------------+-------------------+-------------------------+----------------------+
| FreeBSD 14.2 | PASS | SKIPPED | SKIPPED | SKIPPED |
+---------------------+--------------------+-------------------+-------------------------+----------------------+
| Windows Server 2022 | SKIPPED | PASS | PASS | PASS |
+---------------------+--------------------+-------------------+-------------------------+----------------------+
Ubuntu 20.04
Kernel: 4.19
Compiler: gcc gcc (Ubuntu 9.4.0-1ubuntu1~20.04.2) 9.4.0
FreeBSD 14.2
Kernel: 14.2-RELEASE
Compiler: clang 18.1.6
Windows Server 2022
Kernel: 10.0.20348.2031
Compiler: clang 15.0.7, gcc 14.1.0 (MinGW), and MSVC VS 19.39.33521
To view detailed results, visit:
https://lab.dpdk.org/results/dashboard/patchsets/33728/
UNH-IOL DPDK Community Lab
To manage your email subscriptions, visit:
https://lab.dpdk.org/results/dashboard/preferences/subscriptions/
^ permalink raw reply [flat|nested] 32+ messages in thread
* |SUCCESS| pw155429-155430 [PATCH] [v1,2/2] dts: add steps and verify
[not found] <20250722171957.200698-2-dmarx@iol.unh.edu>
` (16 preceding siblings ...)
2025-07-22 21:51 ` dpdklab
@ 2025-07-22 22:18 ` dpdklab
2025-07-22 22:42 ` dpdklab
` (13 subsequent siblings)
31 siblings, 0 replies; 32+ messages in thread
From: dpdklab @ 2025-07-22 22:18 UTC (permalink / raw)
To: Test Report; +Cc: dpdk-test-reports
Test-Label: iol-broadcom-Performance
Test-Status: SUCCESS
http://dpdk.org/patch/155430
_Performance Testing PASS_
Submitter: Dean Marx <dmarx@iol.unh.edu>
Date: Tuesday, July 22 2025 17:19:57
DPDK git baseline: Repo:dpdk
Branch: master
CommitID:f8fb19d5e2fc20798ed0caa292a1538fbbd98f96
155429-155430 --> performance testing pass
Upstream job id: Template-DTS-Pipeline#237758
Test environment and result as below:
Ubuntu 22.04
Kernel: 5.15
Compiler: gcc gcc (Ubuntu 11.4.0-1ubuntu1~22.04) 11.4.0
NIC: Broadcom Inc. and subsidiaries BCM57414 NetXtreme-E 10Gb/25Gb RDMA Ethernet Controller 16d7 25 Mbps
Fail/Total: 0/3
Detail performance results:
+------------+---------+----------+-------------+------------------------------+
| frame_size | txd/rxd | num_cpus | num_threads | throughput difference from |
| | | | | expected |
+============+=========+==========+=============+==============================+
| 64 | 128 | 1 | 1 | 0.1% |
+------------+---------+----------+-------------+------------------------------+
| 64 | 512 | 1 | 1 | 0.7% |
+------------+---------+----------+-------------+------------------------------+
| 64 | 2048 | 1 | 1 | -0.2% |
+------------+---------+----------+-------------+------------------------------+
Ubuntu 22.04
Kernel: 5.15
Compiler: gcc gcc (Ubuntu 11.4.0-1ubuntu1~22.04) 11.4.0
NIC: Arm Broadcom Inc. brcm_57414 25000 Mbps
Fail/Total: 0/2
Detail performance results:
+------------+---------+----------+-------------+------------------------------+
| frame_size | txd/rxd | num_cpus | num_threads | throughput difference from |
| | | | | expected |
+============+=========+==========+=============+==============================+
| 64 | 512 | 1 | 1 | -0.0% |
+------------+---------+----------+-------------+------------------------------+
| 64 | 2048 | 1 | 1 | 0.1% |
+------------+---------+----------+-------------+------------------------------+
To view detailed results, visit:
https://lab.dpdk.org/results/dashboard/patchsets/33728/
UNH-IOL DPDK Community Lab
To manage your email subscriptions, visit:
https://lab.dpdk.org/results/dashboard/preferences/subscriptions/
^ permalink raw reply [flat|nested] 32+ messages in thread
* |SUCCESS| pw155429-155430 [PATCH] [v1,2/2] dts: add steps and verify
[not found] <20250722171957.200698-2-dmarx@iol.unh.edu>
` (17 preceding siblings ...)
2025-07-22 22:18 ` dpdklab
@ 2025-07-22 22:42 ` dpdklab
2025-07-22 22:51 ` dpdklab
` (12 subsequent siblings)
31 siblings, 0 replies; 32+ messages in thread
From: dpdklab @ 2025-07-22 22:42 UTC (permalink / raw)
To: Test Report; +Cc: dpdk-test-reports
Test-Label: iol-intel-Functional
Test-Status: SUCCESS
http://dpdk.org/patch/155430
_Functional Testing PASS_
Submitter: Dean Marx <dmarx@iol.unh.edu>
Date: Tuesday, July 22 2025 17:19:57
DPDK git baseline: Repo:dpdk
Branch: master
CommitID:f8fb19d5e2fc20798ed0caa292a1538fbbd98f96
155429-155430 --> functional testing pass
Upstream job id: Template-DTS-Pipeline#237762
Test environment and result as below:
Ubuntu 24.04
Kernel: 6.8
Compiler: gcc gcc (Ubuntu 13.3.0-6ubuntu2~24.04) 13.3.0
NIC: Intel Corporation 4xxx Series QAT 0 Mbps
Aggregate Results by Test Suite
+----------------------------+--------+
| Test Suite | Result |
+============================+========+
| crypto_perf_cryptodev_perf | PASS |
+----------------------------+--------+
Ubuntu 22.04
Kernel: 5.15
Compiler: gcc gcc (Ubuntu 11.4.0-1ubuntu1~22.04) 11.4.0
NIC: Intel Corporation QAT 8970 0 Mbps
Aggregate Results by Test Suite
+----------------------------+--------+
| Test Suite | Result |
+============================+========+
| crypto_perf_cryptodev_perf | PASS |
+----------------------------+--------+
Ubuntu 20.04
Kernel: 5.4
Compiler: gcc gcc (Ubuntu 9.4.0-1ubuntu1~20.04.1) 9.4.0
NIC: Intel Corporation Ethernet Converged Network Adapter XL710-QDA2 40000 Mbps
Aggregate Results by Test Suite
+-----------------------------+--------+
| Test Suite | Result |
+=============================+========+
| unit_tests_mbuf | PASS |
+-----------------------------+--------+
| vhost_virtio_user_interrupt | PASS |
+-----------------------------+--------+
| virtio_smoke | PASS |
+-----------------------------+--------+
To view detailed results, visit:
https://lab.dpdk.org/results/dashboard/patchsets/33728/
UNH-IOL DPDK Community Lab
To manage your email subscriptions, visit:
https://lab.dpdk.org/results/dashboard/preferences/subscriptions/
^ permalink raw reply [flat|nested] 32+ messages in thread
* |SUCCESS| pw155429-155430 [PATCH] [v1,2/2] dts: add steps and verify
[not found] <20250722171957.200698-2-dmarx@iol.unh.edu>
` (18 preceding siblings ...)
2025-07-22 22:42 ` dpdklab
@ 2025-07-22 22:51 ` dpdklab
2025-07-22 22:59 ` |PENDING| " dpdklab
` (11 subsequent siblings)
31 siblings, 0 replies; 32+ messages in thread
From: dpdklab @ 2025-07-22 22:51 UTC (permalink / raw)
To: Test Report; +Cc: dpdk-test-reports
Test-Label: iol-broadcom-Performance
Test-Status: SUCCESS
http://dpdk.org/patch/155430
_Performance Testing PASS_
Submitter: Dean Marx <dmarx@iol.unh.edu>
Date: Tuesday, July 22 2025 17:19:57
DPDK git baseline: Repo:dpdk
Branch: master
CommitID:f8fb19d5e2fc20798ed0caa292a1538fbbd98f96
155429-155430 --> performance testing pass
Upstream job id: Template-DTS-Pipeline#237770
Test environment and result as below:
Ubuntu 22.04
Kernel: 5.15
Compiler: gcc gcc (Ubuntu 11.4.0-1ubuntu1~22.04) 11.4.0
NIC: Arm Broadcom Inc. brcm_57414 25000 Mbps
Fail/Total: 0/2
Detail performance results:
+------------+---------+----------+-------------+------------------------------+
| frame_size | txd/rxd | num_cpus | num_threads | throughput difference from |
| | | | | expected |
+============+=========+==========+=============+==============================+
| 64 | 512 | 1 | 1 | 0.0% |
+------------+---------+----------+-------------+------------------------------+
| 64 | 2048 | 1 | 1 | 0.2% |
+------------+---------+----------+-------------+------------------------------+
Ubuntu 22.04
Kernel: 5.15
Compiler: gcc gcc (Ubuntu 11.4.0-1ubuntu1~22.04) 11.4.0
NIC: Broadcom Inc. and subsidiaries BCM57414 NetXtreme-E 10Gb/25Gb RDMA Ethernet Controller 16d7 25 Mbps
Fail/Total: 0/3
Detail performance results:
+------------+---------+----------+-------------+------------------------------+
| frame_size | txd/rxd | num_cpus | num_threads | throughput difference from |
| | | | | expected |
+============+=========+==========+=============+==============================+
| 64 | 128 | 1 | 1 | -0.2% |
+------------+---------+----------+-------------+------------------------------+
| 64 | 512 | 1 | 1 | 0.2% |
+------------+---------+----------+-------------+------------------------------+
| 64 | 2048 | 1 | 1 | -0.6% |
+------------+---------+----------+-------------+------------------------------+
To view detailed results, visit:
https://lab.dpdk.org/results/dashboard/patchsets/33728/
UNH-IOL DPDK Community Lab
To manage your email subscriptions, visit:
https://lab.dpdk.org/results/dashboard/preferences/subscriptions/
^ permalink raw reply [flat|nested] 32+ messages in thread
* |PENDING| pw155429-155430 [PATCH] [v1,2/2] dts: add steps and verify
[not found] <20250722171957.200698-2-dmarx@iol.unh.edu>
` (19 preceding siblings ...)
2025-07-22 22:51 ` dpdklab
@ 2025-07-22 22:59 ` dpdklab
2025-07-22 23:14 ` |SUCCESS| " dpdklab
` (10 subsequent siblings)
31 siblings, 0 replies; 32+ messages in thread
From: dpdklab @ 2025-07-22 22:59 UTC (permalink / raw)
To: Test Report; +Cc: dpdk-test-reports
Test-Label: iol-unit-amd64-testing
Test-Status: PENDING
http://dpdk.org/patch/155430
_Testing pending_
Submitter: Dean Marx <dmarx@iol.unh.edu>
Date: Tuesday, July 22 2025 17:19:57
DPDK git baseline: Repo:dpdk
Branch: master
CommitID:f8fb19d5e2fc20798ed0caa292a1538fbbd98f96
155429-155430 --> testing pending
Upstream job id: Generic-VM-Unit-Test-DPDK#30114
Test environment and result as below:
+-------------------------------+----------------+
| Environment | dpdk_unit_test |
+===============================+================+
| CentOS Stream 10 | PEND |
+-------------------------------+----------------+
| Debian GNU/Linux 12 | PEND |
+-------------------------------+----------------+
| CentOS Stream 9 | PEND |
+-------------------------------+----------------+
| Fedora Linux 40 | PEND |
+-------------------------------+----------------+
| Red Hat Enterprise Linux 9.5 | PEND |
+-------------------------------+----------------+
| Fedora Linux 41 | PEND |
+-------------------------------+----------------+
| Red Hat Enterprise Linux 8.10 | PEND |
+-------------------------------+----------------+
| Ubuntu 20.04 | PEND |
+-------------------------------+----------------+
| Ubuntu 22.04 | PEND |
+-------------------------------+----------------+
| Ubuntu 24.04 | PEND |
+-------------------------------+----------------+
| Windows Server 2022 | PASS |
+-------------------------------+----------------+
CentOS Stream 10
Kernel: 5.15
Compiler: gcc gcc (GCC) 14.2.1 20250110 (Red Hat 14.2.1-8)
Debian GNU/Linux 12
Kernel: 5.15
Compiler: gcc gcc (Debian 12.2.0-14+deb12u1) 12.2.0
CentOS Stream 9
Kernel: 5.15
Compiler: gcc gcc (GCC) 11.5.0 20240719 (Red Hat 11.5.0-7)
Fedora Linux 40
Kernel: 5.15
Compiler: gcc gcc (GCC) 14.2.1 20240912 (Red Hat 14.2.1-3)
Red Hat Enterprise Linux 9.5
Kernel: 5.15
Compiler: gcc gcc (GCC) 11.5.0 20240719 (Red Hat 11.5.0-2)
Fedora Linux 41
Kernel: 5.15
Compiler: clang gcc (GCC) 14.3.1 20250523 (Red Hat 14.3.1-1)
Red Hat Enterprise Linux 8.10
Kernel: 5.15
Compiler: gcc gcc (GCC) 8.5.0 20210514 (Red Hat 8.5.0-22)
Ubuntu 20.04
Kernel: 5.15
Compiler: gcc gcc (Ubuntu 9.4.0-1ubuntu1~20.04.2) 9.4.0
Ubuntu 22.04
Kernel: 5.15
Compiler: gcc gcc (Ubuntu 11.4.0-1ubuntu1~22.04) 11.4.0
Ubuntu 24.04
Kernel: 5.15
Compiler: gcc gcc (Ubuntu 13.3.0-6ubuntu2~24.04) 13.3.0
Windows Server 2022
Kernel: 10.0.20348.2031
Compiler: clang 15.0.7, gcc 14.1.0 (MinGW), and MSVC VS 19.39.33521
To view detailed results, visit:
https://lab.dpdk.org/results/dashboard/patchsets/33728/
UNH-IOL DPDK Community Lab
To manage your email subscriptions, visit:
https://lab.dpdk.org/results/dashboard/preferences/subscriptions/
^ permalink raw reply [flat|nested] 32+ messages in thread
* |SUCCESS| pw155429-155430 [PATCH] [v1,2/2] dts: add steps and verify
[not found] <20250722171957.200698-2-dmarx@iol.unh.edu>
` (20 preceding siblings ...)
2025-07-22 22:59 ` |PENDING| " dpdklab
@ 2025-07-22 23:14 ` dpdklab
2025-07-22 23:48 ` |PENDING| " dpdklab
` (9 subsequent siblings)
31 siblings, 0 replies; 32+ messages in thread
From: dpdklab @ 2025-07-22 23:14 UTC (permalink / raw)
To: Test Report; +Cc: dpdk-test-reports
Test-Label: iol-intel-Functional
Test-Status: SUCCESS
http://dpdk.org/patch/155430
_Functional Testing PASS_
Submitter: Dean Marx <dmarx@iol.unh.edu>
Date: Tuesday, July 22 2025 17:19:57
DPDK git baseline: Repo:dpdk
Branch: master
CommitID:f8fb19d5e2fc20798ed0caa292a1538fbbd98f96
155429-155430 --> functional testing pass
Upstream job id: Template-DTS-Pipeline#237774
Test environment and result as below:
Ubuntu 24.04
Kernel: 6.8
Compiler: gcc gcc (Ubuntu 13.3.0-6ubuntu2~24.04) 13.3.0
NIC: Intel Corporation 4xxx Series QAT 0 Mbps
Aggregate Results by Test Suite
+----------------------------+--------+
| Test Suite | Result |
+============================+========+
| crypto_perf_cryptodev_perf | PASS |
+----------------------------+--------+
Ubuntu 22.04
Kernel: 5.15
Compiler: gcc gcc (Ubuntu 11.4.0-1ubuntu1~22.04) 11.4.0
NIC: Intel Corporation QAT 8970 0 Mbps
Aggregate Results by Test Suite
+----------------------------+--------+
| Test Suite | Result |
+============================+========+
| crypto_perf_cryptodev_perf | PASS |
+----------------------------+--------+
Ubuntu 20.04
Kernel: 5.4
Compiler: gcc gcc (Ubuntu 9.4.0-1ubuntu1~20.04.1) 9.4.0
NIC: Intel Corporation Ethernet Converged Network Adapter XL710-QDA2 40000 Mbps
Aggregate Results by Test Suite
+-----------------------------+--------+
| Test Suite | Result |
+=============================+========+
| unit_tests_mbuf | PASS |
+-----------------------------+--------+
| vhost_virtio_user_interrupt | PASS |
+-----------------------------+--------+
| virtio_smoke | PASS |
+-----------------------------+--------+
To view detailed results, visit:
https://lab.dpdk.org/results/dashboard/patchsets/33728/
UNH-IOL DPDK Community Lab
To manage your email subscriptions, visit:
https://lab.dpdk.org/results/dashboard/preferences/subscriptions/
^ permalink raw reply [flat|nested] 32+ messages in thread
* |PENDING| pw155429-155430 [PATCH] [v1,2/2] dts: add steps and verify
[not found] <20250722171957.200698-2-dmarx@iol.unh.edu>
` (21 preceding siblings ...)
2025-07-22 23:14 ` |SUCCESS| " dpdklab
@ 2025-07-22 23:48 ` dpdklab
2025-07-22 23:53 ` |SUCCESS| " dpdklab
` (8 subsequent siblings)
31 siblings, 0 replies; 32+ messages in thread
From: dpdklab @ 2025-07-22 23:48 UTC (permalink / raw)
To: Test Report; +Cc: dpdk-test-reports
Test-Label: iol-abi-testing
Test-Status: PENDING
http://dpdk.org/patch/155430
_Testing pending_
Submitter: Dean Marx <dmarx@iol.unh.edu>
Date: Tuesday, July 22 2025 17:19:57
DPDK git baseline: Repo:dpdk
Branch: master
CommitID:f8fb19d5e2fc20798ed0caa292a1538fbbd98f96
155429-155430 --> testing pending
Upstream job id: Generic-DPDK-Compile-ABI#135375
Test environment and result as below:
+-------------------------------+----------+
| Environment | abi_test |
+===============================+==========+
| CentOS Stream 9 | PEND |
+-------------------------------+----------+
| CentOS Stream 10 | PEND |
+-------------------------------+----------+
| Debian GNU/Linux 12 | PEND |
+-------------------------------+----------+
| Fedora Linux 40 | PEND |
+-------------------------------+----------+
| Fedora Linux 41 | PEND |
+-------------------------------+----------+
| openSUSE Leap 15.6 | PEND |
+-------------------------------+----------+
| Red Hat Enterprise Linux 8.10 | PEND |
+-------------------------------+----------+
| Red Hat Enterprise Linux 9.5 | PASS |
+-------------------------------+----------+
| Ubuntu 22.04 | PEND |
+-------------------------------+----------+
| Ubuntu 24.04 | PEND |
+-------------------------------+----------+
CentOS Stream 9
Kernel: 5.15
Compiler: gcc gcc (GCC) 11.5.0 20240719 (Red Hat 11.5.0-7)
CentOS Stream 10
Kernel: 5.15
Compiler: gcc gcc (GCC) 14.2.1 20250110 (Red Hat 14.2.1-8)
Debian GNU/Linux 12
Kernel: 5.15
Compiler: gcc gcc (Debian 12.2.0-14+deb12u1) 12.2.0
Fedora Linux 40
Kernel: 5.15
Compiler: clang gcc (GCC) 14.2.1 20240912 (Red Hat 14.2.1-3)
Fedora Linux 41
Kernel: 5.15
Compiler: clang gcc (GCC) 14.3.1 20250523 (Red Hat 14.3.1-1)
openSUSE Leap 15.6
Kernel: 5.15
Compiler: gcc gcc (SUSE Linux) 7.5.0
Red Hat Enterprise Linux 8.10
Kernel: 5.15
Compiler: gcc gcc (GCC) 8.5.0 20210514 (Red Hat 8.5.0-22)
Red Hat Enterprise Linux 9.5
Kernel: 5.15
Compiler: gcc gcc (GCC) 11.5.0 20240719 (Red Hat 11.5.0-2)
Ubuntu 22.04
Kernel: 5.15
Compiler: gcc gcc (Ubuntu 11.4.0-1ubuntu1~22.04) 11.4.0
Ubuntu 24.04
Kernel: 5.15
Compiler: gcc gcc (Ubuntu 13.3.0-6ubuntu2~24.04) 13.3.0
To view detailed results, visit:
https://lab.dpdk.org/results/dashboard/patchsets/33728/
UNH-IOL DPDK Community Lab
To manage your email subscriptions, visit:
https://lab.dpdk.org/results/dashboard/preferences/subscriptions/
^ permalink raw reply [flat|nested] 32+ messages in thread
* |SUCCESS| pw155429-155430 [PATCH] [v1,2/2] dts: add steps and verify
[not found] <20250722171957.200698-2-dmarx@iol.unh.edu>
` (22 preceding siblings ...)
2025-07-22 23:48 ` |PENDING| " dpdklab
@ 2025-07-22 23:53 ` dpdklab
2025-07-23 0:15 ` dpdklab
` (7 subsequent siblings)
31 siblings, 0 replies; 32+ messages in thread
From: dpdklab @ 2025-07-22 23:53 UTC (permalink / raw)
To: Test Report; +Cc: dpdk-test-reports
Test-Label: iol-unit-amd64-testing
Test-Status: SUCCESS
http://dpdk.org/patch/155430
_Testing PASS_
Submitter: Dean Marx <dmarx@iol.unh.edu>
Date: Tuesday, July 22 2025 17:19:57
DPDK git baseline: Repo:dpdk
Branch: master
CommitID:f8fb19d5e2fc20798ed0caa292a1538fbbd98f96
155429-155430 --> testing pass
Upstream job id: Generic-Unit-Test-DPDK#357511
Test environment and result as below:
+-------------------------------+----------------+
| Environment | dpdk_unit_test |
+===============================+================+
| CentOS Stream 10 | PASS |
+-------------------------------+----------------+
| Debian GNU/Linux 12 | PASS |
+-------------------------------+----------------+
| CentOS Stream 9 | PASS |
+-------------------------------+----------------+
| Fedora Linux 40 | PASS |
+-------------------------------+----------------+
| Red Hat Enterprise Linux 9.5 | PASS |
+-------------------------------+----------------+
| Fedora Linux 41 | PASS |
+-------------------------------+----------------+
| Red Hat Enterprise Linux 8.10 | PASS |
+-------------------------------+----------------+
| Ubuntu 20.04 | PASS |
+-------------------------------+----------------+
| Ubuntu 22.04 | PASS |
+-------------------------------+----------------+
| Ubuntu 24.04 | PASS |
+-------------------------------+----------------+
| Windows Server 2022 | PASS |
+-------------------------------+----------------+
CentOS Stream 10
Kernel: 5.15
Compiler: gcc gcc (GCC) 14.2.1 20250110 (Red Hat 14.2.1-8)
Debian GNU/Linux 12
Kernel: 5.15
Compiler: gcc gcc (Debian 12.2.0-14+deb12u1) 12.2.0
CentOS Stream 9
Kernel: 5.15
Compiler: gcc gcc (GCC) 11.5.0 20240719 (Red Hat 11.5.0-7)
Fedora Linux 40
Kernel: 5.15
Compiler: gcc gcc (GCC) 14.2.1 20240912 (Red Hat 14.2.1-3)
Red Hat Enterprise Linux 9.5
Kernel: 5.15
Compiler: gcc gcc (GCC) 11.5.0 20240719 (Red Hat 11.5.0-2)
Fedora Linux 41
Kernel: 5.15
Compiler: clang gcc (GCC) 14.3.1 20250523 (Red Hat 14.3.1-1)
Red Hat Enterprise Linux 8.10
Kernel: 5.15
Compiler: gcc gcc (GCC) 8.5.0 20210514 (Red Hat 8.5.0-22)
Ubuntu 20.04
Kernel: 5.15
Compiler: gcc gcc (Ubuntu 9.4.0-1ubuntu1~20.04.2) 9.4.0
Ubuntu 22.04
Kernel: 5.15
Compiler: gcc gcc (Ubuntu 11.4.0-1ubuntu1~22.04) 11.4.0
Ubuntu 24.04
Kernel: 5.15
Compiler: gcc gcc (Ubuntu 13.3.0-6ubuntu2~24.04) 13.3.0
Windows Server 2022
Kernel: 10.0.20348.2031
Compiler: clang 15.0.7, gcc 14.1.0 (MinGW), and MSVC VS 19.39.33521
To view detailed results, visit:
https://lab.dpdk.org/results/dashboard/patchsets/33728/
UNH-IOL DPDK Community Lab
To manage your email subscriptions, visit:
https://lab.dpdk.org/results/dashboard/preferences/subscriptions/
^ permalink raw reply [flat|nested] 32+ messages in thread
* |SUCCESS| pw155429-155430 [PATCH] [v1,2/2] dts: add steps and verify
[not found] <20250722171957.200698-2-dmarx@iol.unh.edu>
` (23 preceding siblings ...)
2025-07-22 23:53 ` |SUCCESS| " dpdklab
@ 2025-07-23 0:15 ` dpdklab
2025-07-23 0:15 ` dpdklab
` (6 subsequent siblings)
31 siblings, 0 replies; 32+ messages in thread
From: dpdklab @ 2025-07-23 0:15 UTC (permalink / raw)
To: Test Report; +Cc: dpdk-test-reports
Test-Label: iol-abi-testing
Test-Status: SUCCESS
http://dpdk.org/patch/155430
_Testing PASS_
Submitter: Dean Marx <dmarx@iol.unh.edu>
Date: Tuesday, July 22 2025 17:19:57
DPDK git baseline: Repo:dpdk
Branch: master
CommitID:f8fb19d5e2fc20798ed0caa292a1538fbbd98f96
155429-155430 --> testing pass
Upstream job id: Generic-DPDK-Compile-ABI#135363
Test environment and result as below:
+-------------------------------+----------+
| Environment | abi_test |
+===============================+==========+
| Fedora Linux 40 | PASS |
+-------------------------------+----------+
| CentOS Stream 10 | PASS |
+-------------------------------+----------+
| Debian GNU/Linux 12 | PASS |
+-------------------------------+----------+
| CentOS Stream 9 | PASS |
+-------------------------------+----------+
| openSUSE Leap 15.6 | PASS |
+-------------------------------+----------+
| Ubuntu 24.04 | PASS |
+-------------------------------+----------+
| Red Hat Enterprise Linux 8.10 | PASS |
+-------------------------------+----------+
| Fedora Linux 41 | PASS |
+-------------------------------+----------+
| Red Hat Enterprise Linux 9.5 | PASS |
+-------------------------------+----------+
| Ubuntu 22.04 | PASS |
+-------------------------------+----------+
Fedora Linux 40
Kernel: 5.15
Compiler: clang gcc (GCC) 14.2.1 20240912 (Red Hat 14.2.1-3)
CentOS Stream 10
Kernel: 5.15
Compiler: gcc gcc (GCC) 14.2.1 20250110 (Red Hat 14.2.1-8)
Debian GNU/Linux 12
Kernel: 5.15
Compiler: gcc gcc (Debian 12.2.0-14+deb12u1) 12.2.0
CentOS Stream 9
Kernel: 5.15
Compiler: gcc gcc (GCC) 11.5.0 20240719 (Red Hat 11.5.0-7)
openSUSE Leap 15.6
Kernel: 5.15
Compiler: gcc gcc (SUSE Linux) 7.5.0
Ubuntu 24.04
Kernel: 5.15
Compiler: gcc gcc (Ubuntu 13.3.0-6ubuntu2~24.04) 13.3.0
Red Hat Enterprise Linux 8.10
Kernel: 5.15
Compiler: gcc gcc (GCC) 8.5.0 20210514 (Red Hat 8.5.0-22)
Fedora Linux 41
Kernel: 5.15
Compiler: gcc gcc (GCC) 14.3.1 20250523 (Red Hat 14.3.1-1)
Red Hat Enterprise Linux 9.5
Kernel: 5.15
Compiler: gcc gcc (GCC) 11.5.0 20240719 (Red Hat 11.5.0-2)
Ubuntu 22.04
Kernel: 5.15
Compiler: gcc gcc (Ubuntu 11.4.0-1ubuntu1~22.04) 11.4.0
To view detailed results, visit:
https://lab.dpdk.org/results/dashboard/patchsets/33728/
UNH-IOL DPDK Community Lab
To manage your email subscriptions, visit:
https://lab.dpdk.org/results/dashboard/preferences/subscriptions/
^ permalink raw reply [flat|nested] 32+ messages in thread
* |SUCCESS| pw155429-155430 [PATCH] [v1,2/2] dts: add steps and verify
[not found] <20250722171957.200698-2-dmarx@iol.unh.edu>
` (24 preceding siblings ...)
2025-07-23 0:15 ` dpdklab
@ 2025-07-23 0:15 ` dpdklab
2025-07-23 1:08 ` dpdklab
` (5 subsequent siblings)
31 siblings, 0 replies; 32+ messages in thread
From: dpdklab @ 2025-07-23 0:15 UTC (permalink / raw)
To: Test Report; +Cc: dpdk-test-reports
Test-Label: iol-unit-amd64-testing
Test-Status: SUCCESS
http://dpdk.org/patch/155430
_Testing PASS_
Submitter: Dean Marx <dmarx@iol.unh.edu>
Date: Tuesday, July 22 2025 17:19:57
DPDK git baseline: Repo:dpdk
Branch: master
CommitID:f8fb19d5e2fc20798ed0caa292a1538fbbd98f96
155429-155430 --> testing pass
Upstream job id: Generic-VM-Unit-Test-DPDK#30115
Test environment and result as below:
+-------------------------------+----------------+
| Environment | dpdk_unit_test |
+===============================+================+
| CentOS Stream 10 | PASS |
+-------------------------------+----------------+
| Debian GNU/Linux 12 | PASS |
+-------------------------------+----------------+
| CentOS Stream 9 | PASS |
+-------------------------------+----------------+
| Fedora Linux 40 | PASS |
+-------------------------------+----------------+
| Red Hat Enterprise Linux 9.5 | PASS |
+-------------------------------+----------------+
| Fedora Linux 41 | PASS |
+-------------------------------+----------------+
| Red Hat Enterprise Linux 8.10 | PASS |
+-------------------------------+----------------+
| Ubuntu 20.04 | PASS |
+-------------------------------+----------------+
| Ubuntu 22.04 | PASS |
+-------------------------------+----------------+
| Ubuntu 24.04 | PASS |
+-------------------------------+----------------+
| Windows Server 2022 | PASS |
+-------------------------------+----------------+
CentOS Stream 10
Kernel: 5.15
Compiler: gcc gcc (GCC) 14.2.1 20250110 (Red Hat 14.2.1-8)
Debian GNU/Linux 12
Kernel: 5.15
Compiler: gcc gcc (Debian 12.2.0-14+deb12u1) 12.2.0
CentOS Stream 9
Kernel: 5.15
Compiler: gcc gcc (GCC) 11.5.0 20240719 (Red Hat 11.5.0-7)
Fedora Linux 40
Kernel: 5.15
Compiler: gcc gcc (GCC) 14.2.1 20240912 (Red Hat 14.2.1-3)
Red Hat Enterprise Linux 9.5
Kernel: 5.15
Compiler: gcc gcc (GCC) 11.5.0 20240719 (Red Hat 11.5.0-2)
Fedora Linux 41
Kernel: 5.15
Compiler: clang gcc (GCC) 14.3.1 20250523 (Red Hat 14.3.1-1)
Red Hat Enterprise Linux 8.10
Kernel: 5.15
Compiler: gcc gcc (GCC) 8.5.0 20210514 (Red Hat 8.5.0-22)
Ubuntu 20.04
Kernel: 5.15
Compiler: gcc gcc (Ubuntu 9.4.0-1ubuntu1~20.04.2) 9.4.0
Ubuntu 22.04
Kernel: 5.15
Compiler: gcc gcc (Ubuntu 11.4.0-1ubuntu1~22.04) 11.4.0
Ubuntu 24.04
Kernel: 5.15
Compiler: gcc gcc (Ubuntu 13.3.0-6ubuntu2~24.04) 13.3.0
Windows Server 2022
Kernel: 10.0.20348.2031
Compiler: clang 15.0.7, gcc 14.1.0 (MinGW), and MSVC VS 19.39.33521
To view detailed results, visit:
https://lab.dpdk.org/results/dashboard/patchsets/33728/
UNH-IOL DPDK Community Lab
To manage your email subscriptions, visit:
https://lab.dpdk.org/results/dashboard/preferences/subscriptions/
^ permalink raw reply [flat|nested] 32+ messages in thread
* |SUCCESS| pw155429-155430 [PATCH] [v1,2/2] dts: add steps and verify
[not found] <20250722171957.200698-2-dmarx@iol.unh.edu>
` (25 preceding siblings ...)
2025-07-23 0:15 ` dpdklab
@ 2025-07-23 1:08 ` dpdklab
2025-07-23 1:46 ` dpdklab
` (4 subsequent siblings)
31 siblings, 0 replies; 32+ messages in thread
From: dpdklab @ 2025-07-23 1:08 UTC (permalink / raw)
To: Test Report; +Cc: dpdk-test-reports
Test-Label: iol-abi-testing
Test-Status: SUCCESS
http://dpdk.org/patch/155430
_Testing PASS_
Submitter: Dean Marx <dmarx@iol.unh.edu>
Date: Tuesday, July 22 2025 17:19:57
DPDK git baseline: Repo:dpdk
Branch: master
CommitID:f8fb19d5e2fc20798ed0caa292a1538fbbd98f96
155429-155430 --> testing pass
Upstream job id: Generic-DPDK-Compile-ABI#135376
Test environment and result as below:
+-------------------------------+----------+
| Environment | abi_test |
+===============================+==========+
| CentOS Stream 9 | PASS |
+-------------------------------+----------+
| CentOS Stream 10 | PASS |
+-------------------------------+----------+
| Debian GNU/Linux 12 | PASS |
+-------------------------------+----------+
| Fedora Linux 40 | PASS |
+-------------------------------+----------+
| Fedora Linux 41 | PASS |
+-------------------------------+----------+
| openSUSE Leap 15.6 | PASS |
+-------------------------------+----------+
| Red Hat Enterprise Linux 8.10 | PASS |
+-------------------------------+----------+
| Red Hat Enterprise Linux 9.5 | PASS |
+-------------------------------+----------+
| Ubuntu 22.04 | PASS |
+-------------------------------+----------+
| Ubuntu 24.04 | PASS |
+-------------------------------+----------+
CentOS Stream 9
Kernel: 5.15
Compiler: gcc gcc (GCC) 11.5.0 20240719 (Red Hat 11.5.0-7)
CentOS Stream 10
Kernel: 5.15
Compiler: gcc gcc (GCC) 14.2.1 20250110 (Red Hat 14.2.1-8)
Debian GNU/Linux 12
Kernel: 5.15
Compiler: gcc gcc (Debian 12.2.0-14+deb12u1) 12.2.0
Fedora Linux 40
Kernel: 5.15
Compiler: clang gcc (GCC) 14.2.1 20240912 (Red Hat 14.2.1-3)
Fedora Linux 41
Kernel: 5.15
Compiler: clang gcc (GCC) 14.3.1 20250523 (Red Hat 14.3.1-1)
openSUSE Leap 15.6
Kernel: 5.15
Compiler: gcc gcc (SUSE Linux) 7.5.0
Red Hat Enterprise Linux 8.10
Kernel: 5.15
Compiler: gcc gcc (GCC) 8.5.0 20210514 (Red Hat 8.5.0-22)
Red Hat Enterprise Linux 9.5
Kernel: 5.15
Compiler: gcc gcc (GCC) 11.5.0 20240719 (Red Hat 11.5.0-2)
Ubuntu 22.04
Kernel: 5.15
Compiler: gcc gcc (Ubuntu 11.4.0-1ubuntu1~22.04) 11.4.0
Ubuntu 24.04
Kernel: 5.15
Compiler: gcc gcc (Ubuntu 13.3.0-6ubuntu2~24.04) 13.3.0
To view detailed results, visit:
https://lab.dpdk.org/results/dashboard/patchsets/33728/
UNH-IOL DPDK Community Lab
To manage your email subscriptions, visit:
https://lab.dpdk.org/results/dashboard/preferences/subscriptions/
^ permalink raw reply [flat|nested] 32+ messages in thread
* |SUCCESS| pw155429-155430 [PATCH] [v1,2/2] dts: add steps and verify
[not found] <20250722171957.200698-2-dmarx@iol.unh.edu>
` (26 preceding siblings ...)
2025-07-23 1:08 ` dpdklab
@ 2025-07-23 1:46 ` dpdklab
2025-07-23 4:52 ` dpdklab
` (3 subsequent siblings)
31 siblings, 0 replies; 32+ messages in thread
From: dpdklab @ 2025-07-23 1:46 UTC (permalink / raw)
To: Test Report; +Cc: dpdk-test-reports
Test-Label: iol-compile-amd64-testing
Test-Status: SUCCESS
http://dpdk.org/patch/155430
_Testing PASS_
Submitter: Dean Marx <dmarx@iol.unh.edu>
Date: Tuesday, July 22 2025 17:19:57
DPDK git baseline: Repo:dpdk
Branch: master
CommitID:f8fb19d5e2fc20798ed0caa292a1538fbbd98f96
155429-155430 --> testing pass
Upstream job id: Generic-DPDK-Compile-Meson#411275
Test environment and result as below:
+-------------------------------+--------------------+-------------------+-------------------------+----------------------+-------------------+------------------+
| Environment | dpdk_meson_compile | dpdk_msvc_compile | dpdk_llvm_clang_compile | dpdk_mingw64_compile | dpdk_compile_spdk | dpdk_compile_ovs |
+===============================+====================+===================+=========================+======================+===================+==================+
| Ubuntu 20.04 | PASS | SKIPPED | SKIPPED | SKIPPED | SKIPPED | SKIPPED |
+-------------------------------+--------------------+-------------------+-------------------------+----------------------+-------------------+------------------+
| FreeBSD 14.2 | PASS | SKIPPED | SKIPPED | SKIPPED | SKIPPED | SKIPPED |
+-------------------------------+--------------------+-------------------+-------------------------+----------------------+-------------------+------------------+
| CentOS Stream 9 | PASS | SKIPPED | SKIPPED | SKIPPED | PASS | SKIPPED |
+-------------------------------+--------------------+-------------------+-------------------------+----------------------+-------------------+------------------+
| CentOS Stream 10 | PASS | SKIPPED | SKIPPED | SKIPPED | SKIPPED | SKIPPED |
+-------------------------------+--------------------+-------------------+-------------------------+----------------------+-------------------+------------------+
| Debian GNU/Linux 12 | PASS | SKIPPED | SKIPPED | SKIPPED | PASS | SKIPPED |
+-------------------------------+--------------------+-------------------+-------------------------+----------------------+-------------------+------------------+
| Fedora Linux 40 | PASS | SKIPPED | SKIPPED | SKIPPED | PASS | SKIPPED |
+-------------------------------+--------------------+-------------------+-------------------------+----------------------+-------------------+------------------+
| Fedora Linux 41 | PASS | SKIPPED | SKIPPED | SKIPPED | PASS | PASS |
+-------------------------------+--------------------+-------------------+-------------------------+----------------------+-------------------+------------------+
| openSUSE Leap 15.6 | PASS | SKIPPED | SKIPPED | SKIPPED | SKIPPED | SKIPPED |
+-------------------------------+--------------------+-------------------+-------------------------+----------------------+-------------------+------------------+
| Red Hat Enterprise Linux 8.10 | PASS | SKIPPED | SKIPPED | SKIPPED | SKIPPED | SKIPPED |
+-------------------------------+--------------------+-------------------+-------------------------+----------------------+-------------------+------------------+
| Red Hat Enterprise Linux 9.5 | PASS | SKIPPED | SKIPPED | SKIPPED | SKIPPED | SKIPPED |
+-------------------------------+--------------------+-------------------+-------------------------+----------------------+-------------------+------------------+
| Ubuntu 22.04 | PASS | SKIPPED | SKIPPED | SKIPPED | PASS | SKIPPED |
+-------------------------------+--------------------+-------------------+-------------------------+----------------------+-------------------+------------------+
| Ubuntu 24.04 | PASS | SKIPPED | SKIPPED | SKIPPED | PASS | PASS |
+-------------------------------+--------------------+-------------------+-------------------------+----------------------+-------------------+------------------+
| Alpine Linux 3.22.0 | PASS | SKIPPED | SKIPPED | SKIPPED | SKIPPED | SKIPPED |
+-------------------------------+--------------------+-------------------+-------------------------+----------------------+-------------------+------------------+
| Windows Server 2022 | SKIPPED | PASS | PASS | PASS | SKIPPED | SKIPPED |
+-------------------------------+--------------------+-------------------+-------------------------+----------------------+-------------------+------------------+
Ubuntu 20.04
Kernel: 4.19
Compiler: gcc gcc (Ubuntu 9.4.0-1ubuntu1~20.04.2) 9.4.0
FreeBSD 14.2
Kernel: 14.2-RELEASE
Compiler: clang 18.1.6
CentOS Stream 9
Kernel: 5.15
Compiler: gcc gcc (GCC) 11.5.0 20240719 (Red Hat 11.5.0-7)
CentOS Stream 10
Kernel: 5.15
Compiler: gcc gcc (GCC) 14.2.1 20250110 (Red Hat 14.2.1-8)
Debian GNU/Linux 12
Kernel: 5.15
Compiler: gcc gcc (Debian 12.2.0-14+deb12u1) 12.2.0
Fedora Linux 40
Kernel: 5.15
Compiler: clang gcc (GCC) 14.2.1 20240912 (Red Hat 14.2.1-3)
Fedora Linux 41
Kernel: 5.15
Compiler: gcc gcc (GCC) 14.3.1 20250523 (Red Hat 14.3.1-1)
openSUSE Leap 15.6
Kernel: 5.15
Compiler: gcc gcc (SUSE Linux) 7.5.0
Red Hat Enterprise Linux 8.10
Kernel: 5.15
Compiler: gcc gcc (GCC) 8.5.0 20210514 (Red Hat 8.5.0-22)
Red Hat Enterprise Linux 9.5
Kernel: 5.15
Compiler: gcc gcc (GCC) 11.5.0 20240719 (Red Hat 11.5.0-2)
Ubuntu 22.04
Kernel: 5.15
Compiler: gcc gcc (Ubuntu 11.4.0-1ubuntu1~22.04) 11.4.0
Ubuntu 24.04
Kernel: 5.15
Compiler: gcc gcc (Ubuntu 13.3.0-6ubuntu2~24.04) 13.3.0
Alpine Linux 3.22.0
Kernel: 5.15
Compiler: gcc gcc (Alpine 14.2.0) 14.2.0
Windows Server 2022
Kernel: 10.0.20348.2031
Compiler: clang 15.0.7, gcc 14.1.0 (MinGW), and MSVC VS 19.39.33521
To view detailed results, visit:
https://lab.dpdk.org/results/dashboard/patchsets/33728/
UNH-IOL DPDK Community Lab
To manage your email subscriptions, visit:
https://lab.dpdk.org/results/dashboard/preferences/subscriptions/
^ permalink raw reply [flat|nested] 32+ messages in thread
* |SUCCESS| pw155429-155430 [PATCH] [v1,2/2] dts: add steps and verify
[not found] <20250722171957.200698-2-dmarx@iol.unh.edu>
` (27 preceding siblings ...)
2025-07-23 1:46 ` dpdklab
@ 2025-07-23 4:52 ` dpdklab
2025-07-23 6:25 ` dpdklab
` (2 subsequent siblings)
31 siblings, 0 replies; 32+ messages in thread
From: dpdklab @ 2025-07-23 4:52 UTC (permalink / raw)
To: Test Report; +Cc: dpdk-test-reports
Test-Label: iol-sample-apps-testing
Test-Status: SUCCESS
http://dpdk.org/patch/155430
_Testing PASS_
Submitter: Dean Marx <dmarx@iol.unh.edu>
Date: Tuesday, July 22 2025 17:19:57
DPDK git baseline: Repo:dpdk
Branch: master
CommitID:f8fb19d5e2fc20798ed0caa292a1538fbbd98f96
155429-155430 --> testing pass
Upstream job id: ACVP-FIPS-testing#10588
Test environment and result as below:
+--------------+----------------------+
| Environment | dpdk_fips_validation |
+==============+======================+
| Ubuntu 20.04 | PASS |
+--------------+----------------------+
Ubuntu 20.04
Kernel: 5.15
Compiler: gcc gcc (Ubuntu 9.4.0-1ubuntu1~20.04.2) 9.4.0
To view detailed results, visit:
https://lab.dpdk.org/results/dashboard/patchsets/33728/
UNH-IOL DPDK Community Lab
To manage your email subscriptions, visit:
https://lab.dpdk.org/results/dashboard/preferences/subscriptions/
^ permalink raw reply [flat|nested] 32+ messages in thread
* |SUCCESS| pw155429-155430 [PATCH] [v1,2/2] dts: add steps and verify
[not found] <20250722171957.200698-2-dmarx@iol.unh.edu>
` (28 preceding siblings ...)
2025-07-23 4:52 ` dpdklab
@ 2025-07-23 6:25 ` dpdklab
2025-07-23 8:07 ` dpdklab
2025-07-23 8:08 ` dpdklab
31 siblings, 0 replies; 32+ messages in thread
From: dpdklab @ 2025-07-23 6:25 UTC (permalink / raw)
To: Test Report; +Cc: dpdk-test-reports
Test-Label: iol-unit-arm64-testing
Test-Status: SUCCESS
http://dpdk.org/patch/155430
_Testing PASS_
Submitter: Dean Marx <dmarx@iol.unh.edu>
Date: Tuesday, July 22 2025 17:19:57
DPDK git baseline: Repo:dpdk
Branch: master
CommitID:f8fb19d5e2fc20798ed0caa292a1538fbbd98f96
155429-155430 --> testing pass
Upstream job id: Generic-Unit-Test-DPDK#357502
Test environment and result as below:
+------------------------------+----------------+--------------+------------------------------+---------------------------+
| Environment | dpdk_unit_test | lpm_autotest | cryptodev_sw_snow3g_autotest | cryptodev_sw_zuc_autotest |
+==============================+================+==============+==============================+===========================+
| Fedora Linux 40 | PASS | SKIPPED | SKIPPED | SKIPPED |
+------------------------------+----------------+--------------+------------------------------+---------------------------+
| Debian GNU/Linux 12 | PASS | SKIPPED | SKIPPED | SKIPPED |
+------------------------------+----------------+--------------+------------------------------+---------------------------+
| CentOS Stream 9 | PASS | SKIPPED | SKIPPED | SKIPPED |
+------------------------------+----------------+--------------+------------------------------+---------------------------+
| Fedora Linux 41 | PASS | SKIPPED | SKIPPED | SKIPPED |
+------------------------------+----------------+--------------+------------------------------+---------------------------+
| Ubuntu 20.04 | PASS | PASS | SKIPPED | SKIPPED |
+------------------------------+----------------+--------------+------------------------------+---------------------------+
| Red Hat Enterprise Linux 9.5 | PASS | SKIPPED | SKIPPED | SKIPPED |
+------------------------------+----------------+--------------+------------------------------+---------------------------+
| CentOS Stream 10 | PASS | SKIPPED | SKIPPED | SKIPPED |
+------------------------------+----------------+--------------+------------------------------+---------------------------+
| Ubuntu 22.04 | PASS | SKIPPED | SKIPPED | SKIPPED |
+------------------------------+----------------+--------------+------------------------------+---------------------------+
| Ubuntu 24.04 | PASS | SKIPPED | SKIPPED | SKIPPED |
+------------------------------+----------------+--------------+------------------------------+---------------------------+
| Debian 12 (arm) | SKIPPED | SKIPPED | PASS | PASS |
+------------------------------+----------------+--------------+------------------------------+---------------------------+
Fedora Linux 40
Kernel: 5.4
Compiler: clang gcc (GCC) 14.2.1 20240912 (Red Hat 14.2.1-3)
Debian GNU/Linux 12
Kernel: 5.4
Compiler: gcc gcc (Debian 12.2.0-14+deb12u1) 12.2.0
CentOS Stream 9
Kernel: 5.4
Compiler: gcc gcc (GCC) 11.5.0 20240719 (Red Hat 11.5.0-7)
Fedora Linux 41
Kernel: 5.4
Compiler: gcc gcc (GCC) 14.3.1 20250523 (Red Hat 14.3.1-1)
Ubuntu 20.04
Kernel: 5.4
Compiler: gcc gcc (Ubuntu 9.4.0-1ubuntu1~20.04.2) 9.4.0
Red Hat Enterprise Linux 9.5
Kernel: 5.4
Compiler: gcc gcc (GCC) 11.5.0 20240719 (Red Hat 11.5.0-2)
CentOS Stream 10
Kernel: 5.4
Compiler: gcc gcc (GCC) 14.2.1 20250110 (Red Hat 14.2.1-8)
Ubuntu 22.04
Kernel: 5.4
Compiler: gcc gcc (Ubuntu 11.4.0-1ubuntu1~22.04) 11.4.0
Ubuntu 24.04
Kernel: 5.4
Compiler: gcc gcc (Ubuntu 13.3.0-6ubuntu2~24.04) 13.3.0
Debian 12 (arm)
Kernel: Depends on container host
Compiler: gcc (Debian 12.2.0-14) 12.2.0
To view detailed results, visit:
https://lab.dpdk.org/results/dashboard/patchsets/33728/
UNH-IOL DPDK Community Lab
To manage your email subscriptions, visit:
https://lab.dpdk.org/results/dashboard/preferences/subscriptions/
^ permalink raw reply [flat|nested] 32+ messages in thread
* |SUCCESS| pw155429-155430 [PATCH] [v1,2/2] dts: add steps and verify
[not found] <20250722171957.200698-2-dmarx@iol.unh.edu>
` (29 preceding siblings ...)
2025-07-23 6:25 ` dpdklab
@ 2025-07-23 8:07 ` dpdklab
2025-07-23 8:08 ` dpdklab
31 siblings, 0 replies; 32+ messages in thread
From: dpdklab @ 2025-07-23 8:07 UTC (permalink / raw)
To: Test Report; +Cc: dpdk-test-reports
Test-Label: iol-compile-arm64-testing
Test-Status: SUCCESS
http://dpdk.org/patch/155430
_Testing PASS_
Submitter: Dean Marx <dmarx@iol.unh.edu>
Date: Tuesday, July 22 2025 17:19:57
DPDK git baseline: Repo:dpdk
Branch: master
CommitID:f8fb19d5e2fc20798ed0caa292a1538fbbd98f96
155429-155430 --> testing pass
Upstream job id: Generic-DPDK-Compile-Meson#411292
Test environment and result as below:
+------------------------------+--------------------+
| Environment | dpdk_meson_compile |
+==============================+====================+
| Red Hat Enterprise Linux 9.5 | PASS |
+------------------------------+--------------------+
| Ubuntu 20.04 | PASS |
+------------------------------+--------------------+
| Debian GNU/Linux 12 | PASS |
+------------------------------+--------------------+
| Fedora Linux 40 | PASS |
+------------------------------+--------------------+
| Fedora Linux 41 | PASS |
+------------------------------+--------------------+
| Ubuntu 22.04 | PASS |
+------------------------------+--------------------+
| Ubuntu 24.04 | PASS |
+------------------------------+--------------------+
| CentOS Stream 9 | PASS |
+------------------------------+--------------------+
| CentOS Stream 10 | PASS |
+------------------------------+--------------------+
Red Hat Enterprise Linux 9.5
Kernel: 5.4
Compiler: gcc gcc (GCC) 11.5.0 20240719 (Red Hat 11.5.0-2)
Ubuntu 20.04
Kernel: 5.15
Compiler: aarch64-linux-gnu-gcc gcc (Ubuntu 9.4.0-1ubuntu1~20.04.2) 9.4.0
Debian GNU/Linux 12
Kernel: 5.4
Compiler: gcc gcc (Debian 12.2.0-14+deb12u1) 12.2.0
Fedora Linux 40
Kernel: 5.4
Compiler: gcc gcc (GCC) 14.2.1 20240912 (Red Hat 14.2.1-3)
Fedora Linux 41
Kernel: 5.4
Compiler: gcc gcc (GCC) 14.3.1 20250523 (Red Hat 14.3.1-1)
Ubuntu 22.04
Kernel: 5.4
Compiler: gcc gcc (Ubuntu 11.4.0-1ubuntu1~22.04) 11.4.0
Ubuntu 24.04
Kernel: 5.4
Compiler: gcc gcc (Ubuntu 13.3.0-6ubuntu2~24.04) 13.3.0
CentOS Stream 9
Kernel: 5.4
Compiler: gcc gcc (GCC) 11.5.0 20240719 (Red Hat 11.5.0-7)
CentOS Stream 10
Kernel: 5.4
Compiler: gcc gcc (GCC) 14.2.1 20250110 (Red Hat 14.2.1-8)
To view detailed results, visit:
https://lab.dpdk.org/results/dashboard/patchsets/33728/
UNH-IOL DPDK Community Lab
To manage your email subscriptions, visit:
https://lab.dpdk.org/results/dashboard/preferences/subscriptions/
^ permalink raw reply [flat|nested] 32+ messages in thread
* |SUCCESS| pw155429-155430 [PATCH] [v1,2/2] dts: add steps and verify
[not found] <20250722171957.200698-2-dmarx@iol.unh.edu>
` (30 preceding siblings ...)
2025-07-23 8:07 ` dpdklab
@ 2025-07-23 8:08 ` dpdklab
31 siblings, 0 replies; 32+ messages in thread
From: dpdklab @ 2025-07-23 8:08 UTC (permalink / raw)
To: Test Report; +Cc: dpdk-test-reports
Test-Label: iol-compile-arm64-testing
Test-Status: SUCCESS
http://dpdk.org/patch/155430
_Testing PASS_
Submitter: Dean Marx <dmarx@iol.unh.edu>
Date: Tuesday, July 22 2025 17:19:57
DPDK git baseline: Repo:dpdk
Branch: master
CommitID:f8fb19d5e2fc20798ed0caa292a1538fbbd98f96
155429-155430 --> testing pass
Upstream job id: Generic-DPDK-Compile-Meson#411290
Test environment and result as below:
+------------------------------+--------------------+
| Environment | dpdk_meson_compile |
+==============================+====================+
| Red Hat Enterprise Linux 9.5 | PASS |
+------------------------------+--------------------+
| Ubuntu 20.04 | PASS |
+------------------------------+--------------------+
| Debian GNU/Linux 12 | PASS |
+------------------------------+--------------------+
| Fedora Linux 40 | PASS |
+------------------------------+--------------------+
| Fedora Linux 41 | PASS |
+------------------------------+--------------------+
| Ubuntu 22.04 | PASS |
+------------------------------+--------------------+
| Ubuntu 24.04 | PASS |
+------------------------------+--------------------+
| CentOS Stream 9 | PASS |
+------------------------------+--------------------+
| CentOS Stream 10 | PASS |
+------------------------------+--------------------+
Red Hat Enterprise Linux 9.5
Kernel: 5.4
Compiler: gcc gcc (GCC) 11.5.0 20240719 (Red Hat 11.5.0-2)
Ubuntu 20.04
Kernel: 5.15
Compiler: aarch64-linux-gnu-gcc gcc (Ubuntu 9.4.0-1ubuntu1~20.04.2) 9.4.0
Debian GNU/Linux 12
Kernel: 5.4
Compiler: gcc gcc (Debian 12.2.0-14+deb12u1) 12.2.0
Fedora Linux 40
Kernel: 5.4
Compiler: gcc gcc (GCC) 14.2.1 20240912 (Red Hat 14.2.1-3)
Fedora Linux 41
Kernel: 5.4
Compiler: gcc gcc (GCC) 14.3.1 20250523 (Red Hat 14.3.1-1)
Ubuntu 22.04
Kernel: 5.4
Compiler: gcc gcc (Ubuntu 11.4.0-1ubuntu1~22.04) 11.4.0
Ubuntu 24.04
Kernel: 5.4
Compiler: gcc gcc (Ubuntu 13.3.0-6ubuntu2~24.04) 13.3.0
CentOS Stream 9
Kernel: 5.4
Compiler: gcc gcc (GCC) 11.5.0 20240719 (Red Hat 11.5.0-7)
CentOS Stream 10
Kernel: 5.4
Compiler: gcc gcc (GCC) 14.2.1 20250110 (Red Hat 14.2.1-8)
To view detailed results, visit:
https://lab.dpdk.org/results/dashboard/patchsets/33728/
UNH-IOL DPDK Community Lab
To manage your email subscriptions, visit:
https://lab.dpdk.org/results/dashboard/preferences/subscriptions/
^ permalink raw reply [flat|nested] 32+ messages in thread
end of thread, other threads:[~2025-07-23 8:08 UTC | newest]
Thread overview: 32+ messages (download: mbox.gz / follow: Atom feed)
-- links below jump to the message on this page --
[not found] <20250722171957.200698-2-dmarx@iol.unh.edu>
2025-07-22 17:18 ` |SUCCESS| pw155430 [PATCH v1 2/2] dts: add steps and verify sections to docstrings checkpatch
2025-07-22 20:00 ` |SUCCESS| pw155429-155430 [PATCH] [v1,2/2] dts: add steps and verify dpdklab
2025-07-22 20:13 ` dpdklab
2025-07-22 20:19 ` dpdklab
2025-07-22 20:32 ` dpdklab
2025-07-22 20:33 ` dpdklab
2025-07-22 20:39 ` |PENDING| " dpdklab
2025-07-22 20:39 ` |SUCCESS| " dpdklab
2025-07-22 20:45 ` dpdklab
2025-07-22 20:49 ` dpdklab
2025-07-22 21:06 ` dpdklab
2025-07-22 21:18 ` |PENDING| " dpdklab
2025-07-22 21:21 ` |SUCCESS| " dpdklab
2025-07-22 21:22 ` dpdklab
2025-07-22 21:22 ` dpdklab
2025-07-22 21:46 ` dpdklab
2025-07-22 21:51 ` dpdklab
2025-07-22 22:18 ` dpdklab
2025-07-22 22:42 ` dpdklab
2025-07-22 22:51 ` dpdklab
2025-07-22 22:59 ` |PENDING| " dpdklab
2025-07-22 23:14 ` |SUCCESS| " dpdklab
2025-07-22 23:48 ` |PENDING| " dpdklab
2025-07-22 23:53 ` |SUCCESS| " dpdklab
2025-07-23 0:15 ` dpdklab
2025-07-23 0:15 ` dpdklab
2025-07-23 1:08 ` dpdklab
2025-07-23 1:46 ` dpdklab
2025-07-23 4:52 ` dpdklab
2025-07-23 6:25 ` dpdklab
2025-07-23 8:07 ` dpdklab
2025-07-23 8:08 ` dpdklab
This is a public inbox, see mirroring instructions
for how to clone and mirror all data and code used for this inbox;
as well as URLs for NNTP newsgroup(s).