From mboxrd@z Thu Jan 1 00:00:00 1970 Return-Path: Received: from mails.dpdk.org (mails.dpdk.org [217.70.189.124]) by inbox.dpdk.org (Postfix) with ESMTP id C723D46B8C for ; Wed, 23 Jul 2025 08:25:33 +0200 (CEST) Received: from mails.dpdk.org (localhost [127.0.0.1]) by mails.dpdk.org (Postfix) with ESMTP id A8103402CA; Wed, 23 Jul 2025 08:25:33 +0200 (CEST) Received: from mail-pl1-f227.google.com (mail-pl1-f227.google.com [209.85.214.227]) by mails.dpdk.org (Postfix) with ESMTP id 6B3E9402CA for ; Wed, 23 Jul 2025 08:25:32 +0200 (CEST) Received: by mail-pl1-f227.google.com with SMTP id d9443c01a7336-235f9ea8d08so53950345ad.1 for ; Tue, 22 Jul 2025 23:25:32 -0700 (PDT) DKIM-Signature: v=1; a=rsa-sha256; c=relaxed/relaxed; d=iol.unh.edu; s=unh-iol; t=1753251931; x=1753856731; darn=dpdk.org; h=references:in-reply-to:cc:to:from:subject:message-id:date:from:to :cc:subject:date:message-id:reply-to; bh=TMI80RC6sQO8jgJDwnMpDUOjmfu4J4wmMAHOMlROvGw=; b=GnlKnwsByfC3seTbfPux6clw6CSFkUIbOJADJ6TEcSvqmBvsFNigp8xRtkDUSBv9oN cEUwmXypm0pl34youF4zHB3dGO9/ERnw5FqXiu22Q9PwNltvaSaElW/uAblCznZ98360 7xjrg68rApB489lqwmw9mTBYC71v4ewmgVSZg= X-Google-DKIM-Signature: v=1; a=rsa-sha256; c=relaxed/relaxed; d=1e100.net; s=20230601; t=1753251931; x=1753856731; h=references:in-reply-to:cc:to:from:subject:message-id:date :x-gm-message-state:from:to:cc:subject:date:message-id:reply-to; bh=TMI80RC6sQO8jgJDwnMpDUOjmfu4J4wmMAHOMlROvGw=; b=FCK6wgTJXHAOLLgRQEsV5SdxTt28xYNVR3BlA1jju75Mx2cJv7aG+sIB2eJOf5XUhQ ENZdzlC6krWcL78GqOKMtfUT6QgeJ8A3TYVGfnF3T7LUcPMNVQ1S2kKeFRdFXCSZ2TWL FTMwf6xOePPdkRgrmaPUm4XT/5A/pGJyGL7xm1dg/Q3t+hXzDjaZEzfF7ggF3bdI4xYk U/SeeOrno1NaUH3ui4jZosS2LbZUMKHwcncJq/V6OSVQ8slTu8wkZtBtyyzXTfnl7BlE ib/u85SjxW9Axub6+8aWI4VK5t2Uimspl4J98psiRmftLi8uEk/yeBASJt/HlpKS6ZAb vunA== X-Gm-Message-State: AOJu0YzNiVrkNB6N0nScMNPr+jzLYGxpbIGzpWDFHi9E1mmPbDeTIF8O ldLiFhLVYNRL36tEL3iDNeB7iORJzAmnlPRB0jYm3YVUbW2tsPHBA6xiAevVdIZgmz4+eqJECx4 z3sV2cBD/1L5nnEdzCoRsQLeaI01R8pjDOkTo7OZHtIxT X-Gm-Gg: ASbGncvJYU+glLo8LG5VDdlaSWXF1sv15JOjcxBEP3AkrBn+WJBiZOfO3G8H+fRYEYG g5PpizNky6lSeEoJpeDexXCR7nSa9+6L6dOZPT5qGyvR9PgfgsxasjxKyD82sqmCtfFbehUuzKY HGumwsF7j0ZxWEUxffTeDcpgEnLAGrUXstRZukfHqq59DKrQEjq+T/nsK5pKRIfwUqJwyhsl9wy Yecjt2zK/Z/j9kJfuwKMSC0JZdWlGJZdqF/y8rV+RRLfia1GaXVQuVC+NBKKsmwQrJ6knGWm0A9 GZD/RFzK/ZYq7NFd87H/UOi6Up2RpSEfhdoLPtDaFtJfINUagVyCAq/5uYF5+Lv0A6l0cV3q X-Google-Smtp-Source: AGHT+IGCQwGfFOUh44JRD9YEmLBF2YfWCXqNBDyd34Akk1TUjM5EMBkpkjb6eJ33hcrZlPtb+SL+kUSjjm8I X-Received: by 2002:a17:903:285:b0:234:f580:9f8 with SMTP id d9443c01a7336-23f9814699amr27011895ad.3.1753251931448; Tue, 22 Jul 2025 23:25:31 -0700 (PDT) Received: from postal.iol.unh.edu (postal.iol.unh.edu. [132.177.123.84]) by smtp-relay.gmail.com with ESMTPS id d9443c01a7336-23e3b5ffed7sm6558235ad.20.2025.07.22.23.25.31 (version=TLS1_2 cipher=ECDHE-ECDSA-AES128-GCM-SHA256 bits=128/128); Tue, 22 Jul 2025 23:25:31 -0700 (PDT) X-Relaying-Domain: iol.unh.edu Date: Tue, 22 Jul 2025 23:25:31 -0700 (PDT) Message-ID: <6880805b.170a0220.1158b5.322eSMTPIN_ADDED_MISSING@mx.google.com> Received: from [172.21.0.2] (unknown [172.18.0.240]) by postal.iol.unh.edu (Postfix) with ESMTP id A63526051830; Wed, 23 Jul 2025 02:25:30 -0400 (EDT) Subject: |SUCCESS| pw155429-155430 [PATCH] [v1,2/2] dts: add steps and verify From: dpdklab@iol.unh.edu To: Test Report Cc: dpdk-test-reports@iol.unh.edu In-Reply-To: <20250722171957.200698-2-dmarx@iol.unh.edu> References: <20250722171957.200698-2-dmarx@iol.unh.edu> Content-Type: text/plain X-BeenThere: test-report@dpdk.org X-Mailman-Version: 2.1.29 Precedence: list List-Id: automatic DPDK test reports List-Unsubscribe: , List-Archive: List-Post: List-Help: List-Subscribe: , Errors-To: test-report-bounces@dpdk.org Test-Label: iol-unit-arm64-testing Test-Status: SUCCESS http://dpdk.org/patch/155430 _Testing PASS_ Submitter: Dean Marx Date: Tuesday, July 22 2025 17:19:57 DPDK git baseline: Repo:dpdk Branch: master CommitID:f8fb19d5e2fc20798ed0caa292a1538fbbd98f96 155429-155430 --> testing pass Upstream job id: Generic-Unit-Test-DPDK#357502 Test environment and result as below: +------------------------------+----------------+--------------+------------------------------+---------------------------+ | Environment | dpdk_unit_test | lpm_autotest | cryptodev_sw_snow3g_autotest | cryptodev_sw_zuc_autotest | +==============================+================+==============+==============================+===========================+ | Fedora Linux 40 | PASS | SKIPPED | SKIPPED | SKIPPED | +------------------------------+----------------+--------------+------------------------------+---------------------------+ | Debian GNU/Linux 12 | PASS | SKIPPED | SKIPPED | SKIPPED | +------------------------------+----------------+--------------+------------------------------+---------------------------+ | CentOS Stream 9 | PASS | SKIPPED | SKIPPED | SKIPPED | +------------------------------+----------------+--------------+------------------------------+---------------------------+ | Fedora Linux 41 | PASS | SKIPPED | SKIPPED | SKIPPED | +------------------------------+----------------+--------------+------------------------------+---------------------------+ | Ubuntu 20.04 | PASS | PASS | SKIPPED | SKIPPED | +------------------------------+----------------+--------------+------------------------------+---------------------------+ | Red Hat Enterprise Linux 9.5 | PASS | SKIPPED | SKIPPED | SKIPPED | +------------------------------+----------------+--------------+------------------------------+---------------------------+ | CentOS Stream 10 | PASS | SKIPPED | SKIPPED | SKIPPED | +------------------------------+----------------+--------------+------------------------------+---------------------------+ | Ubuntu 22.04 | PASS | SKIPPED | SKIPPED | SKIPPED | +------------------------------+----------------+--------------+------------------------------+---------------------------+ | Ubuntu 24.04 | PASS | SKIPPED | SKIPPED | SKIPPED | +------------------------------+----------------+--------------+------------------------------+---------------------------+ | Debian 12 (arm) | SKIPPED | SKIPPED | PASS | PASS | +------------------------------+----------------+--------------+------------------------------+---------------------------+ Fedora Linux 40 Kernel: 5.4 Compiler: clang gcc (GCC) 14.2.1 20240912 (Red Hat 14.2.1-3) Debian GNU/Linux 12 Kernel: 5.4 Compiler: gcc gcc (Debian 12.2.0-14+deb12u1) 12.2.0 CentOS Stream 9 Kernel: 5.4 Compiler: gcc gcc (GCC) 11.5.0 20240719 (Red Hat 11.5.0-7) Fedora Linux 41 Kernel: 5.4 Compiler: gcc gcc (GCC) 14.3.1 20250523 (Red Hat 14.3.1-1) Ubuntu 20.04 Kernel: 5.4 Compiler: gcc gcc (Ubuntu 9.4.0-1ubuntu1~20.04.2) 9.4.0 Red Hat Enterprise Linux 9.5 Kernel: 5.4 Compiler: gcc gcc (GCC) 11.5.0 20240719 (Red Hat 11.5.0-2) CentOS Stream 10 Kernel: 5.4 Compiler: gcc gcc (GCC) 14.2.1 20250110 (Red Hat 14.2.1-8) Ubuntu 22.04 Kernel: 5.4 Compiler: gcc gcc (Ubuntu 11.4.0-1ubuntu1~22.04) 11.4.0 Ubuntu 24.04 Kernel: 5.4 Compiler: gcc gcc (Ubuntu 13.3.0-6ubuntu2~24.04) 13.3.0 Debian 12 (arm) Kernel: Depends on container host Compiler: gcc (Debian 12.2.0-14) 12.2.0 To view detailed results, visit: https://lab.dpdk.org/results/dashboard/patchsets/33728/ UNH-IOL DPDK Community Lab To manage your email subscriptions, visit: https://lab.dpdk.org/results/dashboard/preferences/subscriptions/