From mboxrd@z Thu Jan 1 00:00:00 1970 Return-Path: Received: from mails.dpdk.org (mails.dpdk.org [217.70.189.124]) by inbox.dpdk.org (Postfix) with ESMTP id 1894A46BEC for ; Wed, 23 Jul 2025 08:28:29 +0200 (CEST) Received: from mails.dpdk.org (localhost [127.0.0.1]) by mails.dpdk.org (Postfix) with ESMTP id 12260402CA; Wed, 23 Jul 2025 08:28:29 +0200 (CEST) Received: from mail-io1-f100.google.com (mail-io1-f100.google.com [209.85.166.100]) by mails.dpdk.org (Postfix) with ESMTP id 40BFB402CA for ; Wed, 23 Jul 2025 08:28:27 +0200 (CEST) Received: by mail-io1-f100.google.com with SMTP id ca18e2360f4ac-86cdb330b48so490032639f.0 for ; Tue, 22 Jul 2025 23:28:27 -0700 (PDT) DKIM-Signature: v=1; a=rsa-sha256; c=relaxed/relaxed; d=iol.unh.edu; s=unh-iol; t=1753252106; x=1753856906; darn=dpdk.org; h=references:in-reply-to:cc:to:from:subject:message-id:date:from:to :cc:subject:date:message-id:reply-to; bh=5nTJfOMz6n22oFkVCcBaokVCqG9F49D8mNPvop/D7jA=; b=c2haiSvP6HDyEJlCSAUOsmL+vBsOUcIuO2RP63x6uY+TTM7bVtBwXXnlheMVp235BF iweJIZVSm95CVc2nANOXhocDbN73V3ZQ4NV+G9MuDmsT9kFCaZs2UF74D/TyimxsGEG4 uWUh5cBbZQnt0x9+xFpuSP8tV0AKK97nxPI0g= X-Google-DKIM-Signature: v=1; a=rsa-sha256; c=relaxed/relaxed; d=1e100.net; s=20230601; t=1753252106; x=1753856906; h=references:in-reply-to:cc:to:from:subject:message-id:date :x-gm-message-state:from:to:cc:subject:date:message-id:reply-to; bh=5nTJfOMz6n22oFkVCcBaokVCqG9F49D8mNPvop/D7jA=; b=eWEjCCMprVqkYwkmPVOe1JAhCXq47j8BkAHiMV1JydKVeDpiqA8Te5YCisCQHEja8F a+vYW2lox2s7njGblqnhtRix5rypZ2QHLmDg7jxI36YO7xY0mKQBmxyeuahTvB4GDqUh juYfvmBmEv4bguPXw5py3fe7zrnlgJgQN/6o/QqubOvORIc3bpcVLIJF2YticeNNeXdL 9LZkBVFDci5szVNPiGoCpEcAVY3FNr+sWwN5o4hNMMehC3phSVNKRIj0Z0qu8GH6aXhZ 30EdlGgLPiaIo8wy051/xc3LrSHFaAfNRMskzTeRqW1cCIJWqUFCfKB+GTxUqyT/k3hn 8ZSQ== X-Gm-Message-State: AOJu0Yw4aTgoxen3myCHoQXNmxgw9N7ZDh8YJ6cYmxkLH+51AaHF+ZOM yXb9ycA3GvGJxhle3yQiHqo7GXUw0dc/ACoHMB2wUF4d+C3vIcLTXVR5nYcdxFLx2KuObgTywQC e+HIq6z9HcDDB1hZuklmWGg7mP3r3iadupD5SlLfrHAx2510mndmfycg29tIk X-Gm-Gg: ASbGncv3qTIcGXuI75eWe3XbvOEAAmNkRdvKCFWM5ltdZOssS6oEnl0u7OQ/GOzOPml eHeKcq41wmAD2CUarppC7QzMUfd9HCNVdJb/hbH3QVdBWS/zkaJ4PGY79Tg/HZ4LXXRlmqRtkDG USJDNMWfZBIUxFxr1Emoc6ogkFcFs7WNKx2Jau4OqOYIlgkM+EkcX1FHCI1YkM+gsWaXTwJ/H4g AYIK6FZiWoGlDa6UU/eOsgs0rJBcycCh0niZrvTS8rDzsULpp1G3E0Waa4R9KCAios6z8WSHNmx 5e9D4uY4Rcpa4C2X6ZHJrSfRgyDXeGjLApfEWSuMMV03V9qTtw== X-Google-Smtp-Source: AGHT+IE+Ng1ZhSAIdvWnYWC2nJVdcdG50zXAXLNBOWkuSkc0jzCCexllj5b8cYmx2+9sDFWST0+l3EJTlHZ1 X-Received: by 2002:a05:6602:1584:b0:86c:fea7:6b83 with SMTP id ca18e2360f4ac-87c64fb7cd9mr402064739f.6.1753252106541; Tue, 22 Jul 2025 23:28:26 -0700 (PDT) Received: from postal.iol.unh.edu (postal.iol.unh.edu. [2606:4100:3880:1234::84]) by smtp-relay.gmail.com with ESMTPS id ca18e2360f4ac-87c0e6d19bbsm59204139f.15.2025.07.22.23.28.26 (version=TLS1_2 cipher=ECDHE-ECDSA-AES128-GCM-SHA256 bits=128/128); Tue, 22 Jul 2025 23:28:26 -0700 (PDT) X-Relaying-Domain: iol.unh.edu Date: Tue, 22 Jul 2025 23:28:26 -0700 (PDT) Message-ID: <6880810a.050a0220.2b46ad.fdaaSMTPIN_ADDED_MISSING@mx.google.com> Received: from [172.21.0.4] (unknown [172.18.0.240]) by postal.iol.unh.edu (Postfix) with ESMTP id E5F8D6051830; Wed, 23 Jul 2025 02:28:25 -0400 (EDT) Subject: |SUCCESS| pw155446 [PATCH] lib/ethdev: fix segfault in secondary pro From: dpdklab@iol.unh.edu To: Test Report Cc: dpdk-test-reports@iol.unh.edu In-Reply-To: <20250723042959.1576338-1-14pwcse1224@uetpeshawar.edu.pk> References: <20250723042959.1576338-1-14pwcse1224@uetpeshawar.edu.pk> Content-Type: text/plain X-BeenThere: test-report@dpdk.org X-Mailman-Version: 2.1.29 Precedence: list List-Id: automatic DPDK test reports List-Unsubscribe: , List-Archive: List-Post: List-Help: List-Subscribe: , Errors-To: test-report-bounces@dpdk.org Test-Label: iol-compile-amd64-testing Test-Status: SUCCESS http://dpdk.org/patch/155446 _Testing PASS_ Submitter: Khadem Ullah <14pwcse1224@uetpeshawar.edu.pk> Date: Wednesday, July 23 2025 04:29:59 DPDK git baseline: Repo:dpdk Branch: master CommitID:b78afde1fed9e11ee5cdce333a1a69dd7a9cf13e 155446 --> testing pass Upstream job id: Windows-Compile-DPDK-Native#29963 Test environment and result as below: +---------------------+--------------------+-------------------+-------------------------+----------------------+ | Environment | dpdk_meson_compile | dpdk_msvc_compile | dpdk_llvm_clang_compile | dpdk_mingw64_compile | +=====================+====================+===================+=========================+======================+ | Ubuntu 20.04 | PASS | SKIPPED | SKIPPED | SKIPPED | +---------------------+--------------------+-------------------+-------------------------+----------------------+ | FreeBSD 14.2 | PASS | SKIPPED | SKIPPED | SKIPPED | +---------------------+--------------------+-------------------+-------------------------+----------------------+ | Windows Server 2022 | SKIPPED | PASS | PASS | PASS | +---------------------+--------------------+-------------------+-------------------------+----------------------+ Ubuntu 20.04 Kernel: 4.19 Compiler: gcc gcc (Ubuntu 9.4.0-1ubuntu1~20.04.2) 9.4.0 FreeBSD 14.2 Kernel: 14.2-RELEASE Compiler: clang 18.1.6 Windows Server 2022 Kernel: 10.0.20348.2031 Compiler: clang 15.0.7, gcc 14.1.0 (MinGW), and MSVC VS 19.39.33521 To view detailed results, visit: https://lab.dpdk.org/results/dashboard/patchsets/33731/ UNH-IOL DPDK Community Lab To manage your email subscriptions, visit: https://lab.dpdk.org/results/dashboard/preferences/subscriptions/