From mboxrd@z Thu Jan 1 00:00:00 1970 Return-Path: Received: from mails.dpdk.org (mails.dpdk.org [217.70.189.124]) by inbox.dpdk.org (Postfix) with ESMTP id 0C4EC46BEC for ; Wed, 23 Jul 2025 08:37:56 +0200 (CEST) Received: from mails.dpdk.org (localhost [127.0.0.1]) by mails.dpdk.org (Postfix) with ESMTP id 07548402CA; Wed, 23 Jul 2025 08:37:56 +0200 (CEST) Received: from mail-pl1-f228.google.com (mail-pl1-f228.google.com [209.85.214.228]) by mails.dpdk.org (Postfix) with ESMTP id 0164D402CA for ; Wed, 23 Jul 2025 08:37:55 +0200 (CEST) Received: by mail-pl1-f228.google.com with SMTP id d9443c01a7336-23c703c471dso6357045ad.0 for ; Tue, 22 Jul 2025 23:37:54 -0700 (PDT) DKIM-Signature: v=1; a=rsa-sha256; c=relaxed/relaxed; d=iol.unh.edu; s=unh-iol; t=1753252674; x=1753857474; darn=dpdk.org; h=references:in-reply-to:cc:to:from:subject:message-id:date:from:to :cc:subject:date:message-id:reply-to; bh=BIVYCCQIDlFsFQU813NuoDuIILhI/pHagsHLgeoFnik=; b=Z6XnCsrF/5ZmeIb5GMLgaAEQueivx5EPz1mXeaeYs4iYYurR+R+OtQVmvdXHIvzago Zn6ySkU2taB8eZVel0L8b0L+Foqoy5saThOZ4zwUI3pkb5fSIKEiGGUUd/SykvdXtlwa yvorLvY3DLJm1k0IxAn+VNzvJcKIgk+4WC2aA= X-Google-DKIM-Signature: v=1; a=rsa-sha256; c=relaxed/relaxed; d=1e100.net; s=20230601; t=1753252674; x=1753857474; h=references:in-reply-to:cc:to:from:subject:message-id:date :x-gm-message-state:from:to:cc:subject:date:message-id:reply-to; bh=BIVYCCQIDlFsFQU813NuoDuIILhI/pHagsHLgeoFnik=; b=h8Jjf1ygT5svkmuPJa2XroqZ7vs+rWxjX8zf37iFnOwAqeAJ9AWDPpp2oN5ba0Xe02 Ymag16I6c6OBzy9ViKmOY19z42ZMFL1tkpC0kxWvduP0Zlr2qXqgDzpnnGfsf9XdzrIC Lu9PoPk8i2PShVSqXvdeKVKoVjCyO624CWsAVGwfzHPrzLdDoiPHVEEnAcf0sUXnIfM/ bX7C9R7k9QQuyaGY/P4LYrsTCkikV8TAn5RQExg0XLO2ugg0k0saf64jx1falAkw4tYP zmkoNpH6owLa4+7wUkkUZyI2w+1jmBFoCmKxWdNQbzx5p6TCi9QfzFV3kTtYgFXxS2N/ /bjw== X-Gm-Message-State: AOJu0Yzz3nUFRJbRdg8cQqVur1jx79picijcj46DKmKbwx1cg+viYgNl WQYIVW72bZuPU8gYDzfcPpklQjpw6N9DazI53aAEClGQGSw1ISL82EVLpCJhFVuQKkItxQkL/Mi bC/15SaENsybxiHmq5ZSCgnjBFNr+Vf4nqb5p4c4VaBNl X-Gm-Gg: ASbGncuPl76SarmhX2GhpxPqUd7gSMCJkkMixA40FJo2IuJwAelYiZeuAfqVeOlrsmj J01FVsd4rehLpVlbZ2jBL+F90AlSD5d2+/rZtiWAQZsLG3V5b1XRIE4L/BuHJs4Juw87OYyDsfo aCtm76T1KOpSQm5/ubvP10zt/7v3HuXrLUxFAED5zyrOZJPy/xTVMQHaW+p7e1VTyRWMEAbvc0S SNIzXAOcvNsCd5ZCnZoPa5nOMrQGtehF/GXkNc7ErwnIj2x3ov3hWdtrNzuJK/W4hVD1lMQqqkc h287Gv4OEz+SKj3fyXqTyWJYGHqg/db0cm4YajN3jyVId5Et436fx1GDrXgL35YLJEwKM+9L X-Google-Smtp-Source: AGHT+IEKmmZLXbdjHlQHaS6fxikjPGj+YGcCI605pFoiFGYl+kUqdXpKSevKalATX3w/LHc4a+kjGIpfZ6zJ X-Received: by 2002:a17:903:1987:b0:23e:24d2:6e46 with SMTP id d9443c01a7336-23f982926d3mr21643185ad.7.1753252674198; Tue, 22 Jul 2025 23:37:54 -0700 (PDT) Received: from postal.iol.unh.edu (postal.iol.unh.edu. [132.177.123.84]) by smtp-relay.gmail.com with ESMTPS id d9443c01a7336-23e3b6b7837sm6490945ad.64.2025.07.22.23.37.54 (version=TLS1_2 cipher=ECDHE-ECDSA-AES128-GCM-SHA256 bits=128/128); Tue, 22 Jul 2025 23:37:54 -0700 (PDT) X-Relaying-Domain: iol.unh.edu Date: Tue, 22 Jul 2025 23:37:54 -0700 (PDT) Message-ID: <68808342.170a0220.14190a.0aeeSMTPIN_ADDED_MISSING@mx.google.com> Received: from [172.21.0.4] (unknown [172.18.0.240]) by postal.iol.unh.edu (Postfix) with ESMTP id 7B3296051830; Wed, 23 Jul 2025 02:37:53 -0400 (EDT) Subject: |SUCCESS| pw155455 [PATCH] [v2] lib/ethdev: fix segfault in secondar From: dpdklab@iol.unh.edu To: Test Report Cc: dpdk-test-reports@iol.unh.edu In-Reply-To: <20250723045022.1580829-1-14pwcse1224@uetpeshawar.edu.pk> References: <20250723045022.1580829-1-14pwcse1224@uetpeshawar.edu.pk> Content-Type: text/plain X-BeenThere: test-report@dpdk.org X-Mailman-Version: 2.1.29 Precedence: list List-Id: automatic DPDK test reports List-Unsubscribe: , List-Archive: List-Post: List-Help: List-Subscribe: , Errors-To: test-report-bounces@dpdk.org Test-Label: iol-compile-amd64-testing Test-Status: SUCCESS http://dpdk.org/patch/155455 _Testing PASS_ Submitter: Khadem Ullah <14pwcse1224@uetpeshawar.edu.pk> Date: Wednesday, July 23 2025 04:50:22 DPDK git baseline: Repo:dpdk Branch: master CommitID:b78afde1fed9e11ee5cdce333a1a69dd7a9cf13e 155455 --> testing pass Upstream job id: Windows-Compile-DPDK-Native#29964 Test environment and result as below: +---------------------+--------------------+-------------------+-------------------------+ | Environment | dpdk_meson_compile | dpdk_msvc_compile | dpdk_llvm_clang_compile | +=====================+====================+===================+=========================+ | Ubuntu 20.04 | PASS | SKIPPED | SKIPPED | +---------------------+--------------------+-------------------+-------------------------+ | FreeBSD 14.2 | PASS | SKIPPED | SKIPPED | +---------------------+--------------------+-------------------+-------------------------+ | Windows Server 2022 | SKIPPED | PASS | PASS | +---------------------+--------------------+-------------------+-------------------------+ Ubuntu 20.04 Kernel: 4.19 Compiler: gcc gcc (Ubuntu 9.4.0-1ubuntu1~20.04.2) 9.4.0 FreeBSD 14.2 Kernel: 14.2-RELEASE Compiler: clang 18.1.6 Windows Server 2022 Kernel: 10.0.20348.2031 Compiler: clang 15.0.7, gcc 14.1.0 (MinGW), and MSVC VS 19.39.33521 To view detailed results, visit: https://lab.dpdk.org/results/dashboard/patchsets/33733/ UNH-IOL DPDK Community Lab To manage your email subscriptions, visit: https://lab.dpdk.org/results/dashboard/preferences/subscriptions/