From mboxrd@z Thu Jan 1 00:00:00 1970 Return-Path: Received: from mails.dpdk.org (mails.dpdk.org [217.70.189.124]) by inbox.dpdk.org (Postfix) with ESMTP id 410E346BEC for ; Wed, 23 Jul 2025 08:57:26 +0200 (CEST) Received: from mails.dpdk.org (localhost [127.0.0.1]) by mails.dpdk.org (Postfix) with ESMTP id 3BF35402CA; Wed, 23 Jul 2025 08:57:26 +0200 (CEST) Received: from mail-oi1-f226.google.com (mail-oi1-f226.google.com [209.85.167.226]) by mails.dpdk.org (Postfix) with ESMTP id 69280402CA for ; Wed, 23 Jul 2025 08:57:25 +0200 (CEST) Received: by mail-oi1-f226.google.com with SMTP id 5614622812f47-41cfa50c73dso3004552b6e.0 for ; Tue, 22 Jul 2025 23:57:25 -0700 (PDT) DKIM-Signature: v=1; a=rsa-sha256; c=relaxed/relaxed; d=iol.unh.edu; s=unh-iol; t=1753253844; x=1753858644; darn=dpdk.org; h=references:in-reply-to:cc:to:from:subject:message-id:date:from:to :cc:subject:date:message-id:reply-to; bh=56TImHgGM0/kT+BE0I7GeCK3tlZJsUAD9OTYr9CTleQ=; b=ez+yb1rxGe98KOyInEnolEG106WNsHNzyv67hxHJujaIyLwYL260lguInp55tygMUE BAj8yRvwUKYFB/tVbEwAkHUZVAw0FPRuoGWapxWK+b4SHBA80LJdmb2BXJuszM1/x2t0 AryOof6VRKEVPpt+KKIYrRWsvXOuDEkUWxqus= X-Google-DKIM-Signature: v=1; a=rsa-sha256; c=relaxed/relaxed; d=1e100.net; s=20230601; t=1753253844; x=1753858644; h=references:in-reply-to:cc:to:from:subject:message-id:date :x-gm-message-state:from:to:cc:subject:date:message-id:reply-to; bh=56TImHgGM0/kT+BE0I7GeCK3tlZJsUAD9OTYr9CTleQ=; b=C9vXP6uLoFokGu93ObgBnSmZCI+YQ0J8LeagMOezFZCzV0TVJ3z5vu47MSAJBrNGdA Cn3pVKNgSA1TXK91pAk7/tBXPd9AyRdlJYMUoi10wWSpMu270d7e4Yexwm0C3S/0kov5 WV3n2pFJyY9UlKatFlGr8y5/UP4RxQj3s0XGJCoMD2oLvcRrOMgyICGlw/Qf4fb5WqI+ Fi9VSYEdk0MZthAib6zqSNHS7YQEkaump04LwjdEMuiBtFGTW2NUnR2a3+Mc20BWiHDY bQLKgoikxUXFB2XF92VDoqSKlBu9FloAzDucS0mG8dcUw3omW/5XOwY8j9lRZEhcRcP6 Zo9g== X-Gm-Message-State: AOJu0YyeEsFOop8kn14Wf2VjkgUOpfc5kc4ZGJFZRr0kBQqfV9snVS2V 5HSJIrLRPfNxrfZAH8oP2JEQBlB1g0E9q5gfer/pMuR/wC/vv3wJmam3vvYjw55/miePYJjrg9q N8oIqGK2vyQzmziHRMU23OkxwmJsLUCztC3ukbcosMGNysl4nltw/iEowmGwX X-Gm-Gg: ASbGncuKU60YoNhHPJ351pMmqKCOJ/6k03lX9ZmpxnzxEPgGu0Dt1WHGYvVoIzYxmva TLCqBJTU/9Q8nB9f72WLljrgcYq41oCRg7asiEcV8JeLXIRTLiBwgFpieacZQt9Hz/yMDqF3qiX GKud7cN7MJTHruBrRamUENLlDWjhe2ondJxlEZ3vx5x+3banMDAdZB2+nQbAUXHRrbMDqSKeghj b9ZYvgKQni2Lwsws0xFNviMQvKJ3OEERCdzz9zh/FBKIgs2kSuPYq6Lyu6GQ5uc1f5zXtDcmiJz IcV6md0wNCDOli5rf98RSR5B42eCyS9PIkhvd8BXTp1E9htxwg== X-Google-Smtp-Source: AGHT+IF+veoGaA2hsZwU3LR8hu6wyN4UrwBayfTOKZT6JZxj1XcbrBgn92pdx6qUjkX/vxNhAbAScftQsR8n X-Received: by 2002:a05:6808:4f23:b0:401:e67c:b3be with SMTP id 5614622812f47-426c3e238a5mr1798390b6e.4.1753253844636; Tue, 22 Jul 2025 23:57:24 -0700 (PDT) Received: from postal.iol.unh.edu (postal.iol.unh.edu. [2606:4100:3880:1234::84]) by smtp-relay.gmail.com with ESMTPS id 006d021491bc7-615bc99cbe3sm403902eaf.3.2025.07.22.23.57.24 (version=TLS1_2 cipher=ECDHE-ECDSA-AES128-GCM-SHA256 bits=128/128); Tue, 22 Jul 2025 23:57:24 -0700 (PDT) X-Relaying-Domain: iol.unh.edu Date: Tue, 22 Jul 2025 23:57:24 -0700 (PDT) Message-ID: <688087d4.050a0220.3010ae.49f1SMTPIN_ADDED_MISSING@mx.google.com> Received: from [172.21.0.2] (unknown [172.18.0.240]) by postal.iol.unh.edu (Postfix) with ESMTP id 2908F6051830; Wed, 23 Jul 2025 02:57:24 -0400 (EDT) Subject: |SUCCESS| pw155447-155454 [PATCH] [v9,8/8] lib/pmu: fix out-of-bound From: dpdklab@iol.unh.edu To: Test Report Cc: dpdk-test-reports@iol.unh.edu In-Reply-To: <20250723044118.2962318-9-tduszynski@marvell.com> References: <20250723044118.2962318-9-tduszynski@marvell.com> Content-Type: text/plain X-BeenThere: test-report@dpdk.org X-Mailman-Version: 2.1.29 Precedence: list List-Id: automatic DPDK test reports List-Unsubscribe: , List-Archive: List-Post: List-Help: List-Subscribe: , Errors-To: test-report-bounces@dpdk.org Test-Label: iol-compile-amd64-testing Test-Status: SUCCESS http://dpdk.org/patch/155454 _Testing PASS_ Submitter: Tomasz Duszynski Date: Wednesday, July 23 2025 04:41:18 DPDK git baseline: Repo:dpdk Branch: master CommitID:b222395561638f89562e4ef42e1eabf2d6db43dd 155447-155454 --> testing pass Upstream job id: Windows-Compile-DPDK-VS#6441 Test environment and result as below: +---------------------+-------------------+--------------------+ | Environment | dpdk_msvc_compile | dpdk_meson_compile | +=====================+===================+====================+ | Windows Server 2022 | PASS | SKIPPED | +---------------------+-------------------+--------------------+ | FreeBSD 14.2 | SKIPPED | PASS | +---------------------+-------------------+--------------------+ | Ubuntu 20.04 | SKIPPED | PASS | +---------------------+-------------------+--------------------+ Windows Server 2022 Kernel: 10.0.20348.2031 Compiler: clang 15.0.7, gcc 14.1.0 (MinGW), and MSVC VS 19.39.33521 FreeBSD 14.2 Kernel: 14.2-RELEASE Compiler: clang 18.1.6 Ubuntu 20.04 Kernel: 4.19 Compiler: gcc gcc (Ubuntu 9.4.0-1ubuntu1~20.04.2) 9.4.0 To view detailed results, visit: https://lab.dpdk.org/results/dashboard/patchsets/33732/ UNH-IOL DPDK Community Lab To manage your email subscriptions, visit: https://lab.dpdk.org/results/dashboard/preferences/subscriptions/