From mboxrd@z Thu Jan 1 00:00:00 1970 Return-Path: Received: from mails.dpdk.org (mails.dpdk.org [217.70.189.124]) by inbox.dpdk.org (Postfix) with ESMTP id 7409346BEC for ; Wed, 23 Jul 2025 08:58:16 +0200 (CEST) Received: from mails.dpdk.org (localhost [127.0.0.1]) by mails.dpdk.org (Postfix) with ESMTP id 6F42A402CA; Wed, 23 Jul 2025 08:58:16 +0200 (CEST) Received: from mail-pl1-f228.google.com (mail-pl1-f228.google.com [209.85.214.228]) by mails.dpdk.org (Postfix) with ESMTP id 3E1E8402CA for ; Wed, 23 Jul 2025 08:58:15 +0200 (CEST) Received: by mail-pl1-f228.google.com with SMTP id d9443c01a7336-23f8d27eeeaso14587775ad.2 for ; Tue, 22 Jul 2025 23:58:15 -0700 (PDT) DKIM-Signature: v=1; a=rsa-sha256; c=relaxed/relaxed; d=iol.unh.edu; s=unh-iol; t=1753253894; x=1753858694; darn=dpdk.org; h=references:in-reply-to:cc:to:from:subject:message-id:date:from:to :cc:subject:date:message-id:reply-to; bh=RgzklMsfAJDEQQsdTMivRYUSMasY4YuWCz8N2A/Ca+M=; b=BEnAHLYLo5EkIS60jaSkl18jFIm09ekr9AdXkK3FDgGl5vWcDnQBFmM79ghLa86NFU mD6dxucrEv7EtTEHx/Jm87ryah0bl/SXoozZHbj+WtV9HW3BgLChXYRF1ya/PcW5zNud NrwoDdbcL7g3PLNUUn18ncFMLi/pPcmTIuXu0= X-Google-DKIM-Signature: v=1; a=rsa-sha256; c=relaxed/relaxed; d=1e100.net; s=20230601; t=1753253894; x=1753858694; h=references:in-reply-to:cc:to:from:subject:message-id:date :x-gm-message-state:from:to:cc:subject:date:message-id:reply-to; bh=RgzklMsfAJDEQQsdTMivRYUSMasY4YuWCz8N2A/Ca+M=; b=qZTDDl0hvzQWAzPoj9/u9F0sP0Q4/f1FoPTlpicIshnf3X3Ascc93cNn4A7iYWDlbR 1ya6dHrmEybzaovca5xQM9Fa4XAiLf/RZZsrtDAgaGWGgDif9lhz/h/aCFeWeaMcWmU2 cPAttLCW6b/90F+LL1qFk1cTTDJPwbVdkqQrpmHeTCUn5TLHWOlxwJwedLNcMAIBqm+W YRrf3JoHVdn87NCABRRXguIsWmKS5UBJWvwS33YIy1eZqSRExsaFwYxJd09gDdGIZEOB hLFouMpMIpr9spF0O75Y4UEhuXxKpxUxWcEfE9W5hpLwkfw74M8+ArdjdDFvMLo/QB3x uyHA== X-Gm-Message-State: AOJu0YxbYna9L4D+BpCTQN2b8heYa1GTr2Gjl46UzXJxlKz4X6qgBdXq /Fl4t8WdXwYay14mkzEev3nosyp7FU5DYENevSu1tBrbOeIHemvn21e02hhhVNwBR3S3YMy6DWY 1cGziC9dqGF7hmlYRadTtR3Eo+pqLVXnyL9Exn8JcU82WLapEnVGsAikWhgmX X-Gm-Gg: ASbGncux6hICCW5S7+FWsLCSNAs1gVvUT6axmX6WuveYObMnzoQKyYTmOBJlBvXLrQd iyEdjgHDBQwTr2Cte3Fo+HSjcWUNdfMarJQdyUYWjxV0V7pI2HRxEJ6U2l7MDXg1BeRUWel1+mS bLJk5/4nfAKJbNMYah2OM+6X5fFjyVF1cTC7/Z48pZq4I6IwgN+JDtmrhsf8T0xfkizP8sL70Da vhTHuFmSVYlH4ArF+qjPba9AScjgEybJ1DGpDTUOz1HMLnErm9Oi7igpxyMo/3I9VqoRQOP9Wdb 9mKfPfAQ3S34yuXu4QPj0GzaIBXIDF8oU753fHfxJMKO1HDOmQ== X-Google-Smtp-Source: AGHT+IFFjmHG3ZfZm3MQ38NX5Lu37WWU84zerEc4gm9npfiifc/myref5jHlJLMP/caAsAkV4ey/Yv3ax6yi X-Received: by 2002:a17:903:2b03:b0:234:c549:da10 with SMTP id d9443c01a7336-23f981d2e75mr26839585ad.47.1753253894341; Tue, 22 Jul 2025 23:58:14 -0700 (PDT) Received: from postal.iol.unh.edu (postal.iol.unh.edu. [2606:4100:3880:1234::84]) by smtp-relay.gmail.com with ESMTPS id 98e67ed59e1d1-31e51a02552sm61041a91.8.2025.07.22.23.58.14 (version=TLS1_2 cipher=ECDHE-ECDSA-AES128-GCM-SHA256 bits=128/128); Tue, 22 Jul 2025 23:58:14 -0700 (PDT) X-Relaying-Domain: iol.unh.edu Date: Tue, 22 Jul 2025 23:58:14 -0700 (PDT) Message-ID: <68808806.170a0220.1475dd.31d3SMTPIN_ADDED_MISSING@mx.google.com> Received: from [172.21.0.2] (unknown [172.18.0.240]) by postal.iol.unh.edu (Postfix) with ESMTP id 932BE6051830; Wed, 23 Jul 2025 02:58:13 -0400 (EDT) Subject: |SUCCESS| pw155455 [PATCH] [v2] lib/ethdev: fix segfault in secondar From: dpdklab@iol.unh.edu To: Test Report Cc: dpdk-test-reports@iol.unh.edu In-Reply-To: <20250723045022.1580829-1-14pwcse1224@uetpeshawar.edu.pk> References: <20250723045022.1580829-1-14pwcse1224@uetpeshawar.edu.pk> Content-Type: text/plain X-BeenThere: test-report@dpdk.org X-Mailman-Version: 2.1.29 Precedence: list List-Id: automatic DPDK test reports List-Unsubscribe: , List-Archive: List-Post: List-Help: List-Subscribe: , Errors-To: test-report-bounces@dpdk.org Test-Label: iol-compile-amd64-testing Test-Status: SUCCESS http://dpdk.org/patch/155455 _Testing PASS_ Submitter: Khadem Ullah <14pwcse1224@uetpeshawar.edu.pk> Date: Wednesday, July 23 2025 04:50:22 DPDK git baseline: Repo:dpdk Branch: master CommitID:b78afde1fed9e11ee5cdce333a1a69dd7a9cf13e 155455 --> testing pass Upstream job id: Windows-Compile-DPDK-Native#29965 Test environment and result as below: +---------------------+--------------------+-------------------+-------------------------+----------------------+ | Environment | dpdk_meson_compile | dpdk_msvc_compile | dpdk_llvm_clang_compile | dpdk_mingw64_compile | +=====================+====================+===================+=========================+======================+ | Ubuntu 20.04 | PASS | SKIPPED | SKIPPED | SKIPPED | +---------------------+--------------------+-------------------+-------------------------+----------------------+ | FreeBSD 14.2 | PASS | SKIPPED | SKIPPED | SKIPPED | +---------------------+--------------------+-------------------+-------------------------+----------------------+ | Windows Server 2022 | SKIPPED | PASS | PASS | PASS | +---------------------+--------------------+-------------------+-------------------------+----------------------+ Ubuntu 20.04 Kernel: 4.19 Compiler: gcc gcc (Ubuntu 9.4.0-1ubuntu1~20.04.2) 9.4.0 FreeBSD 14.2 Kernel: 14.2-RELEASE Compiler: clang 18.1.6 Windows Server 2022 Kernel: 10.0.20348.2031 Compiler: clang 15.0.7, gcc 14.1.0 (MinGW), and MSVC VS 19.39.33521 To view detailed results, visit: https://lab.dpdk.org/results/dashboard/patchsets/33733/ UNH-IOL DPDK Community Lab To manage your email subscriptions, visit: https://lab.dpdk.org/results/dashboard/preferences/subscriptions/