From mboxrd@z Thu Jan 1 00:00:00 1970 Return-Path: Received: from mails.dpdk.org (mails.dpdk.org [217.70.189.124]) by inbox.dpdk.org (Postfix) with ESMTP id A74FA46BEC for ; Wed, 23 Jul 2025 09:08:26 +0200 (CEST) Received: from mails.dpdk.org (localhost [127.0.0.1]) by mails.dpdk.org (Postfix) with ESMTP id 9D9D8402CA; Wed, 23 Jul 2025 09:08:26 +0200 (CEST) Received: from mail-yb1-f225.google.com (mail-yb1-f225.google.com [209.85.219.225]) by mails.dpdk.org (Postfix) with ESMTP id 8E764402CA for ; Wed, 23 Jul 2025 09:08:25 +0200 (CEST) Received: by mail-yb1-f225.google.com with SMTP id 3f1490d57ef6-e8bd171826cso5776290276.3 for ; Wed, 23 Jul 2025 00:08:25 -0700 (PDT) DKIM-Signature: v=1; a=rsa-sha256; c=relaxed/relaxed; d=iol.unh.edu; s=unh-iol; t=1753254505; x=1753859305; darn=dpdk.org; h=references:in-reply-to:cc:to:from:subject:message-id:date:from:to :cc:subject:date:message-id:reply-to; bh=3Mh7KIYWn693GdSME0DPNRJDz6CT16Y6AwPskcdzBHQ=; b=gThS8AMxqEuZxm/hCeM8KaYCiC6ILiQhA2hvWs/RhpAu1Yc55/yl5jAsnV5XC4R1/N oT2Xy0yO0znuIVQ1NTeuAd0hJCdie3mUwmk+0st+Er0lQNmcWA1BIQ90Fs8M6+mX3edh mjNNdSgB4mehX6u9qzGxmWrrCJSUzE7nAbE00= X-Google-DKIM-Signature: v=1; a=rsa-sha256; c=relaxed/relaxed; d=1e100.net; s=20230601; t=1753254505; x=1753859305; h=references:in-reply-to:cc:to:from:subject:message-id:date :x-gm-message-state:from:to:cc:subject:date:message-id:reply-to; bh=3Mh7KIYWn693GdSME0DPNRJDz6CT16Y6AwPskcdzBHQ=; b=LZtdLFaxwKJLhaN4efqlyvprSnCF0Yx5kU/dTBFNMZ3tMiRa7xbmWwrXequAf7U/nN wx+q4zyvYT0iJK89SS21J94Ddf+JKp3VIFfGMYXM5x85kA4XeOFxz+gKE4/sSdTdRBg+ 9ubpfzPzb43t3NMiRrOz+1qhRf/jWcPns2us21t4YjaOzBUvsQrsexUc5cTJA8TRz6zf Qf7fS32QYGyQM/jcEJ3rcfnr9i5yATnzc8dGH//SKirBeKtW1s/EiGFMjakbh6U4kOqD LKsDDn86atTfziholtbEXbovMjPrISzEjc21zVzO0g8Ei1V8A3qiCh5caQBtLgyPWuXI yM3w== X-Gm-Message-State: AOJu0YwX7QNlYfnLUYbmY8olTVZ9FRJlY4PYyBT9BfQaDOjAYSqJa8Nl 5WrtneFE+GVnU5UqGShyzEOD4huel34hvO+j+kKVU4zmIG0OrCvkoWfuZekD7F7qBbI7QdsVyg2 hsHAzBMaa2/AMUguosJTon3ETz1BHRI1/Dx7n8fVC5hJL X-Gm-Gg: ASbGnctElojoW2zwUEM8syg8tYjSCKxFB3K1xOZtEmPn8WxLaNaq+Zeg8sijQKU3Gy2 lMlDMPWjusz86MVjf4nrPrD4MBsSWUVpjBdnilUg0VJv3wbQHj53ijNwY6FUh81+Gfz2LYe6NWT U+oznbOsORhyV332PyP8lpOGjklDFqavifaNH+4D93PLn9JnCsvEZYy7kK0j4MNZHz4/q5YHjca XHN4P95gU2Eb4Ric86I0MWeQIZzoRDvNN7NyhaVNS03SsbqjALO9cKh0NxAu5oegJpyOEKiW/Le YssZAeFHJ5uXFao5widGOf9K4YTnKLnzqLwCdMfwEpG79jshKxHelIh4mEgPeod5JaXT8iFZ X-Google-Smtp-Source: AGHT+IGbWwnlHlHJWhVjVaehFNSbIg2MTx1hGyC8gquwElNnH9AkoQlTvm60uVovRLlpDkmZBbsYvA19er+8 X-Received: by 2002:a05:690c:3347:b0:717:9ea1:ab2b with SMTP id 00721157ae682-719b414701emr26565367b3.9.1753254504926; Wed, 23 Jul 2025 00:08:24 -0700 (PDT) Received: from postal.iol.unh.edu (postal.iol.unh.edu. [132.177.123.84]) by smtp-relay.gmail.com with ESMTPS id 00721157ae682-71953104e04sm6185267b3.7.2025.07.23.00.08.24 (version=TLS1_2 cipher=ECDHE-ECDSA-AES128-GCM-SHA256 bits=128/128); Wed, 23 Jul 2025 00:08:24 -0700 (PDT) X-Relaying-Domain: iol.unh.edu Date: Wed, 23 Jul 2025 00:08:24 -0700 (PDT) Message-ID: <68808a68.050a0220.17a6e6.f9e0SMTPIN_ADDED_MISSING@mx.google.com> Received: from [172.21.0.4] (unknown [172.18.0.240]) by postal.iol.unh.edu (Postfix) with ESMTP id 976AD6051830; Wed, 23 Jul 2025 03:08:24 -0400 (EDT) Subject: |SUCCESS| pw155447-155454 [PATCH] [v9,8/8] lib/pmu: fix out-of-bound From: dpdklab@iol.unh.edu To: Test Report Cc: dpdk-test-reports@iol.unh.edu In-Reply-To: <20250723044118.2962318-9-tduszynski@marvell.com> References: <20250723044118.2962318-9-tduszynski@marvell.com> Content-Type: text/plain X-BeenThere: test-report@dpdk.org X-Mailman-Version: 2.1.29 Precedence: list List-Id: automatic DPDK test reports List-Unsubscribe: , List-Archive: List-Post: List-Help: List-Subscribe: , Errors-To: test-report-bounces@dpdk.org Test-Label: iol-compile-amd64-testing Test-Status: SUCCESS http://dpdk.org/patch/155454 _Testing PASS_ Submitter: Tomasz Duszynski Date: Wednesday, July 23 2025 04:41:18 DPDK git baseline: Repo:dpdk Branch: master CommitID:b222395561638f89562e4ef42e1eabf2d6db43dd 155447-155454 --> testing pass Upstream job id: Windows-Compile-DPDK-Native#29966 Test environment and result as below: +---------------------+-------------------+--------------------+-------------------------+ | Environment | dpdk_msvc_compile | dpdk_meson_compile | dpdk_llvm_clang_compile | +=====================+===================+====================+=========================+ | Windows Server 2022 | PASS | SKIPPED | PASS | +---------------------+-------------------+--------------------+-------------------------+ | FreeBSD 14.2 | SKIPPED | PASS | SKIPPED | +---------------------+-------------------+--------------------+-------------------------+ | Ubuntu 20.04 | SKIPPED | PASS | SKIPPED | +---------------------+-------------------+--------------------+-------------------------+ Windows Server 2022 Kernel: 10.0.20348.2031 Compiler: clang 15.0.7, gcc 14.1.0 (MinGW), and MSVC VS 19.39.33521 FreeBSD 14.2 Kernel: 14.2-RELEASE Compiler: clang 18.1.6 Ubuntu 20.04 Kernel: 4.19 Compiler: gcc gcc (Ubuntu 9.4.0-1ubuntu1~20.04.2) 9.4.0 To view detailed results, visit: https://lab.dpdk.org/results/dashboard/patchsets/33732/ UNH-IOL DPDK Community Lab To manage your email subscriptions, visit: https://lab.dpdk.org/results/dashboard/preferences/subscriptions/