From mboxrd@z Thu Jan 1 00:00:00 1970 Return-Path: Received: from mails.dpdk.org (mails.dpdk.org [217.70.189.124]) by inbox.dpdk.org (Postfix) with ESMTP id 11E8B46BEC for ; Wed, 23 Jul 2025 09:22:41 +0200 (CEST) Received: from mails.dpdk.org (localhost [127.0.0.1]) by mails.dpdk.org (Postfix) with ESMTP id DDF3D402CA; Wed, 23 Jul 2025 09:22:40 +0200 (CEST) Received: from mail-pf1-f228.google.com (mail-pf1-f228.google.com [209.85.210.228]) by mails.dpdk.org (Postfix) with ESMTP id 6B2D1402CA for ; Wed, 23 Jul 2025 09:22:39 +0200 (CEST) Received: by mail-pf1-f228.google.com with SMTP id d2e1a72fcca58-73c17c770a7so7175216b3a.2 for ; Wed, 23 Jul 2025 00:22:39 -0700 (PDT) DKIM-Signature: v=1; a=rsa-sha256; c=relaxed/relaxed; d=iol.unh.edu; s=unh-iol; t=1753255358; x=1753860158; darn=dpdk.org; h=references:in-reply-to:cc:to:from:subject:message-id:date:from:to :cc:subject:date:message-id:reply-to; bh=4Za9omeo6w0g4bOhVesUWyW0K0gITJCRAJrF6Zjk8VM=; b=ELJqrlz5TGN9au7p5vU8kNxWgvq+xXPDBcoH7+ym2DyG+4Mk3hlzrSK4LtYiT8Powa XRi3TDbIjUHuccvvsj8xwY7RS9iLJ6hrZuDzB56P3nkIYDe7PFltO17vJVh7+QTG6qZs RWNp0hEtZdBfpvEcKWMesIXKIj0a4HRTZ2i1A= X-Google-DKIM-Signature: v=1; a=rsa-sha256; c=relaxed/relaxed; d=1e100.net; s=20230601; t=1753255358; x=1753860158; h=references:in-reply-to:cc:to:from:subject:message-id:date :x-gm-message-state:from:to:cc:subject:date:message-id:reply-to; bh=4Za9omeo6w0g4bOhVesUWyW0K0gITJCRAJrF6Zjk8VM=; b=oC1UsmIxoz3weojhC7nptQwxRCQ2LIxv+W8fdoZLlkPo2AZPbjgnRHAPn3rvCO9fkz GQilZqoV6U6fS9BOlwuQtOA+sgn0T1QtEdcRloezZWXyiJ+l4tg81MNZ4/UyaLSi2Trk zJlci7YMyKghMhaEuw1wYywrzybeqJr/T3jdbxDB0yuIzmkNaRrCmiA0cZC0y2DPCi2g JRSy0448K8Vt5YAMyYyRk/Kp72nVA1H6SqryKzDNc1veawW/qgMJfdKk7j/NI63wYDP6 pc5w4lMRBIsmStU69aSWAVSLcGRbyzejaf6gScxt0rkvpod/l30iGE7yhVuLxw7biy03 8NRg== X-Gm-Message-State: AOJu0Yw7PqystCnY2s21EnckdhCNuTMc4ygUJwfWqqz2wxP8d+qW1WeG oWJYA5OhGzXyipX8ihOHuYHtGlWEbKWM8mxRya9g+l9OKFvNfjGhuyNtl/1wOAKm4VhVxfGcUD5 Ybf/xWBPd8+TF4G5ghVHpYCsfYGzpVMQeKD0DiiOO1Nub X-Gm-Gg: ASbGncvc04FMMq2UvCaVm9WmhlFBjCj4Z7y+FO7GUSJMrN3C38nmSF+8jJObAOpZbyc pmHhG1Re9qdB1SeYABIx5/+9wst2nCc/UPQrj2P8tzYBgc3GQ6K4IQ2NFGDn+vHSLnkDuYe+OBS xypDkcZA2tHLCo1B3obVT7j1bcZYjGlXithZsPVN6EC7OS3BXsGYHkRagnZqwvrinDVLaklhE8i 4kppDThkJPNjUEJsWDaVAV0vEtg6bvKWQBG9X15VySATX09ca84h6XiPRtOxnranZQw8nIEo/rZ Ncy8NR7nUAwHI7PUEfBjCpunc2wNjWr56SmMBLA05lGorS5nfhEeVatjCOgOCnmf4Uf+OTXn X-Google-Smtp-Source: AGHT+IGyqgYWoiSJu4M0RLySYVMAIQ4u2I7W7X59I7vFFwXxDb88TYCu0U0a4R7mNcepBCS2/CjGbl0YtrMh X-Received: by 2002:a05:6a20:a10f:b0:231:e482:932c with SMTP id adf61e73a8af0-23d4916acc8mr3158380637.41.1753255358462; Wed, 23 Jul 2025 00:22:38 -0700 (PDT) Received: from postal.iol.unh.edu (postal.iol.unh.edu. [132.177.123.84]) by smtp-relay.gmail.com with ESMTPS id 41be03b00d2f7-b3f2ff54dccsm728321a12.15.2025.07.23.00.22.38 (version=TLS1_2 cipher=ECDHE-ECDSA-AES128-GCM-SHA256 bits=128/128); Wed, 23 Jul 2025 00:22:38 -0700 (PDT) X-Relaying-Domain: iol.unh.edu Date: Wed, 23 Jul 2025 00:22:38 -0700 (PDT) Message-ID: <68808dbe.050a0220.34a46a.5351SMTPIN_ADDED_MISSING@mx.google.com> Received: from [172.21.0.4] (unknown [172.18.0.240]) by postal.iol.unh.edu (Postfix) with ESMTP id B5B636051830; Wed, 23 Jul 2025 03:22:37 -0400 (EDT) Subject: |SUCCESS| pw155447-155454 [PATCH] [v9,8/8] lib/pmu: fix out-of-bound From: dpdklab@iol.unh.edu To: Test Report Cc: dpdk-test-reports@iol.unh.edu In-Reply-To: <20250723044118.2962318-9-tduszynski@marvell.com> References: <20250723044118.2962318-9-tduszynski@marvell.com> Content-Type: text/plain X-BeenThere: test-report@dpdk.org X-Mailman-Version: 2.1.29 Precedence: list List-Id: automatic DPDK test reports List-Unsubscribe: , List-Archive: List-Post: List-Help: List-Subscribe: , Errors-To: test-report-bounces@dpdk.org Test-Label: iol-compile-amd64-testing Test-Status: SUCCESS http://dpdk.org/patch/155454 _Testing PASS_ Submitter: Tomasz Duszynski Date: Wednesday, July 23 2025 04:41:18 DPDK git baseline: Repo:dpdk Branch: master CommitID:b222395561638f89562e4ef42e1eabf2d6db43dd 155447-155454 --> testing pass Upstream job id: Windows-Compile-DPDK-Native#29967 Test environment and result as below: +---------------------+-------------------+--------------------+-------------------------+----------------------+ | Environment | dpdk_msvc_compile | dpdk_meson_compile | dpdk_llvm_clang_compile | dpdk_mingw64_compile | +=====================+===================+====================+=========================+======================+ | Windows Server 2022 | PASS | SKIPPED | PASS | PASS | +---------------------+-------------------+--------------------+-------------------------+----------------------+ | FreeBSD 14.2 | SKIPPED | PASS | SKIPPED | SKIPPED | +---------------------+-------------------+--------------------+-------------------------+----------------------+ | Ubuntu 20.04 | SKIPPED | PASS | SKIPPED | SKIPPED | +---------------------+-------------------+--------------------+-------------------------+----------------------+ Windows Server 2022 Kernel: 10.0.20348.2031 Compiler: clang 15.0.7, gcc 14.1.0 (MinGW), and MSVC VS 19.39.33521 FreeBSD 14.2 Kernel: 14.2-RELEASE Compiler: clang 18.1.6 Ubuntu 20.04 Kernel: 4.19 Compiler: gcc gcc (Ubuntu 9.4.0-1ubuntu1~20.04.2) 9.4.0 To view detailed results, visit: https://lab.dpdk.org/results/dashboard/patchsets/33732/ UNH-IOL DPDK Community Lab To manage your email subscriptions, visit: https://lab.dpdk.org/results/dashboard/preferences/subscriptions/