From mboxrd@z Thu Jan 1 00:00:00 1970 Return-Path: Received: from mails.dpdk.org (mails.dpdk.org [217.70.189.124]) by inbox.dpdk.org (Postfix) with ESMTP id 4BDA146B8C for ; Wed, 23 Jul 2025 09:35:42 +0200 (CEST) Received: from mails.dpdk.org (localhost [127.0.0.1]) by mails.dpdk.org (Postfix) with ESMTP id 279F2402CA; Wed, 23 Jul 2025 09:35:42 +0200 (CEST) Received: from mail-yw1-f225.google.com (mail-yw1-f225.google.com [209.85.128.225]) by mails.dpdk.org (Postfix) with ESMTP id 28ED1402CA for ; Wed, 23 Jul 2025 09:35:40 +0200 (CEST) Received: by mail-yw1-f225.google.com with SMTP id 00721157ae682-70e64b430daso68054037b3.3 for ; Wed, 23 Jul 2025 00:35:40 -0700 (PDT) DKIM-Signature: v=1; a=rsa-sha256; c=relaxed/relaxed; d=iol.unh.edu; s=unh-iol; t=1753256139; x=1753860939; darn=dpdk.org; h=references:in-reply-to:cc:to:from:subject:message-id:date:from:to :cc:subject:date:message-id:reply-to; bh=N18XRCCWk0ESSa4g7LCBvbl4gHxLWMwU6Uk1YuJnrxE=; b=c/LPQZq5bllqZXYMOBkzvXJm6dmj0axN3E1eDw4Uqu2L7yeNKQFDNWAI2iESxIR9+r KaYodFCLm/Kjqj2+dQozkYHcuHeF9NBQFB4k6X06aM599QYY0FZl9lKKPh1wXg2uqYiZ oHIVAIxjZPgXBA8ZHCywgmQrQYGmy+6ITB/C8= X-Google-DKIM-Signature: v=1; a=rsa-sha256; c=relaxed/relaxed; d=1e100.net; s=20230601; t=1753256139; x=1753860939; h=references:in-reply-to:cc:to:from:subject:message-id:date :x-gm-message-state:from:to:cc:subject:date:message-id:reply-to; bh=N18XRCCWk0ESSa4g7LCBvbl4gHxLWMwU6Uk1YuJnrxE=; b=ic+N/YhvnDJBZ88K10Z0LvmRuxqSCnbv+7095w3qFBqzKiNpxS3ZWPrgFxJ+ueU5u0 LWZyft2k9CUrYmG8HgRJGXVKVDzOD+JX3rY6GJVzdxpb0Zvbqq4aI0aOsQTqgulCoCxr VfZiGtqCabIyLZ6o4WWmsT1w74gskTdMn08Ss8sXgsyVbOfz4SfdhEVWiymcstMR+F+o idnUl+Nmv8bmaBi2BqYNmLqz6mTvAKs89IpfkUJrb8s805PeYSQ1WDtLwejCe28/V18V N27nS/+qVyql+4YFIE/wSsXNiVhKICwl4aWcLXdqppHJYh0Pos4m5Y8gOeNegPRlsfCT A9Hw== X-Gm-Message-State: AOJu0YyxL6stiB6aowb6MhkH52nQdzN0s5W0yKACBJ66+pmtINmFvBHr zoAkSC7hG87r3y54N7YJfcU8f/XD1Hyiflk7R8MUxl+t+J0w1NCa1Az/Zcm+X/9iGHF92cvXVaF cyvhhNgOWlpLVcuAAAcZj3bWvpn9x8j+d9WEa9QW6Lo8WtSuD2jRxt9Pq0f5T X-Gm-Gg: ASbGnctf0bh/gY9yZps8D7g+ecFeR6/ObYyRYZPte8XCiXPMSuYaEj6Z6xOMXloozvq ttK/F6nxKuUTsA1hoPHUN1tBfEFEbC+vvkH46Wzc+B9zGk1ln1FbpuLAbL9qq/uG7It+a3qfGtH 4qjjTAFzb8kzGf/pALoKI2rLCyT/PCCrxu61ZQI07Cegu3Zv5gB6WEYj34jnlMI6poAu+StsESU HfDByO9R6SBzv1eEhjtLGpawloeE1suWRyoUXgmIbBHiLLOelkZ2YhcG3X2mq/G/dnk3Grlt1O5 txEr2yjn1586PLD0RrXqZouwm44kggz/m+9zGDyhspIyuOFPpg== X-Google-Smtp-Source: AGHT+IEBJ2FvZD79VT8EJbDiF7F8uTdwlkcRJMkStHX2GhwHu3ahP+2q98BrUnOLzsE4vYcX1Dp07ZX4lbCp X-Received: by 2002:a05:690c:48c2:b0:719:5175:3091 with SMTP id 00721157ae682-719b424d23fmr26406067b3.40.1753256139453; Wed, 23 Jul 2025 00:35:39 -0700 (PDT) Received: from postal.iol.unh.edu (postal.iol.unh.edu. [2606:4100:3880:1234::84]) by smtp-relay.gmail.com with ESMTPS id 00721157ae682-719532ce913sm6327897b3.37.2025.07.23.00.35.39 (version=TLS1_2 cipher=ECDHE-ECDSA-AES128-GCM-SHA256 bits=128/128); Wed, 23 Jul 2025 00:35:39 -0700 (PDT) X-Relaying-Domain: iol.unh.edu Date: Wed, 23 Jul 2025 00:35:39 -0700 (PDT) Message-ID: <688090cb.050a0220.2804de.16abSMTPIN_ADDED_MISSING@mx.google.com> Received: from [172.21.0.5] (unknown [172.18.0.240]) by postal.iol.unh.edu (Postfix) with ESMTP id 272086051830; Wed, 23 Jul 2025 03:35:39 -0400 (EDT) Subject: |SUCCESS| pw155431-155432 [PATCH] [v1,2/2] dts: add exception handli From: dpdklab@iol.unh.edu To: Test Report Cc: dpdk-test-reports@iol.unh.edu In-Reply-To: <20250722172214.202308-2-dmarx@iol.unh.edu> References: <20250722172214.202308-2-dmarx@iol.unh.edu> Content-Type: text/plain X-BeenThere: test-report@dpdk.org X-Mailman-Version: 2.1.29 Precedence: list List-Id: automatic DPDK test reports List-Unsubscribe: , List-Archive: List-Post: List-Help: List-Subscribe: , Errors-To: test-report-bounces@dpdk.org Test-Label: iol-compile-arm64-testing Test-Status: SUCCESS http://dpdk.org/patch/155432 _Testing PASS_ Submitter: Dean Marx Date: Tuesday, July 22 2025 17:22:14 DPDK git baseline: Repo:dpdk Branch: master CommitID:f8fb19d5e2fc20798ed0caa292a1538fbbd98f96 155431-155432 --> testing pass Upstream job id: Generic-DPDK-Compile-Meson#411215 Test environment and result as below: +------------------------------+--------------------+ | Environment | dpdk_meson_compile | +==============================+====================+ | Red Hat Enterprise Linux 9.5 | PASS | +------------------------------+--------------------+ | Ubuntu 20.04 | PASS | +------------------------------+--------------------+ | Debian GNU/Linux 12 | PASS | +------------------------------+--------------------+ | Fedora Linux 40 | PASS | +------------------------------+--------------------+ | Fedora Linux 41 | PASS | +------------------------------+--------------------+ | Ubuntu 22.04 | PASS | +------------------------------+--------------------+ | Ubuntu 24.04 | PASS | +------------------------------+--------------------+ | CentOS Stream 9 | PASS | +------------------------------+--------------------+ | CentOS Stream 10 | PASS | +------------------------------+--------------------+ Red Hat Enterprise Linux 9.5 Kernel: 5.4 Compiler: gcc gcc (GCC) 11.5.0 20240719 (Red Hat 11.5.0-2) Ubuntu 20.04 Kernel: 5.15 Compiler: aarch64-linux-gnu-gcc gcc (Ubuntu 9.4.0-1ubuntu1~20.04.2) 9.4.0 Debian GNU/Linux 12 Kernel: 5.4 Compiler: gcc gcc (Debian 12.2.0-14+deb12u1) 12.2.0 Fedora Linux 40 Kernel: 5.4 Compiler: gcc gcc (GCC) 14.2.1 20240912 (Red Hat 14.2.1-3) Fedora Linux 41 Kernel: 5.4 Compiler: gcc gcc (GCC) 14.3.1 20250523 (Red Hat 14.3.1-1) Ubuntu 22.04 Kernel: 5.4 Compiler: gcc gcc (Ubuntu 11.4.0-1ubuntu1~22.04) 11.4.0 Ubuntu 24.04 Kernel: 5.4 Compiler: gcc gcc (Ubuntu 13.3.0-6ubuntu2~24.04) 13.3.0 CentOS Stream 9 Kernel: 5.4 Compiler: gcc gcc (GCC) 11.5.0 20240719 (Red Hat 11.5.0-7) CentOS Stream 10 Kernel: 5.4 Compiler: gcc gcc (GCC) 14.2.1 20250110 (Red Hat 14.2.1-8) To view detailed results, visit: https://lab.dpdk.org/results/dashboard/patchsets/33729/ UNH-IOL DPDK Community Lab To manage your email subscriptions, visit: https://lab.dpdk.org/results/dashboard/preferences/subscriptions/