From mboxrd@z Thu Jan 1 00:00:00 1970 Return-Path: Received: from mails.dpdk.org (mails.dpdk.org [217.70.189.124]) by inbox.dpdk.org (Postfix) with ESMTP id D65E046BEE for ; Wed, 23 Jul 2025 10:00:12 +0200 (CEST) Received: from mails.dpdk.org (localhost [127.0.0.1]) by mails.dpdk.org (Postfix) with ESMTP id B8FF740264; Wed, 23 Jul 2025 10:00:12 +0200 (CEST) Received: from mail-pf1-f225.google.com (mail-pf1-f225.google.com [209.85.210.225]) by mails.dpdk.org (Postfix) with ESMTP id E3B6440264 for ; Wed, 23 Jul 2025 10:00:10 +0200 (CEST) Received: by mail-pf1-f225.google.com with SMTP id d2e1a72fcca58-749248d06faso5436083b3a.2 for ; Wed, 23 Jul 2025 01:00:10 -0700 (PDT) DKIM-Signature: v=1; a=rsa-sha256; c=relaxed/relaxed; d=iol.unh.edu; s=unh-iol; t=1753257610; x=1753862410; darn=dpdk.org; h=references:in-reply-to:cc:to:from:subject:message-id:date:from:to :cc:subject:date:message-id:reply-to; bh=s1V6v3fcYslwxzyqWi3LBdzNhFCqZPEuqQrnfm1G0Ug=; b=UHvWZn05iBIOdPJgW95cxaKmfe2d1HeqI238ddTZMGESz+m4eR52NS2DWiiYV7Yz3S ioK6DB97x3nFZFWBzRfTLGGxbeg9vBpjXgZ7BIasTowMgb1lJTzf6dTv/+2eMTYPO+cX rESQ5OtljjUJYCbTo8VCdUm1IeqzIQA+uWfHU= X-Google-DKIM-Signature: v=1; a=rsa-sha256; c=relaxed/relaxed; d=1e100.net; s=20230601; t=1753257610; x=1753862410; h=references:in-reply-to:cc:to:from:subject:message-id:date :x-gm-message-state:from:to:cc:subject:date:message-id:reply-to; bh=s1V6v3fcYslwxzyqWi3LBdzNhFCqZPEuqQrnfm1G0Ug=; b=OImJUCljx1epKDjHCm1BYVIu/7yzZ+3SsJyVu/Lb3NazD1UkwHYiCTFq2jYmJsqa+O 4vZwz3fLNokdTAdt1/N6ZB1zhsgR5eReVo/XRG8ZSaAO6ZlQP8jo5eveBz78khL2TmM8 6zlRWa6u5iZ0bgdgTlwQKd+JU2y4KjzwQC093hiEDo6pafLRRtYl2YYyyX5Nh05IcR1t qwzykKA7CE5SS8PN4QVh85E4XSFYy1TWcbTFKllGKlPD8dSkeLyBoRMP8Ok2AJX4sXba Uhb0lL2hfeeS5zVJw9V2qwcbsS+EhcOBmf7APUKHSWYo53f+Iy87eZPdZZcx6ZD8JUvE 5sWg== X-Gm-Message-State: AOJu0Yy2qnqYjwmPXitYcsSK2fjCoqYcr1HtOD5/5GLavo8rRsB54wBL FPOsuU1yMka3PvhfFcLbsCKw5RGs1wM6IqxBTiIwefjBe5asUR+nZ5RuiruX2lYu6gTObDqSJn3 0XioDyMu/HpXiKFTPmzaU3ZwB/JtOSccFf57d3Mw0vmqEsu+tBrRe79U4UFd1 X-Gm-Gg: ASbGncuhTaM/acns59RDzPUj88qMZCAZmqaWW/IDAaXqoeyO4+D3S6ohOf5UUF5LBcQ aWQJvsxEpvo73daNPUR3sMjScKCET96hKfJUxj7cL2I6nTPRjITGYqRsDDzTEI5tzmyjPdsJKSC 7CScPccigCS0yjht64Zz+ZI2vpvI6Aq5sJJIW/5S0k755u9rhV7ZDQRBoiiS+TcDeiAyQ2+uugV X06pDVE5LVieOuPYJe41Sz+xGjvM13CH5c+0is3wz4Sy/at3CEholD3226grFXwHQq8iEudYJ2P BdDLIEvyaYsA5N4BXShaDJIq6eepxKr5b30V0cHUQS3HzkZYaA== X-Google-Smtp-Source: AGHT+IHWxLL6txfHz/fhCWG+Uu6c0QdhAvjqRwpvdYtmAluWqDYW507jW7fnlU7als3EXK/erdzNitHGlfxv X-Received: by 2002:a05:6a20:a125:b0:21f:4631:811c with SMTP id adf61e73a8af0-23d4905d559mr2958605637.19.1753257609982; Wed, 23 Jul 2025 01:00:09 -0700 (PDT) Received: from postal.iol.unh.edu (postal.iol.unh.edu. [2606:4100:3880:1234::84]) by smtp-relay.gmail.com with ESMTPS id 41be03b00d2f7-b3f2fe69c75sm733787a12.5.2025.07.23.01.00.09 (version=TLS1_2 cipher=ECDHE-ECDSA-AES128-GCM-SHA256 bits=128/128); Wed, 23 Jul 2025 01:00:09 -0700 (PDT) X-Relaying-Domain: iol.unh.edu Date: Wed, 23 Jul 2025 01:00:09 -0700 (PDT) Message-ID: <68809689.050a0220.39836f.8fdbSMTPIN_ADDED_MISSING@mx.google.com> Received: from [172.21.0.4] (unknown [172.18.0.240]) by postal.iol.unh.edu (Postfix) with ESMTP id 41F936051830; Wed, 23 Jul 2025 04:00:09 -0400 (EDT) Subject: |SUCCESS| pw155431-155432 [PATCH] [v1,2/2] dts: add exception handli From: dpdklab@iol.unh.edu To: Test Report Cc: dpdk-test-reports@iol.unh.edu In-Reply-To: <20250722172214.202308-2-dmarx@iol.unh.edu> References: <20250722172214.202308-2-dmarx@iol.unh.edu> Content-Type: text/plain X-BeenThere: test-report@dpdk.org X-Mailman-Version: 2.1.29 Precedence: list List-Id: automatic DPDK test reports List-Unsubscribe: , List-Archive: List-Post: List-Help: List-Subscribe: , Errors-To: test-report-bounces@dpdk.org Test-Label: iol-compile-arm64-testing Test-Status: SUCCESS http://dpdk.org/patch/155432 _Testing PASS_ Submitter: Dean Marx Date: Tuesday, July 22 2025 17:22:14 DPDK git baseline: Repo:dpdk Branch: master CommitID:f8fb19d5e2fc20798ed0caa292a1538fbbd98f96 155431-155432 --> testing pass Upstream job id: Generic-DPDK-Compile-Meson#411244 Test environment and result as below: +------------------------------+--------------------+ | Environment | dpdk_meson_compile | +==============================+====================+ | Red Hat Enterprise Linux 9.5 | PASS | +------------------------------+--------------------+ | Ubuntu 20.04 | PASS | +------------------------------+--------------------+ | Debian GNU/Linux 12 | PASS | +------------------------------+--------------------+ | Fedora Linux 40 | PASS | +------------------------------+--------------------+ | Fedora Linux 41 | PASS | +------------------------------+--------------------+ | Ubuntu 22.04 | PASS | +------------------------------+--------------------+ | Ubuntu 24.04 | PASS | +------------------------------+--------------------+ | CentOS Stream 9 | PASS | +------------------------------+--------------------+ | CentOS Stream 10 | PASS | +------------------------------+--------------------+ Red Hat Enterprise Linux 9.5 Kernel: 5.4 Compiler: gcc gcc (GCC) 11.5.0 20240719 (Red Hat 11.5.0-2) Ubuntu 20.04 Kernel: 5.15 Compiler: aarch64-linux-gnu-gcc gcc (Ubuntu 9.4.0-1ubuntu1~20.04.2) 9.4.0 Debian GNU/Linux 12 Kernel: 5.4 Compiler: gcc gcc (Debian 12.2.0-14+deb12u1) 12.2.0 Fedora Linux 40 Kernel: 5.4 Compiler: clang gcc (GCC) 14.2.1 20240912 (Red Hat 14.2.1-3) Fedora Linux 41 Kernel: 5.4 Compiler: gcc gcc (GCC) 14.3.1 20250523 (Red Hat 14.3.1-1) Ubuntu 22.04 Kernel: 5.4 Compiler: gcc gcc (Ubuntu 11.4.0-1ubuntu1~22.04) 11.4.0 Ubuntu 24.04 Kernel: 5.4 Compiler: gcc gcc (Ubuntu 13.3.0-6ubuntu2~24.04) 13.3.0 CentOS Stream 9 Kernel: 5.4 Compiler: gcc gcc (GCC) 11.5.0 20240719 (Red Hat 11.5.0-7) CentOS Stream 10 Kernel: 5.4 Compiler: gcc gcc (GCC) 14.2.1 20250110 (Red Hat 14.2.1-8) To view detailed results, visit: https://lab.dpdk.org/results/dashboard/patchsets/33729/ UNH-IOL DPDK Community Lab To manage your email subscriptions, visit: https://lab.dpdk.org/results/dashboard/preferences/subscriptions/