From mboxrd@z Thu Jan 1 00:00:00 1970 Return-Path: Received: from mails.dpdk.org (mails.dpdk.org [217.70.189.124]) by inbox.dpdk.org (Postfix) with ESMTP id 454AE46BEF for ; Wed, 23 Jul 2025 10:04:19 +0200 (CEST) Received: from mails.dpdk.org (localhost [127.0.0.1]) by mails.dpdk.org (Postfix) with ESMTP id 3E1FA40264; Wed, 23 Jul 2025 10:04:19 +0200 (CEST) Received: from mail-yb1-f226.google.com (mail-yb1-f226.google.com [209.85.219.226]) by mails.dpdk.org (Postfix) with ESMTP id 0E43540264 for ; Wed, 23 Jul 2025 10:04:18 +0200 (CEST) Received: by mail-yb1-f226.google.com with SMTP id 3f1490d57ef6-e8db917573dso1596559276.1 for ; Wed, 23 Jul 2025 01:04:17 -0700 (PDT) DKIM-Signature: v=1; a=rsa-sha256; c=relaxed/relaxed; d=iol.unh.edu; s=unh-iol; t=1753257857; x=1753862657; darn=dpdk.org; h=references:in-reply-to:cc:to:from:subject:message-id:date:from:to :cc:subject:date:message-id:reply-to; bh=ffJo+bhbLJCTKNfpvu9x5bVOfvT3aXVgm0Zq9e6iW28=; b=aHoRoyC4yaQ3Dlymbq3SGlxppd1RyzU9Kgf8erPz8eHweeYRUhCOtdAX+xxomKTSHV gcvGDIGnSuym+AAcQoBpqauDPLWrCGwx/3kp32Ks+qBOkYfdNyI36gavnBtCTykKjaNQ 49oTzQJnoPViGus6htlgPh/MOLqs6tOLGYC+w= X-Google-DKIM-Signature: v=1; a=rsa-sha256; c=relaxed/relaxed; d=1e100.net; s=20230601; t=1753257857; x=1753862657; h=references:in-reply-to:cc:to:from:subject:message-id:date :x-gm-message-state:from:to:cc:subject:date:message-id:reply-to; bh=ffJo+bhbLJCTKNfpvu9x5bVOfvT3aXVgm0Zq9e6iW28=; b=exhsAN8nkUhkXthYXumycImBJ16lgpq8sRFBdGSQHhJQkBN7dCwRBaB4HIWh7hC4yx ahBEVxa3Ss9MK6jV1g++EJhI4vh5fd7g5YcGqzx5NvRL5UWlzGzNXnDwBX7m1i+7+kUZ 2rWF7h7saMlcpzQeWXSB9huh1UQ1A0oNL6023SyFd7yxGaFfMRl9Ne8sIC2cLo3podZB bi8Zd3NbxFwxC+uF8dkDSrCGC87ZTMNtpGumO9D4UQvLbxN20MWQEPYSOMaeHR4eq0jJ 4WkHZBm1UyCESpI9lhqCCJ43pehZPi9hE8+xfVdTH8c9HsGzVSJqnA6XpcaUD8IDQrkg LZMA== X-Gm-Message-State: AOJu0YwFmxBdpRSOHtwo8NlMg2/4OfO/UeJmCWZ3l7ARKW9bI5inEaC3 mQVF3IoeNIjlzcst4ZO+E2dn86fZLPz/9RVIQxAQBq97eXXIErJRAZjaNd9/j/3w8o1n0mibiT3 WpXpM39V6LTAXNgRlnLTcT8/019mai28776QbasUNtuajs2CWqMR+7ViYa6Uq X-Gm-Gg: ASbGncv8rCyaCs+++EtztmaNDlz/Pahv9rC9BTYu6WY2bWM0USBKsNmz53+yznvpdbm RXtPhso/m4Vnyb94QbuWG5qkL1lo4xIdeYPsiqOHbyPexNeXznKahPic+LV1xVWnu95TQllMd6j Q43g7RV3i/rJ3jDEZtLdE/X3jm3Ojfp3CEW+KdZbmY+759pFZdLlr4StwWhtIIccrRthT6Cc7f4 0g1iYa9trdLn7aoSOO2JowgTwsJdhxrAN70pnq76PJYcF7kCRSAytNEAt9djCaJL9+6TMLQGViE ROuVt4RRJDgz09r/o32lg2jssPycOKal5Jl5/TJ8vRUQat0G8w== X-Google-Smtp-Source: AGHT+IFCjewiSgOXFc6O+RzQ/KZPiu8I/kPc8ORLLPDH+5jfuCE8RwwYaUi6WyDyUT1NnRRJd0yRNE0VWxCD X-Received: by 2002:a05:6902:2408:b0:e8d:bd9a:d826 with SMTP id 3f1490d57ef6-e8dc589748dmr2766903276.9.1753257857370; Wed, 23 Jul 2025 01:04:17 -0700 (PDT) Received: from postal.iol.unh.edu (postal.iol.unh.edu. [2606:4100:3880:1234::84]) by smtp-relay.gmail.com with ESMTPS id 3f1490d57ef6-e8d7cdd0208sm653485276.18.2025.07.23.01.04.17 (version=TLS1_2 cipher=ECDHE-ECDSA-AES128-GCM-SHA256 bits=128/128); Wed, 23 Jul 2025 01:04:17 -0700 (PDT) X-Relaying-Domain: iol.unh.edu Date: Wed, 23 Jul 2025 01:04:17 -0700 (PDT) Message-ID: <68809781.050a0220.36cb15.18f2SMTPIN_ADDED_MISSING@mx.google.com> Received: from [172.21.0.8] (unknown [172.18.0.240]) by postal.iol.unh.edu (Postfix) with ESMTP id 13D1C6051830; Wed, 23 Jul 2025 04:04:17 -0400 (EDT) Subject: |SUCCESS| pw155431-155432 [PATCH] [v1,2/2] dts: add exception handli From: dpdklab@iol.unh.edu To: Test Report Cc: dpdk-test-reports@iol.unh.edu In-Reply-To: <20250722172214.202308-2-dmarx@iol.unh.edu> References: <20250722172214.202308-2-dmarx@iol.unh.edu> Content-Type: text/plain X-BeenThere: test-report@dpdk.org X-Mailman-Version: 2.1.29 Precedence: list List-Id: automatic DPDK test reports List-Unsubscribe: , List-Archive: List-Post: List-Help: List-Subscribe: , Errors-To: test-report-bounces@dpdk.org Test-Label: iol-compile-arm64-testing Test-Status: SUCCESS http://dpdk.org/patch/155432 _Testing PASS_ Submitter: Dean Marx Date: Tuesday, July 22 2025 17:22:14 DPDK git baseline: Repo:dpdk Branch: master CommitID:f8fb19d5e2fc20798ed0caa292a1538fbbd98f96 155431-155432 --> testing pass Upstream job id: Generic-DPDK-Compile-Meson#411246 Test environment and result as below: +------------------------------+--------------------+ | Environment | dpdk_meson_compile | +==============================+====================+ | Red Hat Enterprise Linux 9.5 | PASS | +------------------------------+--------------------+ | Ubuntu 20.04 | PASS | +------------------------------+--------------------+ | Debian GNU/Linux 12 | PASS | +------------------------------+--------------------+ | Fedora Linux 40 | PASS | +------------------------------+--------------------+ | Fedora Linux 41 | PASS | +------------------------------+--------------------+ | Ubuntu 22.04 | PASS | +------------------------------+--------------------+ | Ubuntu 24.04 | PASS | +------------------------------+--------------------+ | CentOS Stream 9 | PASS | +------------------------------+--------------------+ | CentOS Stream 10 | PASS | +------------------------------+--------------------+ Red Hat Enterprise Linux 9.5 Kernel: 5.4 Compiler: gcc gcc (GCC) 11.5.0 20240719 (Red Hat 11.5.0-2) Ubuntu 20.04 Kernel: 5.15 Compiler: aarch64-linux-gnu-gcc gcc (Ubuntu 9.4.0-1ubuntu1~20.04.2) 9.4.0 Debian GNU/Linux 12 Kernel: 5.4 Compiler: gcc gcc (Debian 12.2.0-14+deb12u1) 12.2.0 Fedora Linux 40 Kernel: 5.4 Compiler: clang gcc (GCC) 14.2.1 20240912 (Red Hat 14.2.1-3) Fedora Linux 41 Kernel: 5.4 Compiler: gcc gcc (GCC) 14.3.1 20250523 (Red Hat 14.3.1-1) Ubuntu 22.04 Kernel: 5.4 Compiler: gcc gcc (Ubuntu 11.4.0-1ubuntu1~22.04) 11.4.0 Ubuntu 24.04 Kernel: 5.4 Compiler: gcc gcc (Ubuntu 13.3.0-6ubuntu2~24.04) 13.3.0 CentOS Stream 9 Kernel: 5.4 Compiler: gcc gcc (GCC) 11.5.0 20240719 (Red Hat 11.5.0-7) CentOS Stream 10 Kernel: 5.4 Compiler: gcc gcc (GCC) 14.2.1 20250110 (Red Hat 14.2.1-8) To view detailed results, visit: https://lab.dpdk.org/results/dashboard/patchsets/33729/ UNH-IOL DPDK Community Lab To manage your email subscriptions, visit: https://lab.dpdk.org/results/dashboard/preferences/subscriptions/