From mboxrd@z Thu Jan 1 00:00:00 1970 Return-Path: Received: from mails.dpdk.org (mails.dpdk.org [217.70.189.124]) by inbox.dpdk.org (Postfix) with ESMTP id 936E246BEF for ; Wed, 23 Jul 2025 10:06:59 +0200 (CEST) Received: from mails.dpdk.org (localhost [127.0.0.1]) by mails.dpdk.org (Postfix) with ESMTP id 8CF1F40264; Wed, 23 Jul 2025 10:06:59 +0200 (CEST) Received: from mail-pl1-f228.google.com (mail-pl1-f228.google.com [209.85.214.228]) by mails.dpdk.org (Postfix) with ESMTP id 8CF4940264 for ; Wed, 23 Jul 2025 10:06:58 +0200 (CEST) Received: by mail-pl1-f228.google.com with SMTP id d9443c01a7336-237e6963f63so38547685ad.2 for ; Wed, 23 Jul 2025 01:06:58 -0700 (PDT) DKIM-Signature: v=1; a=rsa-sha256; c=relaxed/relaxed; d=iol.unh.edu; s=unh-iol; t=1753258018; x=1753862818; darn=dpdk.org; h=references:in-reply-to:cc:to:from:subject:message-id:date:from:to :cc:subject:date:message-id:reply-to; bh=UWMYVMETCTLLpU/uIz5uWAYJflWVbRyttk/YMXU3tqw=; b=fg+khDro+kMm9uHwa4GAfiQbGkkf/1I7Nmdnh2hEzzngRySxGwVD/5bQIPbwzhj6uI UFDiIX9ESlGIgF0lckTmWLoK4g1w+6YbAm2HdaWU7rWJMGEEzxw/2XvwPZuxXumlEQyQ L/zGizZ0r+CYYO39pHjQ++OCgf5UM8WWQjplI= X-Google-DKIM-Signature: v=1; a=rsa-sha256; c=relaxed/relaxed; d=1e100.net; s=20230601; t=1753258018; x=1753862818; h=references:in-reply-to:cc:to:from:subject:message-id:date :x-gm-message-state:from:to:cc:subject:date:message-id:reply-to; bh=UWMYVMETCTLLpU/uIz5uWAYJflWVbRyttk/YMXU3tqw=; b=rHSR9aChJSf/iY63lJc+5HlXKELSoXDHnuEIUNvtnLP8pUCZIjaXHM4twr+PaZtr6v SyT8JOCAXXlLYKbMBexfXZedYF9w+n+zfeh9AGQCodes+F0VxYa8EpI5dsgcqA3hvYBE JpPO0RL0MnVk5tW9m9E9GVg6bLVXAygkIuB5dNuIwRTQPeQygfcdeecGaBbHpOmGjqmM xe3l3B2WyCVOV3NeRF0sR7y4BwkNGq2ZFpE4h9kvtweqqUhyo65k6LwPM0GRNSo+OuAK Ad2RaaPA+qKgg/EPh2KSlz7BeurtEyZGoizTZA3y0fpopahFamqP+5DAywOV+nLM5uhx m2cw== X-Gm-Message-State: AOJu0YxDZEOj7kq/5QAFR+c/gQh+vHHyxA0qKQfNbFygJ9Z9zoSaop3D nvLpprtM7txFIU4YIncCjzZS2QLSNOum90/bCepUsrR6d1SDwl953egcxK6pDTQeqo/uBQUgEF7 BF2eLrmbzF7yFQczYX4lqOUKtqkWNfIhHS7zYJ9Biz8Fsdk93CLy8y0CfVgN3 X-Gm-Gg: ASbGnctauhkxE7AIAN4riwkiw9/8i2CMlxcdsQ537COdB+kRWRO+XomCTfPLxt2y0wG aRomWfmmu1lq32kW+LIwVlMaP8OV87sTscYxkIivlo72OlfY563baH3ATLG4AsQgYjLKljcV1Ni Xz2bLyziBTFrbdlSH0Tqh10kxgMbMmr+Qo0OcsbyFpWmXQsST99D7TFrQ2vukGP4k6GD5j9V8Qr qO6+e360yFjg2sjbtXPFs2e3/w+rWkPcTKxDKMQGUGQ4a6F13LTBCB+EkziTgad5rVhyYacCGSM eEs1GUonKj7o6maQQCHr8SQCENh8iar+OVbq3UPeXivuQOEQbA== X-Google-Smtp-Source: AGHT+IGgQlB3G6lokDe7k/5MyahDM/ypH0bMgTstkdeCJf38iDyBRtHlTiBT3EilZbm2uGGjCIMf2zB0Gc8I X-Received: by 2002:a17:903:2ec4:b0:237:ec18:ead7 with SMTP id d9443c01a7336-23f981aec5emr35794225ad.24.1753258017638; Wed, 23 Jul 2025 01:06:57 -0700 (PDT) Received: from postal.iol.unh.edu (postal.iol.unh.edu. [2606:4100:3880:1234::84]) by smtp-relay.gmail.com with ESMTPS id d9443c01a7336-23e3b61e232sm6639885ad.35.2025.07.23.01.06.57 (version=TLS1_2 cipher=ECDHE-ECDSA-AES128-GCM-SHA256 bits=128/128); Wed, 23 Jul 2025 01:06:57 -0700 (PDT) X-Relaying-Domain: iol.unh.edu Date: Wed, 23 Jul 2025 01:06:57 -0700 (PDT) Message-ID: <68809821.170a0220.336b51.1c9aSMTPIN_ADDED_MISSING@mx.google.com> Received: from [172.21.0.7] (unknown [172.18.0.240]) by postal.iol.unh.edu (Postfix) with ESMTP id E21586051830; Wed, 23 Jul 2025 04:06:56 -0400 (EDT) Subject: |SUCCESS| pw155456 [PATCH] net/mlx5: fix ipool memory leak From: dpdklab@iol.unh.edu To: Test Report Cc: dpdk-test-reports@iol.unh.edu In-Reply-To: <20250723064923.1805575-1-rongweil@nvidia.com> References: <20250723064923.1805575-1-rongweil@nvidia.com> Content-Type: text/plain X-BeenThere: test-report@dpdk.org X-Mailman-Version: 2.1.29 Precedence: list List-Id: automatic DPDK test reports List-Unsubscribe: , List-Archive: List-Post: List-Help: List-Subscribe: , Errors-To: test-report-bounces@dpdk.org Test-Label: iol-compile-amd64-testing Test-Status: SUCCESS http://dpdk.org/patch/155456 _Testing PASS_ Submitter: Rongwei Liu Date: Wednesday, July 23 2025 06:49:22 DPDK git baseline: Repo:dpdk Branch: master CommitID:b222395561638f89562e4ef42e1eabf2d6db43dd 155456 --> testing pass Upstream job id: Windows-Compile-DPDK-Native#29969 Test environment and result as below: +---------------------+-------------------------+--------------------+-------------------+----------------------+ | Environment | dpdk_llvm_clang_compile | dpdk_meson_compile | dpdk_msvc_compile | dpdk_mingw64_compile | +=====================+=========================+====================+===================+======================+ | Windows Server 2022 | PASS | SKIPPED | PASS | PASS | +---------------------+-------------------------+--------------------+-------------------+----------------------+ | Ubuntu 20.04 | SKIPPED | PASS | SKIPPED | SKIPPED | +---------------------+-------------------------+--------------------+-------------------+----------------------+ | FreeBSD 14.2 | SKIPPED | PASS | SKIPPED | SKIPPED | +---------------------+-------------------------+--------------------+-------------------+----------------------+ Windows Server 2022 Kernel: 10.0.20348.2031 Compiler: clang 15.0.7, gcc 14.1.0 (MinGW), and MSVC VS 19.39.33521 Ubuntu 20.04 Kernel: 4.19 Compiler: gcc gcc (Ubuntu 9.4.0-1ubuntu1~20.04.2) 9.4.0 FreeBSD 14.2 Kernel: 14.2-RELEASE Compiler: clang 18.1.6 To view detailed results, visit: https://lab.dpdk.org/results/dashboard/patchsets/33734/ UNH-IOL DPDK Community Lab To manage your email subscriptions, visit: https://lab.dpdk.org/results/dashboard/preferences/subscriptions/