From mboxrd@z Thu Jan 1 00:00:00 1970 Return-Path: Received: from mails.dpdk.org (mails.dpdk.org [217.70.189.124]) by inbox.dpdk.org (Postfix) with ESMTP id A1C7546BEF for ; Wed, 23 Jul 2025 10:07:10 +0200 (CEST) Received: from mails.dpdk.org (localhost [127.0.0.1]) by mails.dpdk.org (Postfix) with ESMTP id 9987640264; Wed, 23 Jul 2025 10:07:10 +0200 (CEST) Received: from mail-qv1-f100.google.com (mail-qv1-f100.google.com [209.85.219.100]) by mails.dpdk.org (Postfix) with ESMTP id B9DBE40264 for ; Wed, 23 Jul 2025 10:07:08 +0200 (CEST) Received: by mail-qv1-f100.google.com with SMTP id 6a1803df08f44-6f8aa9e6ffdso62508086d6.3 for ; Wed, 23 Jul 2025 01:07:08 -0700 (PDT) DKIM-Signature: v=1; a=rsa-sha256; c=relaxed/relaxed; d=iol.unh.edu; s=unh-iol; t=1753258028; x=1753862828; darn=dpdk.org; h=references:in-reply-to:cc:to:from:subject:message-id:date:from:to :cc:subject:date:message-id:reply-to; bh=iiI+4QGtcPgM9yCtDxfbixE2lmqF2CEC2Cy9K+yqlOg=; b=BSZsD5vs2WEI8LUmqSz8C3jmCtn5CmSS3lJgJyWod92t+/NCgBM/hy7xHLD/M8SsoJ LgrB1aPMPkB966+hEi6AnOKH/8TZIsgUd4eXMWzYL7YNJusQp7FjfK+m0rdf7nS2O2v8 9PTxqjwfFKq5KBCNLs0X68KUltM6xINqJUSZQ= X-Google-DKIM-Signature: v=1; a=rsa-sha256; c=relaxed/relaxed; d=1e100.net; s=20230601; t=1753258028; x=1753862828; h=references:in-reply-to:cc:to:from:subject:message-id:date :x-gm-message-state:from:to:cc:subject:date:message-id:reply-to; bh=iiI+4QGtcPgM9yCtDxfbixE2lmqF2CEC2Cy9K+yqlOg=; b=u9jpPgLDAcVzj2iaSAaTuOxzojCJ6e/Opkzjd3pw/a5ZGyrY9x4FCUUVbP8LUzCVNt OffzdLkMHyWE7ZuBLaQWaDhkdlaaGLxfoyM5D45sCAy0UIkPPe5m9TNhz/OabRAtBriI yUYRfPlmtTb+7XnZhA41hhK7QRdUoOEA/dndcs3Jnow+iG5ixVf2B4aHj2xyPvrSPtmE XUbyx5WZAESnpMhGxnTMtBDOcybbhso7qfnsTg10aDUXii96T1zC5QCLG5dPLzVuEYs7 aSh3AfCFqJNsr8CfOVehc89vPIgqHXaoQ+/94z4WF1IVR4WzVPEOOlg4OCKbV5rNhSPF atIg== X-Gm-Message-State: AOJu0YznhFUIe63+JlRfbr7oEWcdSpblyIRc9nh8JKGaZco2h/Xls6PI nnO5dPTSJyIrBDYTXj+v1CIMPp+HBseDkOXczA/bnaV/dXSy7NvUUe14nAK9Nysf7OviU0+/KV3 KQ9QnvQQxNTd1H4IkXhcJlwIW2yGvHSvaDbM6NKfSHWSO X-Gm-Gg: ASbGnct087LfOjQXeYirOXXysNlTQFmw8LXOLOYEJLHrCnt15isLLKb0sHXB9sm2sOM sn3VLTQ+DO8iSgOMp83R5+3lw2oguLjJMbhV+IQ6WBYAEDT7yQLypJ7GgpH5KDxgGcx/JV4B52c eomh9/BjtMvMKr+Q6sUaW0fPEk8f6bKuiQ/GNni6gsQSZcT22c7NDVAZk8EQ4wIuh/KNbB5C0Qs S4BYCkOkFBesj+eOBbiY1Ath0zLchOU8AcwSxRQF6sSyhz21F1hKQpvQnL34Gal4r6bqrl4qXgD AJFIEbtf4RUcqrWfBXf+RXTC66rrcBNWkW6mYVW0sGyueuAfGYbB+QebRQXGew5MEXNBhUu9 X-Google-Smtp-Source: AGHT+IG/GhARuGI0rA/0j2HTe2hZGi5dOxOj9mnIZhlDlxE5sjlFVqJkcKoftIQkbCn3Y/g2Zns8BHIt9S2C X-Received: by 2002:a05:6214:76e:b0:704:a42e:167e with SMTP id 6a1803df08f44-70700651a36mr28085296d6.28.1753258028063; Wed, 23 Jul 2025 01:07:08 -0700 (PDT) Received: from postal.iol.unh.edu (postal.iol.unh.edu. [132.177.123.84]) by smtp-relay.gmail.com with ESMTPS id 6a1803df08f44-707053d6166sm403496d6.11.2025.07.23.01.07.08 (version=TLS1_2 cipher=ECDHE-ECDSA-AES128-GCM-SHA256 bits=128/128); Wed, 23 Jul 2025 01:07:08 -0700 (PDT) X-Relaying-Domain: iol.unh.edu Date: Wed, 23 Jul 2025 01:07:08 -0700 (PDT) Message-ID: <6880982c.050a0220.34354b.2329SMTPIN_ADDED_MISSING@mx.google.com> Received: from [172.21.0.11] (unknown [172.18.0.240]) by postal.iol.unh.edu (Postfix) with ESMTP id AFB1E6051830; Wed, 23 Jul 2025 04:07:07 -0400 (EDT) Subject: |SUCCESS| pw155429-155430 [PATCH] [v1,2/2] dts: add steps and verify From: dpdklab@iol.unh.edu To: Test Report Cc: dpdk-test-reports@iol.unh.edu In-Reply-To: <20250722171957.200698-2-dmarx@iol.unh.edu> References: <20250722171957.200698-2-dmarx@iol.unh.edu> Content-Type: text/plain X-BeenThere: test-report@dpdk.org X-Mailman-Version: 2.1.29 Precedence: list List-Id: automatic DPDK test reports List-Unsubscribe: , List-Archive: List-Post: List-Help: List-Subscribe: , Errors-To: test-report-bounces@dpdk.org Test-Label: iol-compile-arm64-testing Test-Status: SUCCESS http://dpdk.org/patch/155430 _Testing PASS_ Submitter: Dean Marx Date: Tuesday, July 22 2025 17:19:57 DPDK git baseline: Repo:dpdk Branch: master CommitID:f8fb19d5e2fc20798ed0caa292a1538fbbd98f96 155429-155430 --> testing pass Upstream job id: Generic-DPDK-Compile-Meson#411292 Test environment and result as below: +------------------------------+--------------------+ | Environment | dpdk_meson_compile | +==============================+====================+ | Red Hat Enterprise Linux 9.5 | PASS | +------------------------------+--------------------+ | Ubuntu 20.04 | PASS | +------------------------------+--------------------+ | Debian GNU/Linux 12 | PASS | +------------------------------+--------------------+ | Fedora Linux 40 | PASS | +------------------------------+--------------------+ | Fedora Linux 41 | PASS | +------------------------------+--------------------+ | Ubuntu 22.04 | PASS | +------------------------------+--------------------+ | Ubuntu 24.04 | PASS | +------------------------------+--------------------+ | CentOS Stream 9 | PASS | +------------------------------+--------------------+ | CentOS Stream 10 | PASS | +------------------------------+--------------------+ Red Hat Enterprise Linux 9.5 Kernel: 5.4 Compiler: gcc gcc (GCC) 11.5.0 20240719 (Red Hat 11.5.0-2) Ubuntu 20.04 Kernel: 5.15 Compiler: aarch64-linux-gnu-gcc gcc (Ubuntu 9.4.0-1ubuntu1~20.04.2) 9.4.0 Debian GNU/Linux 12 Kernel: 5.4 Compiler: gcc gcc (Debian 12.2.0-14+deb12u1) 12.2.0 Fedora Linux 40 Kernel: 5.4 Compiler: gcc gcc (GCC) 14.2.1 20240912 (Red Hat 14.2.1-3) Fedora Linux 41 Kernel: 5.4 Compiler: gcc gcc (GCC) 14.3.1 20250523 (Red Hat 14.3.1-1) Ubuntu 22.04 Kernel: 5.4 Compiler: gcc gcc (Ubuntu 11.4.0-1ubuntu1~22.04) 11.4.0 Ubuntu 24.04 Kernel: 5.4 Compiler: gcc gcc (Ubuntu 13.3.0-6ubuntu2~24.04) 13.3.0 CentOS Stream 9 Kernel: 5.4 Compiler: gcc gcc (GCC) 11.5.0 20240719 (Red Hat 11.5.0-7) CentOS Stream 10 Kernel: 5.4 Compiler: gcc gcc (GCC) 14.2.1 20250110 (Red Hat 14.2.1-8) To view detailed results, visit: https://lab.dpdk.org/results/dashboard/patchsets/33728/ UNH-IOL DPDK Community Lab To manage your email subscriptions, visit: https://lab.dpdk.org/results/dashboard/preferences/subscriptions/