From mboxrd@z Thu Jan 1 00:00:00 1970 Return-Path: Received: from mails.dpdk.org (mails.dpdk.org [217.70.189.124]) by inbox.dpdk.org (Postfix) with ESMTP id C4A7446BEF for ; Wed, 23 Jul 2025 10:08:31 +0200 (CEST) Received: from mails.dpdk.org (localhost [127.0.0.1]) by mails.dpdk.org (Postfix) with ESMTP id BD96F40264; Wed, 23 Jul 2025 10:08:31 +0200 (CEST) Received: from mail-pl1-f226.google.com (mail-pl1-f226.google.com [209.85.214.226]) by mails.dpdk.org (Postfix) with ESMTP id 8AE9840264 for ; Wed, 23 Jul 2025 10:08:30 +0200 (CEST) Received: by mail-pl1-f226.google.com with SMTP id d9443c01a7336-237311f5a54so51252605ad.2 for ; Wed, 23 Jul 2025 01:08:30 -0700 (PDT) DKIM-Signature: v=1; a=rsa-sha256; c=relaxed/relaxed; d=iol.unh.edu; s=unh-iol; t=1753258110; x=1753862910; darn=dpdk.org; h=references:in-reply-to:cc:to:from:subject:message-id:date:from:to :cc:subject:date:message-id:reply-to; bh=4l/UnEazcNESWzlYTq/0MWoP8emDSRCzI3obekxLefY=; b=aI0D4HMZRyD3vrmXQWdbLjemwVB8O0VwdqDyMH9vhf6yRESo61cNAd4yk3FZ92SBDp v/L9BoTHdpFC/pcgToxP8U9Df++S+BHRatSxY9QZYZ5AZJV5r9Q5r3g3ivUeVx+KX+9t Sb/0OWTnSE0x65Y/GTx78cXDxHf63d/9hfXqA= X-Google-DKIM-Signature: v=1; a=rsa-sha256; c=relaxed/relaxed; d=1e100.net; s=20230601; t=1753258110; x=1753862910; h=references:in-reply-to:cc:to:from:subject:message-id:date :x-gm-message-state:from:to:cc:subject:date:message-id:reply-to; bh=4l/UnEazcNESWzlYTq/0MWoP8emDSRCzI3obekxLefY=; b=gmMQXA4NWrpGZdOu70N7FgzW0q7qabzaSdrqXsyMpYc1tnS7crSdM6LpqUOSYMvUIv ZsWszaJ8gwVJsu8ovyoTZfN4sRkI3+LiBP5FASm7zVSnKQMvC1g2M8oQJIdisW4JcxKc tzEedtb8sWvXnI2URoz3QJlAoXnerE41kRcBybLmAvZQFUC0Y2IbxJuTl0DGMWbYCNvd Z1keNINPNe/rSkSZW8b4b/O2Z4qCY+W5vEiEYAYgzNk9jDspBs5cri/NwbMq7bdxZhsF Cu0DaeofUlj7vnF+b1EoVC26dMVrRDwpqoYrsnWXlmyL03bQNMz6MrcgTu9B+UKFqvub G1tw== X-Gm-Message-State: AOJu0Yy6EujkN7eEyg61LdcLKEFDovd1f5cy3c6zR4LBaYfVNUgzPfZ1 3NHQTpOSZ4nAgwxv45ZennxKbiglf8OVICHlS9ajW8xP/LbnGTczE0Ful1HK/UVsLYWBzTDMCgy zUTpnMOnWnf5N+wcMnZYiEw7tlwhaRUCgzTP7xRPwa8fK X-Gm-Gg: ASbGncseeAZuvT2WyV+yztW310DaWMjV+vY/9mien+MsKFtdAdveKiBCdhhujN+nt/g 0EFh7ucJlLryi4lGMmEz48pa2owLbdXuQBCrH9Poarip3cWTW+vobYboXtZKb7nLEHJT5ajENrB 1fAXXve8I48pDg2rXg3eIEdwAtyDBXEsTa0y3MDchHp1Z4pMtA9OnaPD10wHUCnjCDlwrnYYqnq OAfea0S6nD9uv/ie213/DmeJRlqkv3lLOJFe+yGJwqLBBssLuSbk/VuqjIB1B5TGd5ARu+MAZuV UTVfmtj1w62CSrRs71PYLwcs66fHSLNRr0Kiw8QRYPDNz++rjk8f0IkPfOnpRgdoDPi9rgW0 X-Google-Smtp-Source: AGHT+IEn7CT7uTrgHHCcrfiD/U5Vx27ynVVjqTRWaEtMSfr09oJ35VrZZImzYSQNM+yUE52tLt8S742jIwhd X-Received: by 2002:a17:903:2444:b0:23f:8d6a:8e45 with SMTP id d9443c01a7336-23f98140a01mr32636985ad.4.1753258109667; Wed, 23 Jul 2025 01:08:29 -0700 (PDT) Received: from postal.iol.unh.edu (postal.iol.unh.edu. [132.177.123.84]) by smtp-relay.gmail.com with ESMTPS id d9443c01a7336-23e3b5f7a2dsm6405385ad.19.2025.07.23.01.08.29 (version=TLS1_2 cipher=ECDHE-ECDSA-AES128-GCM-SHA256 bits=128/128); Wed, 23 Jul 2025 01:08:29 -0700 (PDT) X-Relaying-Domain: iol.unh.edu Date: Wed, 23 Jul 2025 01:08:29 -0700 (PDT) Message-ID: <6880987d.170a0220.2cd4c7.00a6SMTPIN_ADDED_MISSING@mx.google.com> Received: from [172.21.0.2] (unknown [172.18.0.240]) by postal.iol.unh.edu (Postfix) with ESMTP id E3F336051830; Wed, 23 Jul 2025 04:08:28 -0400 (EDT) Subject: |SUCCESS| pw155429-155430 [PATCH] [v1,2/2] dts: add steps and verify From: dpdklab@iol.unh.edu To: Test Report Cc: dpdk-test-reports@iol.unh.edu In-Reply-To: <20250722171957.200698-2-dmarx@iol.unh.edu> References: <20250722171957.200698-2-dmarx@iol.unh.edu> Content-Type: text/plain X-BeenThere: test-report@dpdk.org X-Mailman-Version: 2.1.29 Precedence: list List-Id: automatic DPDK test reports List-Unsubscribe: , List-Archive: List-Post: List-Help: List-Subscribe: , Errors-To: test-report-bounces@dpdk.org Test-Label: iol-compile-arm64-testing Test-Status: SUCCESS http://dpdk.org/patch/155430 _Testing PASS_ Submitter: Dean Marx Date: Tuesday, July 22 2025 17:19:57 DPDK git baseline: Repo:dpdk Branch: master CommitID:f8fb19d5e2fc20798ed0caa292a1538fbbd98f96 155429-155430 --> testing pass Upstream job id: Generic-DPDK-Compile-Meson#411290 Test environment and result as below: +------------------------------+--------------------+ | Environment | dpdk_meson_compile | +==============================+====================+ | Red Hat Enterprise Linux 9.5 | PASS | +------------------------------+--------------------+ | Ubuntu 20.04 | PASS | +------------------------------+--------------------+ | Debian GNU/Linux 12 | PASS | +------------------------------+--------------------+ | Fedora Linux 40 | PASS | +------------------------------+--------------------+ | Fedora Linux 41 | PASS | +------------------------------+--------------------+ | Ubuntu 22.04 | PASS | +------------------------------+--------------------+ | Ubuntu 24.04 | PASS | +------------------------------+--------------------+ | CentOS Stream 9 | PASS | +------------------------------+--------------------+ | CentOS Stream 10 | PASS | +------------------------------+--------------------+ Red Hat Enterprise Linux 9.5 Kernel: 5.4 Compiler: gcc gcc (GCC) 11.5.0 20240719 (Red Hat 11.5.0-2) Ubuntu 20.04 Kernel: 5.15 Compiler: aarch64-linux-gnu-gcc gcc (Ubuntu 9.4.0-1ubuntu1~20.04.2) 9.4.0 Debian GNU/Linux 12 Kernel: 5.4 Compiler: gcc gcc (Debian 12.2.0-14+deb12u1) 12.2.0 Fedora Linux 40 Kernel: 5.4 Compiler: gcc gcc (GCC) 14.2.1 20240912 (Red Hat 14.2.1-3) Fedora Linux 41 Kernel: 5.4 Compiler: gcc gcc (GCC) 14.3.1 20250523 (Red Hat 14.3.1-1) Ubuntu 22.04 Kernel: 5.4 Compiler: gcc gcc (Ubuntu 11.4.0-1ubuntu1~22.04) 11.4.0 Ubuntu 24.04 Kernel: 5.4 Compiler: gcc gcc (Ubuntu 13.3.0-6ubuntu2~24.04) 13.3.0 CentOS Stream 9 Kernel: 5.4 Compiler: gcc gcc (GCC) 11.5.0 20240719 (Red Hat 11.5.0-7) CentOS Stream 10 Kernel: 5.4 Compiler: gcc gcc (GCC) 14.2.1 20250110 (Red Hat 14.2.1-8) To view detailed results, visit: https://lab.dpdk.org/results/dashboard/patchsets/33728/ UNH-IOL DPDK Community Lab To manage your email subscriptions, visit: https://lab.dpdk.org/results/dashboard/preferences/subscriptions/