From mboxrd@z Thu Jan 1 00:00:00 1970 Return-Path: Received: from mails.dpdk.org (mails.dpdk.org [217.70.189.124]) by inbox.dpdk.org (Postfix) with ESMTP id D012646BEF for ; Wed, 23 Jul 2025 10:08:36 +0200 (CEST) Received: from mails.dpdk.org (localhost [127.0.0.1]) by mails.dpdk.org (Postfix) with ESMTP id C9B6740264; Wed, 23 Jul 2025 10:08:36 +0200 (CEST) Received: from mail-yb1-f228.google.com (mail-yb1-f228.google.com [209.85.219.228]) by mails.dpdk.org (Postfix) with ESMTP id 2FA0440264 for ; Wed, 23 Jul 2025 10:08:35 +0200 (CEST) Received: by mail-yb1-f228.google.com with SMTP id 3f1490d57ef6-e8bbb02b887so5480914276.3 for ; Wed, 23 Jul 2025 01:08:35 -0700 (PDT) DKIM-Signature: v=1; a=rsa-sha256; c=relaxed/relaxed; d=iol.unh.edu; s=unh-iol; t=1753258114; x=1753862914; darn=dpdk.org; h=references:in-reply-to:cc:to:from:subject:message-id:date:from:to :cc:subject:date:message-id:reply-to; bh=O6+U6Erv/XxpfKJ7WohEr31OhDi9AO8OfxZBVAiCMI8=; b=KdSolAyfGttYy7YixW9MggIHb22G8oejJhxX0icHwrz22qvt9/wIl0cTGEH+EHGSmx lfjx58nNhu+kCeUVOm8tb7scWXnCRk/Sbu7mrudjbws6WU6weTK375XlaYGPCsIeqMeH bCBGfUtpsi1dq1RbHLrpFM8tuIuqfYu1GkQRY= X-Google-DKIM-Signature: v=1; a=rsa-sha256; c=relaxed/relaxed; d=1e100.net; s=20230601; t=1753258114; x=1753862914; h=references:in-reply-to:cc:to:from:subject:message-id:date :x-gm-message-state:from:to:cc:subject:date:message-id:reply-to; bh=O6+U6Erv/XxpfKJ7WohEr31OhDi9AO8OfxZBVAiCMI8=; b=FdRttsDsutkFDXwEJigfekuJQ1wkVP7X+bfqD9h2wYgr/peuwPUzlXVDlAH6eLX1Qi 21z2lc7XPRmZExnwTzMA5Hhd/r38r0y6L3XcoZFIoJi2bk8eJYaDwIEZ8d5DEDqm9u0p O5/QX0S27LayDSYujBiczAQZ3hrOGtpzWIi774Um/LOeyuFY0Y/0mdLnwGPx+/cIm6QV YN37NoTBVMmMtxEHNtvUQNFZsBOaSisokyfPKRjgz1eYck40BLNKyITm4iE0+TeMerjr Yh1MadPodssKVrCeV8dachfwA6WgEOMDvS21Q/4xUSYB419GNOku/xRqEM2wnY3v05a/ 6j6g== X-Gm-Message-State: AOJu0Yznbxd2eMPONbH0hK+1glArrmMw/0hHZBxXML/wkePFcUI37t8l JoXQ4W4P5F4MKMC3HGo6IW4ZVTWRZcOPJS+jmU0/pFnvIJBxp9HxGFbZKdjph/mApkbg2vqNdtn SUnSOaO6lbHSEUlm0lEbSrXKYbOSYw8WhhlTsFjMrYpMMgjfgoI+eb9xjbY5i X-Gm-Gg: ASbGncuH+bObRjOP2FHrMOMwOyqgl2U04xWzI4eTqZXH3ihhSybzZkL6ZGoq/ejclfN x/m+P6MHAiflIvFxRrs6eRP0vOJPNk/JuPQQu6zgN9j8In25UTPjKFNOEhSvB9BzKZ8pcGzHLEH XW4YsXIy79ebtxN3L5BmDY8+18B4Ovr6bUq9O8mZNQXOla4WEJay6AFQkdR/EN2uW6LGPzFFkQQ 1mQ2YbRrqnGYo1rpDGNSbdvMceuBbEzlz9rufHQuYp+8Xwp58LCSLOhlfeazalnx0cxROgXAsot iP+fRAQAopnvMkJXG8/YkxU7khaFUhyH5UkA65ITYx5Da9dw+w== X-Google-Smtp-Source: AGHT+IG6uMd0Qe1S4xNMUZLyQR5kBWfLryhK+kFHDZnWZV/7yCkwleQtChq7pdJFzIGCEMe+MBQQQyoC+oXk X-Received: by 2002:a05:690c:a98:b0:714:250:833a with SMTP id 00721157ae682-719b42dcb79mr22586607b3.27.1753258114422; Wed, 23 Jul 2025 01:08:34 -0700 (PDT) Received: from postal.iol.unh.edu (postal.iol.unh.edu. [2606:4100:3880:1234::84]) by smtp-relay.gmail.com with ESMTPS id 00721157ae682-71953104dd0sm6302687b3.13.2025.07.23.01.08.34 (version=TLS1_2 cipher=ECDHE-ECDSA-AES128-GCM-SHA256 bits=128/128); Wed, 23 Jul 2025 01:08:34 -0700 (PDT) X-Relaying-Domain: iol.unh.edu Date: Wed, 23 Jul 2025 01:08:34 -0700 (PDT) Message-ID: <68809882.050a0220.39e51.312dSMTPIN_ADDED_MISSING@mx.google.com> Received: from [172.21.0.4] (unknown [172.18.0.240]) by postal.iol.unh.edu (Postfix) with ESMTP id 1E8086051830; Wed, 23 Jul 2025 04:08:34 -0400 (EDT) Subject: |SUCCESS| pw155433-155445 [PATCH] [v6,13/13] pdump: mark API and app From: dpdklab@iol.unh.edu To: Test Report Cc: dpdk-test-reports@iol.unh.edu In-Reply-To: <20250722173552.184141-14-stephen@networkplumber.org> References: <20250722173552.184141-14-stephen@networkplumber.org> Content-Type: text/plain X-BeenThere: test-report@dpdk.org X-Mailman-Version: 2.1.29 Precedence: list List-Id: automatic DPDK test reports List-Unsubscribe: , List-Archive: List-Post: List-Help: List-Subscribe: , Errors-To: test-report-bounces@dpdk.org Test-Label: iol-compile-arm64-testing Test-Status: SUCCESS http://dpdk.org/patch/155445 _Testing PASS_ Submitter: Stephen Hemminger Date: Tuesday, July 22 2025 17:34:44 DPDK git baseline: Repo:dpdk Branch: master CommitID:b222395561638f89562e4ef42e1eabf2d6db43dd 155433-155445 --> testing pass Upstream job id: Generic-DPDK-Compile-Meson#411188 Test environment and result as below: +------------------------------+--------------------+ | Environment | dpdk_meson_compile | +==============================+====================+ | Red Hat Enterprise Linux 9.5 | PASS | +------------------------------+--------------------+ | Ubuntu 20.04 | PASS | +------------------------------+--------------------+ | Debian GNU/Linux 12 | PASS | +------------------------------+--------------------+ | Fedora Linux 40 | PASS | +------------------------------+--------------------+ | Fedora Linux 41 | PASS | +------------------------------+--------------------+ | Ubuntu 22.04 | PASS | +------------------------------+--------------------+ | Ubuntu 24.04 | PASS | +------------------------------+--------------------+ | CentOS Stream 10 | PASS | +------------------------------+--------------------+ | CentOS Stream 9 | PASS | +------------------------------+--------------------+ Red Hat Enterprise Linux 9.5 Kernel: 5.4 Compiler: gcc gcc (GCC) 11.5.0 20240719 (Red Hat 11.5.0-2) Ubuntu 20.04 Kernel: 5.4 Compiler: gcc gcc (Ubuntu 9.4.0-1ubuntu1~20.04.2) 9.4.0 Debian GNU/Linux 12 Kernel: 5.4 Compiler: gcc gcc (Debian 12.2.0-14+deb12u1) 12.2.0 Fedora Linux 40 Kernel: 5.4 Compiler: gcc gcc (GCC) 14.2.1 20240912 (Red Hat 14.2.1-3) Fedora Linux 41 Kernel: 5.4 Compiler: gcc gcc (GCC) 14.3.1 20250523 (Red Hat 14.3.1-1) Ubuntu 22.04 Kernel: 5.4 Compiler: gcc gcc (Ubuntu 11.4.0-1ubuntu1~22.04) 11.4.0 Ubuntu 24.04 Kernel: 5.4 Compiler: gcc gcc (Ubuntu 13.3.0-6ubuntu2~24.04) 13.3.0 CentOS Stream 10 Kernel: 5.4 Compiler: gcc gcc (GCC) 14.2.1 20250110 (Red Hat 14.2.1-8) CentOS Stream 9 Kernel: 5.4 Compiler: gcc gcc (GCC) 11.5.0 20240719 (Red Hat 11.5.0-7) To view detailed results, visit: https://lab.dpdk.org/results/dashboard/patchsets/33730/ UNH-IOL DPDK Community Lab To manage your email subscriptions, visit: https://lab.dpdk.org/results/dashboard/preferences/subscriptions/