From mboxrd@z Thu Jan 1 00:00:00 1970 Return-Path: Received: from mails.dpdk.org (mails.dpdk.org [217.70.189.124]) by inbox.dpdk.org (Postfix) with ESMTP id D8BD346BEF for ; Wed, 23 Jul 2025 11:26:00 +0200 (CEST) Received: from mails.dpdk.org (localhost [127.0.0.1]) by mails.dpdk.org (Postfix) with ESMTP id B417040264; Wed, 23 Jul 2025 11:26:00 +0200 (CEST) Received: from mail-il1-f227.google.com (mail-il1-f227.google.com [209.85.166.227]) by mails.dpdk.org (Postfix) with ESMTP id DA57840264 for ; Wed, 23 Jul 2025 11:25:59 +0200 (CEST) Received: by mail-il1-f227.google.com with SMTP id e9e14a558f8ab-3e28058c18cso58233335ab.0 for ; Wed, 23 Jul 2025 02:25:59 -0700 (PDT) DKIM-Signature: v=1; a=rsa-sha256; c=relaxed/relaxed; d=iol.unh.edu; s=unh-iol; t=1753262759; x=1753867559; darn=dpdk.org; h=references:in-reply-to:cc:to:from:subject:message-id:date:from:to :cc:subject:date:message-id:reply-to; bh=iHQFQSqktGu3MdRW5aqyMIYc35rlf7mCNh3ZyFuUYbQ=; b=LogqzvQXCWj6xmBiTBZBS5K7QKugYma3WgAlTkFZyAVlRUthWnQ+icHIfl1OeXI3G5 Hx6PImbdSBsrzsznZTCMUgHWZtNtCfjr+rp9089a9KethkU4voZNAMFretX2h+tULidc oifdpb1WSDrMjBIkG469Kg1yX9mLNNWy+oj5s= X-Google-DKIM-Signature: v=1; a=rsa-sha256; c=relaxed/relaxed; d=1e100.net; s=20230601; t=1753262759; x=1753867559; h=references:in-reply-to:cc:to:from:subject:message-id:date :x-gm-message-state:from:to:cc:subject:date:message-id:reply-to; bh=iHQFQSqktGu3MdRW5aqyMIYc35rlf7mCNh3ZyFuUYbQ=; b=j+3L+ERpozmgKJeLaVBhKL0Yu2IaooyrswY08JJrwWr5dy+zZYUfiGlyYqFIc7kK5j pvx0JGx1nsl3B77JR9FMsDBNABFjaFd/tw1/+M9M9VneDp8zNxn6dugC+nFfGNn5ii6K 42ldnaJGpAgDmbqRjNIGrv+6oCI0s3XV5G42ClA+dbKATyD+yCkM0lpfVmI2JycM6ERM ayAnEFMe7EaxCbk/uBZOiE03XdIG4RYrueOsxbPNsUR2j0B6Z27ixhcGiMqD5nqGK/AM OMSJQA0Z1oIub4fob+G3z/iJsZW34GNZ/5gTwIxHRa57LtJfUEspCgyEeAQt4/T9t5ts OX4w== X-Gm-Message-State: AOJu0YwlIekpsLRduMyI1I+5WJgL3vdXh+4c6c56sQqyoGfSWeEN1y+U H51rLDMYc2H2Lk26m4lKaP8PifL++Zu2Z2cVTB0+Jx9l+4ecrRJGNgD0vxSEmwJyAMBZwM1+Sq1 tql/QmG9Go8gL5mZ5PyFHHRjqzUa/zB4sSsClOXTMkVXc X-Gm-Gg: ASbGnctpfLARJ6IqvBF+h/3E+RU6eooErchb+i7RoQuRNf1WPtCSkJ+T4aIzzAxIalp cFkHEBJJLbOtyuI1yoBQCeOdOueXnBk/NmDFD2ESMyV1RBca6OhK99QaRwjoRGLVVfFPFbXsWdV MgVtLRmZyLKyxLru+CHO0bHtl1zGOhEjWv/jLlPiaA6UNRRFBoTeYuyhNwdAogsU5ccLxsz9F4X bh1ltsdoKshJiVfV63syVTCq7moCp0yzL8EbAUEjf84B6fc4iE4JbM4rSZwjvr+L71eKPbaukJD ZEb/HFmzDWtuZq3+AzdFsFYaM/lOPnm6x5yDcETXT6Uo79mMUDBWxa1U/lONAptRhJiw2qiu X-Google-Smtp-Source: AGHT+IEnBHxoOOMGJne8AJpK1OMyuk1gq7Yh5HFL0ULjtZJ8iGsLEw1sQoedDKCPb1sZtbgoKaa53sZQWJbA X-Received: by 2002:a05:6e02:1786:b0:3e0:4f66:310a with SMTP id e9e14a558f8ab-3e3355b0431mr39012275ab.16.1753262759147; Wed, 23 Jul 2025 02:25:59 -0700 (PDT) Received: from postal.iol.unh.edu (postal.iol.unh.edu. [132.177.123.84]) by smtp-relay.gmail.com with ESMTPS id 8926c6da1cb9f-5084c8f541asm552705173.35.2025.07.23.02.25.59 (version=TLS1_2 cipher=ECDHE-ECDSA-AES128-GCM-SHA256 bits=128/128); Wed, 23 Jul 2025 02:25:59 -0700 (PDT) X-Relaying-Domain: iol.unh.edu Date: Wed, 23 Jul 2025 02:25:59 -0700 (PDT) Message-ID: <6880aaa7.050a0220.53da1.c268SMTPIN_ADDED_MISSING@mx.google.com> Received: from [172.21.0.3] (unknown [172.18.0.240]) by postal.iol.unh.edu (Postfix) with ESMTP id B291E6051830; Wed, 23 Jul 2025 05:25:58 -0400 (EDT) Subject: |SUCCESS| pw155446 [PATCH] lib/ethdev: fix segfault in secondary pro From: dpdklab@iol.unh.edu To: Test Report Cc: dpdk-test-reports@iol.unh.edu In-Reply-To: <20250723042959.1576338-1-14pwcse1224@uetpeshawar.edu.pk> References: <20250723042959.1576338-1-14pwcse1224@uetpeshawar.edu.pk> Content-Type: text/plain X-BeenThere: test-report@dpdk.org X-Mailman-Version: 2.1.29 Precedence: list List-Id: automatic DPDK test reports List-Unsubscribe: , List-Archive: List-Post: List-Help: List-Subscribe: , Errors-To: test-report-bounces@dpdk.org Test-Label: iol-unit-amd64-testing Test-Status: SUCCESS http://dpdk.org/patch/155446 _Testing PASS_ Submitter: Khadem Ullah <14pwcse1224@uetpeshawar.edu.pk> Date: Wednesday, July 23 2025 04:29:59 DPDK git baseline: Repo:dpdk Branch: master CommitID:b78afde1fed9e11ee5cdce333a1a69dd7a9cf13e 155446 --> testing pass Upstream job id: Generic-Unit-Test-DPDK#357592 Test environment and result as below: +-------------------------------+----------------+ | Environment | dpdk_unit_test | +===============================+================+ | CentOS Stream 10 | PASS | +-------------------------------+----------------+ | Ubuntu 22.04 | PASS | +-------------------------------+----------------+ | Fedora Linux 41 | PASS | +-------------------------------+----------------+ | CentOS Stream 9 | PASS | +-------------------------------+----------------+ | Ubuntu 20.04 | PASS | +-------------------------------+----------------+ | Red Hat Enterprise Linux 9.5 | PASS | +-------------------------------+----------------+ | Red Hat Enterprise Linux 8.10 | PASS | +-------------------------------+----------------+ | Fedora Linux 40 | PASS | +-------------------------------+----------------+ | Ubuntu 24.04 | PASS | +-------------------------------+----------------+ | Debian GNU/Linux 12 | PASS | +-------------------------------+----------------+ | Windows Server 2022 | PASS | +-------------------------------+----------------+ CentOS Stream 10 Kernel: 5.15 Compiler: gcc gcc (GCC) 14.2.1 20250110 (Red Hat 14.2.1-8) Ubuntu 22.04 Kernel: 5.15 Compiler: gcc gcc (Ubuntu 11.4.0-1ubuntu1~22.04) 11.4.0 Fedora Linux 41 Kernel: 5.15 Compiler: gcc gcc (GCC) 14.3.1 20250523 (Red Hat 14.3.1-1) CentOS Stream 9 Kernel: 5.15 Compiler: gcc gcc (GCC) 11.5.0 20240719 (Red Hat 11.5.0-7) Ubuntu 20.04 Kernel: 5.15 Compiler: gcc gcc (Ubuntu 9.4.0-1ubuntu1~20.04.2) 9.4.0 Red Hat Enterprise Linux 9.5 Kernel: 5.15 Compiler: gcc gcc (GCC) 11.5.0 20240719 (Red Hat 11.5.0-2) Red Hat Enterprise Linux 8.10 Kernel: 5.15 Compiler: gcc gcc (GCC) 8.5.0 20210514 (Red Hat 8.5.0-22) Fedora Linux 40 Kernel: 5.15 Compiler: clang gcc (GCC) 14.2.1 20240912 (Red Hat 14.2.1-3) Ubuntu 24.04 Kernel: 5.15 Compiler: gcc gcc (Ubuntu 13.3.0-6ubuntu2~24.04) 13.3.0 Debian GNU/Linux 12 Kernel: 5.15 Compiler: gcc gcc (Debian 12.2.0-14+deb12u1) 12.2.0 Windows Server 2022 Kernel: 10.0.20348.2031 Compiler: clang 15.0.7, gcc 14.1.0 (MinGW), and MSVC VS 19.39.33521 To view detailed results, visit: https://lab.dpdk.org/results/dashboard/patchsets/33731/ UNH-IOL DPDK Community Lab To manage your email subscriptions, visit: https://lab.dpdk.org/results/dashboard/preferences/subscriptions/