From mboxrd@z Thu Jan 1 00:00:00 1970 Return-Path: Received: from mails.dpdk.org (mails.dpdk.org [217.70.189.124]) by inbox.dpdk.org (Postfix) with ESMTP id A828346BEF for ; Wed, 23 Jul 2025 11:53:43 +0200 (CEST) Received: from mails.dpdk.org (localhost [127.0.0.1]) by mails.dpdk.org (Postfix) with ESMTP id 86B1240264; Wed, 23 Jul 2025 11:53:43 +0200 (CEST) Received: from mail-pg1-f225.google.com (mail-pg1-f225.google.com [209.85.215.225]) by mails.dpdk.org (Postfix) with ESMTP id 3BE3A40264 for ; Wed, 23 Jul 2025 11:53:42 +0200 (CEST) Received: by mail-pg1-f225.google.com with SMTP id 41be03b00d2f7-b391ca6146eso5750388a12.3 for ; Wed, 23 Jul 2025 02:53:42 -0700 (PDT) DKIM-Signature: v=1; a=rsa-sha256; c=relaxed/relaxed; d=iol.unh.edu; s=unh-iol; t=1753264421; x=1753869221; darn=dpdk.org; h=references:in-reply-to:cc:to:from:subject:message-id:date:from:to :cc:subject:date:message-id:reply-to; bh=Ft4nEFoI4YgqVWvUIWWJ+U5Trx8A666Z1Q0U2LP2n3s=; b=iFDBATy0zfT7EwmT3z6f3Xsnkh0VHr0zRXcY9IUVd1e/ja4LxknVQzHcLwgOG8FjSK bHi6YfM8M+xlSJKMagF5HWAG6sUYIg/eS4eovFxtSQR1fzXZyXXcTfnNUlST5VCwv8AH S5xBfqJosgTz697GBezR8poDywyOmIWWd/Vpg= X-Google-DKIM-Signature: v=1; a=rsa-sha256; c=relaxed/relaxed; d=1e100.net; s=20230601; t=1753264421; x=1753869221; h=references:in-reply-to:cc:to:from:subject:message-id:date :x-gm-message-state:from:to:cc:subject:date:message-id:reply-to; bh=Ft4nEFoI4YgqVWvUIWWJ+U5Trx8A666Z1Q0U2LP2n3s=; b=EHGTub4ZGNLXffdtUf3KVt/eZlfhjqE0YybiaxBnQq/tWKwZMG82VwelWnLrfbtpC+ UdUyL377MvUpA3cOGYe2GCcibnaBoVQUCWgfGZ34aNf1UZ09WpvWYNgfkvDZEZWYZ1eT jS+cMeDOhRxbfh+2e9w9fdFPr4Ov0NvNkVsewnihdcWDjd90iLrp9GfHKJd1ea3PlYPv Uh2CNGVMz5dScSU7PEAvlIbqfDQM4hE37ml3IKLkkwjYq8ltl8ay5D4NkHuD8g8o6egm daT5UEg63I80jrJCEJGlwhQeLpvAlHTHP8QZfZioDaeWLNN8B1g0hnsZPyAC+tLWc3cT 6nVQ== X-Gm-Message-State: AOJu0YxoYc108nuVe/qH4sWUsAF3+faFwF0CGjyDvWhtj99ImVErCYxg 6lSiBZrDpYB1G8288I626uRG9qGoC7k25kpFgBVbwgmTKFloKPVQCrcD8IYRWdWSKPMprlBqm/a TaHOhpsGfbvh95cetZ7AZMKsSFo64v/srSm7o2Zk8OCJi X-Gm-Gg: ASbGnctiT9cWeIMKhi00DSf1GdSnNXjmIz7238WQYiey0Ha+4jCXtAHXf/JeYZugYpj Xw2M5/J10L9wUK+2srnQ3XnYVrTIlW9TBCzvgYoK2PAW3E5Jtpy4bdCrqBMYtv7dJKda25nuU/K /Wl26m2I9xXXOb4O2n7eWkD9GBlFpzpvR+wE+SJkl55RPmT/HqBNyY8SaHDi6Ut8MWoSGL2WAuk XZ45YIQ7PTuvniCgSGtdiT6LyfCnh9x0TKyzTgVdLU/PNZnY0lMY39BX94SzU7EQ8H9RhwyzA84 yI7Eq5uoaHF2r2g1zk/UVq3BZdq6X5ZaAtkCZbSNvyiAyWyuffctvsxtktX/jPRkCdfW1XbY X-Google-Smtp-Source: AGHT+IEovf/5xLMt5JSvh2KeisW02WDpbyCvg/doyWgNbSdsmpISIgaFSXXgr4LORbrCHaRYwwOjMU2rDXvM X-Received: by 2002:a17:90b:2e0e:b0:313:23ed:701 with SMTP id 98e67ed59e1d1-31e5078eb95mr3645787a91.4.1753264421300; Wed, 23 Jul 2025 02:53:41 -0700 (PDT) Received: from postal.iol.unh.edu (postal.iol.unh.edu. [132.177.123.84]) by smtp-relay.gmail.com with ESMTPS id 98e67ed59e1d1-31e51a01de7sm76758a91.7.2025.07.23.02.53.41 (version=TLS1_2 cipher=ECDHE-ECDSA-AES128-GCM-SHA256 bits=128/128); Wed, 23 Jul 2025 02:53:41 -0700 (PDT) X-Relaying-Domain: iol.unh.edu Date: Wed, 23 Jul 2025 02:53:41 -0700 (PDT) Message-ID: <6880b125.170a0220.2a3892.3bd6SMTPIN_ADDED_MISSING@mx.google.com> Received: from [172.21.0.5] (unknown [172.18.0.240]) by postal.iol.unh.edu (Postfix) with ESMTP id 6DAD46051830; Wed, 23 Jul 2025 05:53:40 -0400 (EDT) Subject: |SUCCESS| pw155455 [PATCH] [v2] lib/ethdev: fix segfault in secondar From: dpdklab@iol.unh.edu To: Test Report Cc: dpdk-test-reports@iol.unh.edu In-Reply-To: <20250723045022.1580829-1-14pwcse1224@uetpeshawar.edu.pk> References: <20250723045022.1580829-1-14pwcse1224@uetpeshawar.edu.pk> Content-Type: text/plain X-BeenThere: test-report@dpdk.org X-Mailman-Version: 2.1.29 Precedence: list List-Id: automatic DPDK test reports List-Unsubscribe: , List-Archive: List-Post: List-Help: List-Subscribe: , Errors-To: test-report-bounces@dpdk.org Test-Label: iol-unit-amd64-testing Test-Status: SUCCESS http://dpdk.org/patch/155455 _Testing PASS_ Submitter: Khadem Ullah <14pwcse1224@uetpeshawar.edu.pk> Date: Wednesday, July 23 2025 04:50:22 DPDK git baseline: Repo:dpdk Branch: master CommitID:b78afde1fed9e11ee5cdce333a1a69dd7a9cf13e 155455 --> testing pass Upstream job id: Generic-Unit-Test-DPDK#357633 Test environment and result as below: +-------------------------------+----------------+ | Environment | dpdk_unit_test | +===============================+================+ | CentOS Stream 9 | PASS | +-------------------------------+----------------+ | Fedora Linux 41 | PASS | +-------------------------------+----------------+ | Fedora Linux 40 | PASS | +-------------------------------+----------------+ | CentOS Stream 10 | PASS | +-------------------------------+----------------+ | Debian GNU/Linux 12 | PASS | +-------------------------------+----------------+ | Red Hat Enterprise Linux 9.5 | PASS | +-------------------------------+----------------+ | Ubuntu 20.04 | PASS | +-------------------------------+----------------+ | Red Hat Enterprise Linux 8.10 | PASS | +-------------------------------+----------------+ | Ubuntu 24.04 | PASS | +-------------------------------+----------------+ | Ubuntu 22.04 | PASS | +-------------------------------+----------------+ | Windows Server 2022 | PASS | +-------------------------------+----------------+ CentOS Stream 9 Kernel: 5.15 Compiler: gcc gcc (GCC) 11.5.0 20240719 (Red Hat 11.5.0-7) Fedora Linux 41 Kernel: 5.15 Compiler: gcc gcc (GCC) 14.3.1 20250523 (Red Hat 14.3.1-1) Fedora Linux 40 Kernel: 5.15 Compiler: clang gcc (GCC) 14.2.1 20240912 (Red Hat 14.2.1-3) CentOS Stream 10 Kernel: 5.15 Compiler: gcc gcc (GCC) 14.2.1 20250110 (Red Hat 14.2.1-8) Debian GNU/Linux 12 Kernel: 5.15 Compiler: gcc gcc (Debian 12.2.0-14+deb12u1) 12.2.0 Red Hat Enterprise Linux 9.5 Kernel: 5.15 Compiler: gcc gcc (GCC) 11.5.0 20240719 (Red Hat 11.5.0-2) Ubuntu 20.04 Kernel: 5.15 Compiler: gcc gcc (Ubuntu 9.4.0-1ubuntu1~20.04.2) 9.4.0 Red Hat Enterprise Linux 8.10 Kernel: 5.15 Compiler: gcc gcc (GCC) 8.5.0 20210514 (Red Hat 8.5.0-22) Ubuntu 24.04 Kernel: 5.15 Compiler: gcc gcc (Ubuntu 13.3.0-6ubuntu2~24.04) 13.3.0 Ubuntu 22.04 Kernel: 5.15 Compiler: gcc gcc (Ubuntu 11.4.0-1ubuntu1~22.04) 11.4.0 Windows Server 2022 Kernel: 10.0.20348.2031 Compiler: clang 15.0.7, gcc 14.1.0 (MinGW), and MSVC VS 19.39.33521 To view detailed results, visit: https://lab.dpdk.org/results/dashboard/patchsets/33733/ UNH-IOL DPDK Community Lab To manage your email subscriptions, visit: https://lab.dpdk.org/results/dashboard/preferences/subscriptions/