From mboxrd@z Thu Jan 1 00:00:00 1970 Return-Path: Received: from mails.dpdk.org (mails.dpdk.org [217.70.189.124]) by inbox.dpdk.org (Postfix) with ESMTP id 9862F46BEF for ; Wed, 23 Jul 2025 11:53:56 +0200 (CEST) Received: from mails.dpdk.org (localhost [127.0.0.1]) by mails.dpdk.org (Postfix) with ESMTP id 93F7440264; Wed, 23 Jul 2025 11:53:56 +0200 (CEST) Received: from mail-oo1-f99.google.com (mail-oo1-f99.google.com [209.85.161.99]) by mails.dpdk.org (Postfix) with ESMTP id 55B5740264 for ; Wed, 23 Jul 2025 11:53:55 +0200 (CEST) Received: by mail-oo1-f99.google.com with SMTP id 006d021491bc7-6159430bdb2so1704329eaf.0 for ; Wed, 23 Jul 2025 02:53:55 -0700 (PDT) DKIM-Signature: v=1; a=rsa-sha256; c=relaxed/relaxed; d=iol.unh.edu; s=unh-iol; t=1753264434; x=1753869234; darn=dpdk.org; h=references:in-reply-to:cc:to:from:subject:message-id:date:from:to :cc:subject:date:message-id:reply-to; bh=Vo9ytPdYVMSp2z7xlp24eWatgDcxHZRf2sGw0UwZwV8=; b=gyBrJG95KT8kXR9k9rMdydp37I49ECw6Ml/gWmzLe7OzN6QSFB3HPXCFZNLoFPGlP1 9SBxBIFoRWUfMWLoXFMZg2oeYFQtLYVRf/kbHdGxNzGdLPNuRUHC3HTQZ/VxGN8BN+gC xPBjmrpw54mGzmI/auROjmGb9GSwAdqDABRtU= X-Google-DKIM-Signature: v=1; a=rsa-sha256; c=relaxed/relaxed; d=1e100.net; s=20230601; t=1753264434; x=1753869234; h=references:in-reply-to:cc:to:from:subject:message-id:date :x-gm-message-state:from:to:cc:subject:date:message-id:reply-to; bh=Vo9ytPdYVMSp2z7xlp24eWatgDcxHZRf2sGw0UwZwV8=; b=Aw/rdFGTKY84SASf+grD0AghBdP170IcqEQVhq6XTIYoa1Nt3i1l+bocV7nw6SPxaZ JzNHnRVI/oI+qO8APUYLHmZyaNYQyIW7uRipPwiNkwVJUGLUI7A1Rn9B4LT832GfYv2i 3MWgjJ3YlgqwxwaRvXcUXj4+qW3mmEyMw6wS2wBBo39dKT6miKEJISlaqHcIjUZoIZ29 E1nOzFAmIOaoS03v9wVW6tRO1dkvjRc2MVjXnNhRzRbtmgxOxk+RYgqrdtHwt8DmTMdi xCFzsQu9sRPK4LCx8WknEGEN7LUDf7pyfz8WTX8YqaA69U8VWuMzc/rX8f+bfp6EeXYp Y5TQ== X-Gm-Message-State: AOJu0YzML5VUHalTQ5DayU/bl3wdmnxDK7tX2CLYR6P0DWyITq4X16EX gGGu+LPGXR2OJ5hhWYddruepy/i06P8umF9VR+V8t23pQripfpodmupFRDLwdYbiIMSqzVa6LrB qG2NJsY2TFA1TobzYNliJkRCWiJdRpMohT21J8ggnpTlf7VTULnZPXwN9SHj6 X-Gm-Gg: ASbGncsxH1D7zac+MOBMXneKTQTT8argIABUd/GOlJ79pRFe5/PFh6Oy45ubJH/Oo3z YRL3b7G65Ng8UvvBORC+q2qTLNEW4zSwOx3DYfve7zC+8A+mBFXjeF0YY9Afanbk6NDTqz9flv/ gF0BgGfwTQ+jO6fulyLOzTWIBkOBsjjx4mklTTLfMez0b8DjMrV+rRXOkS8TiMM3jpl4l5JVPJV 9UGABv5DaGIWDVmylaRPvFIGC1LW6k/+JHlxpaQR1CAmUeYQ23MQBA61c3xZk/JhNNb23btJbL9 X9wJkLkNy2b7q+KYRdB1yVlVjoWuuukbmkZkMSbmWNAeReWGXg== X-Google-Smtp-Source: AGHT+IHmzB7uQbPi6yyBHr0Jg4BON1xCwHqF7QcrzwiHlfOnH58V8wP0e+jJ4ZhP4v7OLq0s5PspGsRHub+s X-Received: by 2002:a05:6870:2189:b0:2ff:a3d0:e419 with SMTP id 586e51a60fabf-306c6f0b2f6mr1535284fac.5.1753264434447; Wed, 23 Jul 2025 02:53:54 -0700 (PDT) Received: from postal.iol.unh.edu (postal.iol.unh.edu. [2606:4100:3880:1234::84]) by smtp-relay.gmail.com with ESMTPS id 586e51a60fabf-30105f10e70sm879864fac.21.2025.07.23.02.53.54 (version=TLS1_2 cipher=ECDHE-ECDSA-AES128-GCM-SHA256 bits=128/128); Wed, 23 Jul 2025 02:53:54 -0700 (PDT) X-Relaying-Domain: iol.unh.edu Date: Wed, 23 Jul 2025 02:53:54 -0700 (PDT) Message-ID: <6880b132.050a0220.342bc.daa5SMTPIN_ADDED_MISSING@mx.google.com> Received: from [172.21.0.2] (unknown [172.18.0.240]) by postal.iol.unh.edu (Postfix) with ESMTP id 018056051830; Wed, 23 Jul 2025 05:53:54 -0400 (EDT) Subject: |SUCCESS| pw155455 [PATCH] [v2] lib/ethdev: fix segfault in secondar From: dpdklab@iol.unh.edu To: Test Report Cc: dpdk-test-reports@iol.unh.edu In-Reply-To: <20250723045022.1580829-1-14pwcse1224@uetpeshawar.edu.pk> References: <20250723045022.1580829-1-14pwcse1224@uetpeshawar.edu.pk> Content-Type: text/plain X-BeenThere: test-report@dpdk.org X-Mailman-Version: 2.1.29 Precedence: list List-Id: automatic DPDK test reports List-Unsubscribe: , List-Archive: List-Post: List-Help: List-Subscribe: , Errors-To: test-report-bounces@dpdk.org Test-Label: iol-unit-amd64-testing Test-Status: SUCCESS http://dpdk.org/patch/155455 _Testing PASS_ Submitter: Khadem Ullah <14pwcse1224@uetpeshawar.edu.pk> Date: Wednesday, July 23 2025 04:50:22 DPDK git baseline: Repo:dpdk Branch: master CommitID:b78afde1fed9e11ee5cdce333a1a69dd7a9cf13e 155455 --> testing pass Upstream job id: Generic-Unit-Test-DPDK#357624 Test environment and result as below: +-------------------------------+----------------+ | Environment | dpdk_unit_test | +===============================+================+ | CentOS Stream 9 | PASS | +-------------------------------+----------------+ | Fedora Linux 41 | PASS | +-------------------------------+----------------+ | Fedora Linux 40 | PASS | +-------------------------------+----------------+ | CentOS Stream 10 | PASS | +-------------------------------+----------------+ | Debian GNU/Linux 12 | PASS | +-------------------------------+----------------+ | Red Hat Enterprise Linux 9.5 | PASS | +-------------------------------+----------------+ | Ubuntu 20.04 | PASS | +-------------------------------+----------------+ | Red Hat Enterprise Linux 8.10 | PASS | +-------------------------------+----------------+ | Ubuntu 24.04 | PASS | +-------------------------------+----------------+ | Ubuntu 22.04 | PASS | +-------------------------------+----------------+ | Windows Server 2022 | PASS | +-------------------------------+----------------+ CentOS Stream 9 Kernel: 5.15 Compiler: gcc gcc (GCC) 11.5.0 20240719 (Red Hat 11.5.0-7) Fedora Linux 41 Kernel: 5.15 Compiler: gcc gcc (GCC) 14.3.1 20250523 (Red Hat 14.3.1-1) Fedora Linux 40 Kernel: 5.15 Compiler: clang gcc (GCC) 14.2.1 20240912 (Red Hat 14.2.1-3) CentOS Stream 10 Kernel: 5.15 Compiler: gcc gcc (GCC) 14.2.1 20250110 (Red Hat 14.2.1-8) Debian GNU/Linux 12 Kernel: 5.15 Compiler: gcc gcc (Debian 12.2.0-14+deb12u1) 12.2.0 Red Hat Enterprise Linux 9.5 Kernel: 5.15 Compiler: gcc gcc (GCC) 11.5.0 20240719 (Red Hat 11.5.0-2) Ubuntu 20.04 Kernel: 5.15 Compiler: gcc gcc (Ubuntu 9.4.0-1ubuntu1~20.04.2) 9.4.0 Red Hat Enterprise Linux 8.10 Kernel: 5.15 Compiler: gcc gcc (GCC) 8.5.0 20210514 (Red Hat 8.5.0-22) Ubuntu 24.04 Kernel: 5.15 Compiler: gcc gcc (Ubuntu 13.3.0-6ubuntu2~24.04) 13.3.0 Ubuntu 22.04 Kernel: 5.15 Compiler: gcc gcc (Ubuntu 11.4.0-1ubuntu1~22.04) 11.4.0 Windows Server 2022 Kernel: 10.0.20348.2031 Compiler: clang 15.0.7, gcc 14.1.0 (MinGW), and MSVC VS 19.39.33521 To view detailed results, visit: https://lab.dpdk.org/results/dashboard/patchsets/33733/ UNH-IOL DPDK Community Lab To manage your email subscriptions, visit: https://lab.dpdk.org/results/dashboard/preferences/subscriptions/