From mboxrd@z Thu Jan 1 00:00:00 1970 Return-Path: Received: from mails.dpdk.org (mails.dpdk.org [217.70.189.124]) by inbox.dpdk.org (Postfix) with ESMTP id AD19F46BEF for ; Wed, 23 Jul 2025 11:54:25 +0200 (CEST) Received: from mails.dpdk.org (localhost [127.0.0.1]) by mails.dpdk.org (Postfix) with ESMTP id A632540264; Wed, 23 Jul 2025 11:54:25 +0200 (CEST) Received: from mail-il1-f228.google.com (mail-il1-f228.google.com [209.85.166.228]) by mails.dpdk.org (Postfix) with ESMTP id 5C75F40264 for ; Wed, 23 Jul 2025 11:54:24 +0200 (CEST) Received: by mail-il1-f228.google.com with SMTP id e9e14a558f8ab-3e2c521efddso10677955ab.3 for ; Wed, 23 Jul 2025 02:54:24 -0700 (PDT) DKIM-Signature: v=1; a=rsa-sha256; c=relaxed/relaxed; d=iol.unh.edu; s=unh-iol; t=1753264463; x=1753869263; darn=dpdk.org; h=references:in-reply-to:cc:to:from:subject:message-id:date:from:to :cc:subject:date:message-id:reply-to; bh=gY/wiL5UsjORS0maKHdWY8q9i2VPnQZ0HKAOnEgPjfo=; b=fyI2U2qoudMfR6sl/vjwLjOzFIGSRMgdirXq0udzKvtzw9aajOdJPh3g9iRGUKEnTj lxAuHejXTJLffn5XvY1sOvkVHobf0I3dCHj+L1dvUa9tEt2eO7C7n7/PXFrpORzVSxY/ Ug3vZxDo81iTdccISUlnvNJSfh5EqusdAIPrA= X-Google-DKIM-Signature: v=1; a=rsa-sha256; c=relaxed/relaxed; d=1e100.net; s=20230601; t=1753264463; x=1753869263; h=references:in-reply-to:cc:to:from:subject:message-id:date :x-gm-message-state:from:to:cc:subject:date:message-id:reply-to; bh=gY/wiL5UsjORS0maKHdWY8q9i2VPnQZ0HKAOnEgPjfo=; b=NQTYESjpuJ+sHGv1GZ2FbNekp+DG2cm626YXstB4Lxfg18sTzo8oV4VG/0c+KzZd+2 CPfRL1elhNAhyob2RsCzFefzYQ6nwKM7rmYTONJk5ju6/B4fmBSjdgXRdzNFx0HYdmV5 35urQNm2lUkvIHDsR3989qtjXT67mpzo3pAFkPTwLpWRiS6f9DyGHB/1GtDDuMZRHrSr Z8VMekyeTgMHvSrdoKDlVPtoV4JWiYtgrPrEf0huRzkDgQSjOSuyn6+nFH3AF1wv5QD1 tAAsc2cFpQJdh/H2SGIK6G/IML70CTsSlFouWYT0ZqBN6/mD9k5YTgQyHYuztGrcVrMj 9XlA== X-Gm-Message-State: AOJu0YzDVjxbgVnzdlHRlx96UcrfVcQL/bPQcTtMMbQ8ewkFeVD+j9MG sHC7FObCqPcS9ImQWCgCqgya4wfOvhlIvolB8SfElSNSDn4jf/blbPZSCnyfQhefUy+WeC2ogcW 12tzKDgcNegc+1fXO4jVRVVzc5t7D2gcOARNcmnWQ4hlMaueYIGxt4aqgpfuq X-Gm-Gg: ASbGncvR4106Ma3LGVYqUEY2Kw7taFqUsOuhkJvulTztrP2rQrMqE8lGjxLXkJUafDL 77BbjyqMvx4aD1cTCfXVRxZDZ5k39a64DJUsgr9V+wUPxqO3Y0TdD7Ew3HWcHH7ucsY75pASByr 5KxzQI85EDpTj1Ez6m2rH52h3+oc7xI9mORt2wQtiMrKR9+uZI46HZn873gQqs45XvquvyMl5lh ZRuHLI5Bi11BIDpbbyeeB07EqbZbKFPtaQ+mRrfoaMfHhWEdRWEijd9CowmrrAfWEqnYgQe1GAd 2t5bBsuTnuASOGs5236CiUKtYC4IZHNyWB4jDau/yXK2nrRcFA== X-Google-Smtp-Source: AGHT+IG9wtApk/CgnGV30FinjTWpJpB2i/TBC863TlUKuLPCPS3frYchyUgkIHD/GfdIS/k3icHgYIn2jpvE X-Received: by 2002:a05:6e02:1a62:b0:3df:2cb4:56cc with SMTP id e9e14a558f8ab-3e32fc2139amr35166895ab.4.1753264463655; Wed, 23 Jul 2025 02:54:23 -0700 (PDT) Received: from postal.iol.unh.edu (postal.iol.unh.edu. [2606:4100:3880:1234::84]) by smtp-relay.gmail.com with ESMTPS id 8926c6da1cb9f-5084c9384e2sm535974173.49.2025.07.23.02.54.23 (version=TLS1_2 cipher=ECDHE-ECDSA-AES128-GCM-SHA256 bits=128/128); Wed, 23 Jul 2025 02:54:23 -0700 (PDT) X-Relaying-Domain: iol.unh.edu Date: Wed, 23 Jul 2025 02:54:23 -0700 (PDT) Message-ID: <6880b14f.050a0220.f693.ad57SMTPIN_ADDED_MISSING@mx.google.com> Received: from [172.21.0.2] (unknown [172.18.0.240]) by postal.iol.unh.edu (Postfix) with ESMTP id 38FD16051830; Wed, 23 Jul 2025 05:54:23 -0400 (EDT) Subject: |SUCCESS| pw155455 [PATCH] [v2] lib/ethdev: fix segfault in secondar From: dpdklab@iol.unh.edu To: Test Report Cc: dpdk-test-reports@iol.unh.edu In-Reply-To: <20250723045022.1580829-1-14pwcse1224@uetpeshawar.edu.pk> References: <20250723045022.1580829-1-14pwcse1224@uetpeshawar.edu.pk> Content-Type: text/plain X-BeenThere: test-report@dpdk.org X-Mailman-Version: 2.1.29 Precedence: list List-Id: automatic DPDK test reports List-Unsubscribe: , List-Archive: List-Post: List-Help: List-Subscribe: , Errors-To: test-report-bounces@dpdk.org Test-Label: iol-unit-amd64-testing Test-Status: SUCCESS http://dpdk.org/patch/155455 _Testing PASS_ Submitter: Khadem Ullah <14pwcse1224@uetpeshawar.edu.pk> Date: Wednesday, July 23 2025 04:50:22 DPDK git baseline: Repo:dpdk Branch: master CommitID:b78afde1fed9e11ee5cdce333a1a69dd7a9cf13e 155455 --> testing pass Upstream job id: Generic-Unit-Test-DPDK#357618 Test environment and result as below: +-------------------------------+----------------+ | Environment | dpdk_unit_test | +===============================+================+ | CentOS Stream 9 | PASS | +-------------------------------+----------------+ | Fedora Linux 41 | PASS | +-------------------------------+----------------+ | Fedora Linux 40 | PASS | +-------------------------------+----------------+ | CentOS Stream 10 | PASS | +-------------------------------+----------------+ | Debian GNU/Linux 12 | PASS | +-------------------------------+----------------+ | Red Hat Enterprise Linux 9.5 | PASS | +-------------------------------+----------------+ | Ubuntu 20.04 | PASS | +-------------------------------+----------------+ | Red Hat Enterprise Linux 8.10 | PASS | +-------------------------------+----------------+ | Ubuntu 24.04 | PASS | +-------------------------------+----------------+ | Ubuntu 22.04 | PASS | +-------------------------------+----------------+ | Windows Server 2022 | PASS | +-------------------------------+----------------+ CentOS Stream 9 Kernel: 5.15 Compiler: gcc gcc (GCC) 11.5.0 20240719 (Red Hat 11.5.0-7) Fedora Linux 41 Kernel: 5.15 Compiler: gcc gcc (GCC) 14.3.1 20250523 (Red Hat 14.3.1-1) Fedora Linux 40 Kernel: 5.15 Compiler: clang gcc (GCC) 14.2.1 20240912 (Red Hat 14.2.1-3) CentOS Stream 10 Kernel: 5.15 Compiler: gcc gcc (GCC) 14.2.1 20250110 (Red Hat 14.2.1-8) Debian GNU/Linux 12 Kernel: 5.15 Compiler: gcc gcc (Debian 12.2.0-14+deb12u1) 12.2.0 Red Hat Enterprise Linux 9.5 Kernel: 5.15 Compiler: gcc gcc (GCC) 11.5.0 20240719 (Red Hat 11.5.0-2) Ubuntu 20.04 Kernel: 5.15 Compiler: gcc gcc (Ubuntu 9.4.0-1ubuntu1~20.04.2) 9.4.0 Red Hat Enterprise Linux 8.10 Kernel: 5.15 Compiler: gcc gcc (GCC) 8.5.0 20210514 (Red Hat 8.5.0-22) Ubuntu 24.04 Kernel: 5.15 Compiler: gcc gcc (Ubuntu 13.3.0-6ubuntu2~24.04) 13.3.0 Ubuntu 22.04 Kernel: 5.15 Compiler: gcc gcc (Ubuntu 11.4.0-1ubuntu1~22.04) 11.4.0 Windows Server 2022 Kernel: 10.0.20348.2031 Compiler: clang 15.0.7, gcc 14.1.0 (MinGW), and MSVC VS 19.39.33521 To view detailed results, visit: https://lab.dpdk.org/results/dashboard/patchsets/33733/ UNH-IOL DPDK Community Lab To manage your email subscriptions, visit: https://lab.dpdk.org/results/dashboard/preferences/subscriptions/