From mboxrd@z Thu Jan 1 00:00:00 1970 Return-Path: Received: from mails.dpdk.org (mails.dpdk.org [217.70.189.124]) by inbox.dpdk.org (Postfix) with ESMTP id 4167C46BF0 for ; Wed, 23 Jul 2025 12:57:12 +0200 (CEST) Received: from mails.dpdk.org (localhost [127.0.0.1]) by mails.dpdk.org (Postfix) with ESMTP id 3CD5740264; Wed, 23 Jul 2025 12:57:12 +0200 (CEST) Received: from mail-qv1-f100.google.com (mail-qv1-f100.google.com [209.85.219.100]) by mails.dpdk.org (Postfix) with ESMTP id D0D3340264 for ; Wed, 23 Jul 2025 12:57:11 +0200 (CEST) Received: by mail-qv1-f100.google.com with SMTP id 6a1803df08f44-700fee04941so62437766d6.1 for ; Wed, 23 Jul 2025 03:57:11 -0700 (PDT) DKIM-Signature: v=1; a=rsa-sha256; c=relaxed/relaxed; d=iol.unh.edu; s=unh-iol; t=1753268231; x=1753873031; darn=dpdk.org; h=references:in-reply-to:cc:to:from:subject:message-id:date:from:to :cc:subject:date:message-id:reply-to; bh=DJJ/RyrWUHtwmTseH5Qa7sBP5g+mCQPWFebfgdoNklQ=; b=du/tvU6S+vC+7hl03zDmIISdfjrNZOHCk1sjbPGM0d9suIHYZ6LfKvm0KESJRrrQS7 4QOa7VDa4Szy01O+LlYhD2GRAkRjcdzSB/rcAdP9fZJaNJhUqDW/cyAr7vyG1pRspGy1 3fyug+GTfnGEA3eFPQQ7ZN7bp9TOT7iO+0mfM= X-Google-DKIM-Signature: v=1; a=rsa-sha256; c=relaxed/relaxed; d=1e100.net; s=20230601; t=1753268231; x=1753873031; h=references:in-reply-to:cc:to:from:subject:message-id:date :x-gm-message-state:from:to:cc:subject:date:message-id:reply-to; bh=DJJ/RyrWUHtwmTseH5Qa7sBP5g+mCQPWFebfgdoNklQ=; b=dhVOMnaXUYz6WwWWnCl5wSBhEh9rdeLGTML1rKo62lllp8g7IOkneIqX2YFEKrRK/6 9SRGoX7PfBuflu+tEUoUWlDpkBCt8fObrYE3ZOJ1Gf2r7ZhuSHF8kEJzaVD3OQv5615f riMRkHS+Oe9z4UGi6ou8paqoDwF26/uLndT7up3uAX8/VYGnOMUH3jzdnUKReEEpdopN +5I9WyTD4N0YRdURQVnOrZLxtGXSiU7t8eoElo1R8Mxj0beAm9dNHt55E0PQvb+7Gkx+ wCa+ZFvqcvo/4sV6Ik0GustnQVb49eMeu5DrwKBsFJTg75KTgdsp1sSPXikpvFoa5DTt 7AHg== X-Gm-Message-State: AOJu0YwZV9cQA63U6vpRIjTmeENkYLFzuil0u9C3oCZPk4+xn7TbWPGz eb9S98pDMtM7tAmWnQ8mgLLEACtYqbpQk0PVxPN5H1JFSybyY7ivaNBQpkGTjhjYkVL5hIcxzNv vfEZ/J1tmVDA3IJ+khlwBgSgu827FjUGHXIoPnOcBoLFGQMSpTvGxO3hAfZWM X-Gm-Gg: ASbGncu6BlM/OHKf9Rlo7GBaiujAmz5s13ARcVjzxaXwrg4cyf9Z650qN+eRJWgZ4G3 Pq29P2M+BLubfd0/6jHGYdb6jTDVyxBi0feM0V58Ba+hFWPUf+Bo6eTTS283qHsvvhQwuNn3xwA 8pqJ5jAg/vMsYALfX26jCWncNStHl/AdQxhU47W3Pqjp4egRNpCuZhuIMr3OAwd+BOfS0q3CHbZ U0XGIqzXdc0cqiUZJB0QF9GVCRQwD7XTGuwHVsDOyss6jR6YFpIyLjWz/n5qEMHQnjubYcTs+OG vhlIZoqjYOT+yTLXkTAYw6aZB8+LheW8Rfw1RFRM+J7LV4j++A== X-Google-Smtp-Source: AGHT+IFdyLSSkbl4ZWjldFfQg5u90nnKZ4v+oJ5QcRseFQ7xgdPUDv3DeXwvGNwwGDJbuSJeUg4gQ4cEbstA X-Received: by 2002:a05:6214:4110:b0:704:f8fa:fb18 with SMTP id 6a1803df08f44-707006ca38dmr33213576d6.27.1753268231061; Wed, 23 Jul 2025 03:57:11 -0700 (PDT) Received: from postal.iol.unh.edu (postal.iol.unh.edu. [2606:4100:3880:1234::84]) by smtp-relay.gmail.com with ESMTPS id 6a1803df08f44-7051ba2b767sm6517166d6.8.2025.07.23.03.57.11 (version=TLS1_2 cipher=ECDHE-ECDSA-AES128-GCM-SHA256 bits=128/128); Wed, 23 Jul 2025 03:57:11 -0700 (PDT) X-Relaying-Domain: iol.unh.edu Date: Wed, 23 Jul 2025 03:57:11 -0700 (PDT) Message-ID: <6880c007.050a0220.2d1e5b.06bdSMTPIN_ADDED_MISSING@mx.google.com> Received: from [172.21.0.3] (unknown [172.18.0.240]) by postal.iol.unh.edu (Postfix) with ESMTP id C6D6D6050A61; Wed, 23 Jul 2025 06:57:10 -0400 (EDT) Subject: |SUCCESS| pw155447-155454 [PATCH] [v9,8/8] lib/pmu: fix out-of-bound From: dpdklab@iol.unh.edu To: Test Report Cc: dpdk-test-reports@iol.unh.edu In-Reply-To: <20250723044118.2962318-9-tduszynski@marvell.com> References: <20250723044118.2962318-9-tduszynski@marvell.com> Content-Type: text/plain X-BeenThere: test-report@dpdk.org X-Mailman-Version: 2.1.29 Precedence: list List-Id: automatic DPDK test reports List-Unsubscribe: , List-Archive: List-Post: List-Help: List-Subscribe: , Errors-To: test-report-bounces@dpdk.org Test-Label: iol-unit-amd64-testing Test-Status: SUCCESS http://dpdk.org/patch/155454 _Testing PASS_ Submitter: Tomasz Duszynski Date: Wednesday, July 23 2025 04:41:18 DPDK git baseline: Repo:dpdk Branch: master CommitID:b222395561638f89562e4ef42e1eabf2d6db43dd 155447-155454 --> testing pass Upstream job id: Generic-Unit-Test-DPDK#357657 Test environment and result as below: +-------------------------------+----------------+ | Environment | dpdk_unit_test | +===============================+================+ | Fedora Linux 40 | PASS | +-------------------------------+----------------+ | CentOS Stream 9 | PASS | +-------------------------------+----------------+ | CentOS Stream 10 | PASS | +-------------------------------+----------------+ | Debian GNU/Linux 12 | PASS | +-------------------------------+----------------+ | Red Hat Enterprise Linux 8.10 | PASS | +-------------------------------+----------------+ | Red Hat Enterprise Linux 9.5 | PASS | +-------------------------------+----------------+ | Fedora Linux 41 | PASS | +-------------------------------+----------------+ | Ubuntu 20.04 | PASS | +-------------------------------+----------------+ | Ubuntu 22.04 | PASS | +-------------------------------+----------------+ | Ubuntu 24.04 | PASS | +-------------------------------+----------------+ | Windows Server 2022 | PASS | +-------------------------------+----------------+ Fedora Linux 40 Kernel: 5.15 Compiler: gcc gcc (GCC) 14.2.1 20240912 (Red Hat 14.2.1-3) CentOS Stream 9 Kernel: 5.15 Compiler: gcc gcc (GCC) 11.5.0 20240719 (Red Hat 11.5.0-7) CentOS Stream 10 Kernel: 5.15 Compiler: gcc gcc (GCC) 14.2.1 20250110 (Red Hat 14.2.1-8) Debian GNU/Linux 12 Kernel: 5.15 Compiler: gcc gcc (Debian 12.2.0-14+deb12u1) 12.2.0 Red Hat Enterprise Linux 8.10 Kernel: 5.15 Compiler: gcc gcc (GCC) 8.5.0 20210514 (Red Hat 8.5.0-22) Red Hat Enterprise Linux 9.5 Kernel: 5.15 Compiler: gcc gcc (GCC) 11.5.0 20240719 (Red Hat 11.5.0-2) Fedora Linux 41 Kernel: 5.15 Compiler: clang gcc (GCC) 14.3.1 20250523 (Red Hat 14.3.1-1) Ubuntu 20.04 Kernel: 5.15 Compiler: gcc gcc (Ubuntu 9.4.0-1ubuntu1~20.04.2) 9.4.0 Ubuntu 22.04 Kernel: 5.15 Compiler: gcc gcc (Ubuntu 11.4.0-1ubuntu1~22.04) 11.4.0 Ubuntu 24.04 Kernel: 5.15 Compiler: gcc gcc (Ubuntu 13.3.0-6ubuntu2~24.04) 13.3.0 Windows Server 2022 Kernel: 10.0.20348.2031 Compiler: clang 15.0.7, gcc 14.1.0 (MinGW), and MSVC VS 19.39.33521 To view detailed results, visit: https://lab.dpdk.org/results/dashboard/patchsets/33732/ UNH-IOL DPDK Community Lab To manage your email subscriptions, visit: https://lab.dpdk.org/results/dashboard/preferences/subscriptions/