From mboxrd@z Thu Jan 1 00:00:00 1970 Return-Path: Received: from mails.dpdk.org (mails.dpdk.org [217.70.189.124]) by inbox.dpdk.org (Postfix) with ESMTP id 5758146BF0 for ; Wed, 23 Jul 2025 12:57:52 +0200 (CEST) Received: from mails.dpdk.org (localhost [127.0.0.1]) by mails.dpdk.org (Postfix) with ESMTP id 518F340264; Wed, 23 Jul 2025 12:57:52 +0200 (CEST) Received: from mail-oa1-f99.google.com (mail-oa1-f99.google.com [209.85.160.99]) by mails.dpdk.org (Postfix) with ESMTP id B7E6D40264 for ; Wed, 23 Jul 2025 12:57:51 +0200 (CEST) Received: by mail-oa1-f99.google.com with SMTP id 586e51a60fabf-2eb6c422828so540564fac.1 for ; Wed, 23 Jul 2025 03:57:51 -0700 (PDT) DKIM-Signature: v=1; a=rsa-sha256; c=relaxed/relaxed; d=iol.unh.edu; s=unh-iol; t=1753268271; x=1753873071; darn=dpdk.org; h=references:in-reply-to:cc:to:from:subject:message-id:date:from:to :cc:subject:date:message-id:reply-to; bh=ed82xjQyfe3I34eqYxUr5wupU1JBlHFpgfbtqJPpOk8=; b=dABv9tdUXvqBasXsD6F4iDhiq2nAJbOlZG7e63QFsvE5Us+jxme/QiWx2f4msIvQLp dQveNDPYqkwoPGJhtoXkUtv7QyDamFhQM+ZOPcIibmqWLKDTvE9fHuDc+2xmHUEnhiWG dDI+86XQ0uHUstB9gzvoKg4GyLjcrsq79igLE= X-Google-DKIM-Signature: v=1; a=rsa-sha256; c=relaxed/relaxed; d=1e100.net; s=20230601; t=1753268271; x=1753873071; h=references:in-reply-to:cc:to:from:subject:message-id:date :x-gm-message-state:from:to:cc:subject:date:message-id:reply-to; bh=ed82xjQyfe3I34eqYxUr5wupU1JBlHFpgfbtqJPpOk8=; b=VaeK0UkGOPX1LLzNpVzW2va7QFKrn7CJM+3xGZiPcD7jE426y1zTZusDxM6TgTk2sj JNmCsvPVeNAPhX4fcizz6t1XTbGs7Ug09dUv5m6dAEFBCkYMvfvTWOd9aC3i6VPZJm7Z HpdQwdRbHaYsm6qvgroLnrbOZld5TKqctO+8BlYku+Cv1yQdzdwEQP47p/qcOHikFQya turxhmO3FIxW2yJFbwAkIcF17Us+FT6ih1/aToQS8cQYDTRL3q12849UMiTxQLcmNnIx mUOrMwWTCYVgpmyOeQpln5/T1wpfwQM0BIS7Tw7Xqz9yh6pv7NruCDLDh5PgS3pUfQHR ykhw== X-Gm-Message-State: AOJu0Yy8VQafXBjWXonO4BhkmJ8C7ZWMfuuWw+rKa6JTaUoEZ1mJyKSG ukaEqcAF3GfbVOzsPlrMt+hjJv/52LhgICDlEuKxuYE0CN2BFsMhcq1UjuLYlrFovz+4SWznNyN ciU3EixzzgH5FUl2tHepLOBjHKc5t9D0XgNbAZo3jdhFPsAP1JzXxJdS9Qq6n X-Gm-Gg: ASbGncvxXBY2YMbm89KHt0UaQasPcDP6stnsa270SHFEefzdQEIzWx3ic8Y+hx94X0J x5dHK7ZRm5cG0wygVlsr5ujJTaVnQudUdrfP++OCjjrAQUTxX0cqR76buUYyZbW7XHIBOhbW2ix cF4omsOnDqOn1MZNj6kxmaSxngN8ZEsau90JP/3yKe4Hlk1Loi1NdGl8krHYERQZ0FabR/jOb2d 67y/cosnrq57P29t6EMIC7WBz3aYouOb1brZ44XwTf0HzXAecNQppM3dTi1W+nuXVI8TweBi+wq F3Ks2dhbhlpJ1MNPhYSZnLDrQR/eLSqyohMnKir9WTBuam85qg== X-Google-Smtp-Source: AGHT+IEUF4VjgNHcLHbeOxLAEzItOpR2JttyQPd2VMpgrwd5w439k/QFJ82wfA9FWst+AuvcNXLGgrpPUgt0 X-Received: by 2002:a05:6871:750f:b0:306:c1cf:d966 with SMTP id 586e51a60fabf-306c6e06464mr1751320fac.0.1753268270824; Wed, 23 Jul 2025 03:57:50 -0700 (PDT) Received: from postal.iol.unh.edu (postal.iol.unh.edu. [2606:4100:3880:1234::84]) by smtp-relay.gmail.com with ESMTPS id 586e51a60fabf-30106540706sm875741fac.26.2025.07.23.03.57.50 (version=TLS1_2 cipher=ECDHE-ECDSA-AES128-GCM-SHA256 bits=128/128); Wed, 23 Jul 2025 03:57:50 -0700 (PDT) X-Relaying-Domain: iol.unh.edu Date: Wed, 23 Jul 2025 03:57:50 -0700 (PDT) Message-ID: <6880c02e.050a0220.370ef3.c3f0SMTPIN_ADDED_MISSING@mx.google.com> Received: from [172.21.0.2] (unknown [172.18.0.240]) by postal.iol.unh.edu (Postfix) with ESMTP id 5E1256050A61; Wed, 23 Jul 2025 06:57:50 -0400 (EDT) Subject: |SUCCESS| pw155446 [PATCH] lib/ethdev: fix segfault in secondary pro From: dpdklab@iol.unh.edu To: Test Report Cc: dpdk-test-reports@iol.unh.edu In-Reply-To: <20250723042959.1576338-1-14pwcse1224@uetpeshawar.edu.pk> References: <20250723042959.1576338-1-14pwcse1224@uetpeshawar.edu.pk> Content-Type: text/plain X-BeenThere: test-report@dpdk.org X-Mailman-Version: 2.1.29 Precedence: list List-Id: automatic DPDK test reports List-Unsubscribe: , List-Archive: List-Post: List-Help: List-Subscribe: , Errors-To: test-report-bounces@dpdk.org Test-Label: iol-abi-testing Test-Status: SUCCESS http://dpdk.org/patch/155446 _Testing PASS_ Submitter: Khadem Ullah <14pwcse1224@uetpeshawar.edu.pk> Date: Wednesday, July 23 2025 04:29:59 DPDK git baseline: Repo:dpdk Branch: master CommitID:b78afde1fed9e11ee5cdce333a1a69dd7a9cf13e 155446 --> testing pass Upstream job id: Generic-DPDK-Compile-ABI#135416 Test environment and result as below: +-------------------------------+----------+ | Environment | abi_test | +===============================+==========+ | CentOS Stream 9 | PASS | +-------------------------------+----------+ | Debian GNU/Linux 12 | PASS | +-------------------------------+----------+ | CentOS Stream 10 | PASS | +-------------------------------+----------+ | Fedora Linux 41 | PASS | +-------------------------------+----------+ | Fedora Linux 40 | PASS | +-------------------------------+----------+ | Ubuntu 24.04 | PASS | +-------------------------------+----------+ | Red Hat Enterprise Linux 8.10 | PASS | +-------------------------------+----------+ | Red Hat Enterprise Linux 9.5 | PASS | +-------------------------------+----------+ | Ubuntu 22.04 | PASS | +-------------------------------+----------+ | openSUSE Leap 15.6 | PASS | +-------------------------------+----------+ CentOS Stream 9 Kernel: 5.15 Compiler: gcc gcc (GCC) 11.5.0 20240719 (Red Hat 11.5.0-7) Debian GNU/Linux 12 Kernel: 5.15 Compiler: gcc gcc (Debian 12.2.0-14+deb12u1) 12.2.0 CentOS Stream 10 Kernel: 5.15 Compiler: gcc gcc (GCC) 14.2.1 20250110 (Red Hat 14.2.1-8) Fedora Linux 41 Kernel: 5.15 Compiler: clang gcc (GCC) 14.3.1 20250523 (Red Hat 14.3.1-1) Fedora Linux 40 Kernel: 5.15 Compiler: gcc gcc (GCC) 14.2.1 20240912 (Red Hat 14.2.1-3) Ubuntu 24.04 Kernel: 5.15 Compiler: gcc gcc (Ubuntu 13.3.0-6ubuntu2~24.04) 13.3.0 Red Hat Enterprise Linux 8.10 Kernel: 5.15 Compiler: gcc gcc (GCC) 8.5.0 20210514 (Red Hat 8.5.0-22) Red Hat Enterprise Linux 9.5 Kernel: 5.15 Compiler: gcc gcc (GCC) 11.5.0 20240719 (Red Hat 11.5.0-2) Ubuntu 22.04 Kernel: 5.15 Compiler: gcc gcc (Ubuntu 11.4.0-1ubuntu1~22.04) 11.4.0 openSUSE Leap 15.6 Kernel: 5.15 Compiler: gcc gcc (SUSE Linux) 7.5.0 To view detailed results, visit: https://lab.dpdk.org/results/dashboard/patchsets/33731/ UNH-IOL DPDK Community Lab To manage your email subscriptions, visit: https://lab.dpdk.org/results/dashboard/preferences/subscriptions/