From mboxrd@z Thu Jan 1 00:00:00 1970 Return-Path: Received: from mails.dpdk.org (mails.dpdk.org [217.70.189.124]) by inbox.dpdk.org (Postfix) with ESMTP id 6078B46BF0 for ; Wed, 23 Jul 2025 12:57:56 +0200 (CEST) Received: from mails.dpdk.org (localhost [127.0.0.1]) by mails.dpdk.org (Postfix) with ESMTP id 5C0CE40264; Wed, 23 Jul 2025 12:57:56 +0200 (CEST) Received: from mail-pf1-f227.google.com (mail-pf1-f227.google.com [209.85.210.227]) by mails.dpdk.org (Postfix) with ESMTP id 54AD740264 for ; Wed, 23 Jul 2025 12:57:55 +0200 (CEST) Received: by mail-pf1-f227.google.com with SMTP id d2e1a72fcca58-748d982e97cso5853146b3a.1 for ; Wed, 23 Jul 2025 03:57:55 -0700 (PDT) DKIM-Signature: v=1; a=rsa-sha256; c=relaxed/relaxed; d=iol.unh.edu; s=unh-iol; t=1753268274; x=1753873074; darn=dpdk.org; h=references:in-reply-to:cc:to:from:subject:message-id:date:from:to :cc:subject:date:message-id:reply-to; bh=9wBrZjaSV5GiEQNEFCEzQvWkbeJ45468rHC2UQpRHLA=; b=JK41nGiuEQhbgKq2FmmSX2Ed+lEaQ1cHRdL0FaC1Jqz7CqvHnoptBsmT8TjSikbiOL S9o6X8simeEyBbsu/6+CoSc0nZTEcDHwxklraabndvOda4g7fz+wEPuLkLyaHhMfu2s0 nfq34nsmbHe91UlzEC2UFVyt9Ha2ByM12SjyA= X-Google-DKIM-Signature: v=1; a=rsa-sha256; c=relaxed/relaxed; d=1e100.net; s=20230601; t=1753268274; x=1753873074; h=references:in-reply-to:cc:to:from:subject:message-id:date :x-gm-message-state:from:to:cc:subject:date:message-id:reply-to; bh=9wBrZjaSV5GiEQNEFCEzQvWkbeJ45468rHC2UQpRHLA=; b=D+oHQRTeGIuj+IFxvyGiy1zToesNwpz/bL7CcnUux1l/BSgg4xpKGWAf7QvastXYVd vusbQ/Qgmi/m/aNiKSVZDDuKke/NMpTPFbinFBGof1p0ziyQNrxSLtLPIpoElzcQDa48 ugGufH0RFQr4hC580EzMIsmHfL8FHoUKm9HD6UGJKjJxzqf2tAXNdhppd8sVFSk9atJx gkj8lIm3ctAPDsc0fBnAH+b7TeVgcPZZ4qWlC/b9K/37zkBgd++LySIB9JCtE/7XJQRV LTVW2i5+B9o4Vz3TUyWTQSnu4Ydq68DUWO65NGhO54tFS3H7IFJ+TtxlDoIagYrcExKO j5mQ== X-Gm-Message-State: AOJu0YxVD2DbuXbaQn7kQnoOouyKomF5yVLENbs+Vxdhs+m6q9R1io+A iIZerG1HMpAOwnWyOikmucVFqTXjkZI0/iQBGggJs8LrPUdH/GsMU09mWLIiNvZUYA3G5nQ+Hzf f9p2C3ZZ9jN0pAKR2bwysYZlZ4/lDAX4AvfI/DVj5OThm X-Gm-Gg: ASbGncv6YSTTHHwKWV0XiZC8H8wLSMcuLkXCaSK4J04KgtgSdpBCWewwg0mWxdNfF2H j2MtQdj5IF1JyEZ9SlFkxCLm/CJfl/IwMtzuj20+VG4gEPGGFgUuEYUpNHSGIC5ZSDVgKUwGgG2 bst0eZETm6R6FaBq5GN7ks66zGShO8WCgwFTRKjrr+I4kYHo5ZImijyCmfJ7kXF9g3+xMC2P0bX ZZGIRaY/tr7idJLAA0pczioY9Buwy4QcuXDFOgCyqy2RO6TD500pi5e2yhLeokyaWrxrcj8mNfl 0GogXg2UdLPLt66CAZjmakieLDsg36DUncdYAaFKZ8jBvRcrUr1VmVjoPQp4MGmWsVwbfB+/ X-Google-Smtp-Source: AGHT+IGjzbyY0M6VDDsaUljL7I5OGOAYx3urBK21GGZlC73I8tu4zZrD39XSP371Q6MDo+RJu72arw6qevOb X-Received: by 2002:a05:6a00:a1c:b0:748:eedb:902a with SMTP id d2e1a72fcca58-760353f328fmr3562300b3a.17.1753268274380; Wed, 23 Jul 2025 03:57:54 -0700 (PDT) Received: from postal.iol.unh.edu (postal.iol.unh.edu. [132.177.123.84]) by smtp-relay.gmail.com with ESMTPS id d2e1a72fcca58-759ca9360dbsm722453b3a.18.2025.07.23.03.57.54 (version=TLS1_2 cipher=ECDHE-ECDSA-AES128-GCM-SHA256 bits=128/128); Wed, 23 Jul 2025 03:57:54 -0700 (PDT) X-Relaying-Domain: iol.unh.edu Date: Wed, 23 Jul 2025 03:57:54 -0700 (PDT) Message-ID: <6880c032.050a0220.abde3.496dSMTPIN_ADDED_MISSING@mx.google.com> Received: from [172.21.0.3] (unknown [172.18.0.240]) by postal.iol.unh.edu (Postfix) with ESMTP id 98F6C6050A61; Wed, 23 Jul 2025 06:57:53 -0400 (EDT) Subject: |SUCCESS| pw155446 [PATCH] lib/ethdev: fix segfault in secondary pro From: dpdklab@iol.unh.edu To: Test Report Cc: dpdk-test-reports@iol.unh.edu In-Reply-To: <20250723042959.1576338-1-14pwcse1224@uetpeshawar.edu.pk> References: <20250723042959.1576338-1-14pwcse1224@uetpeshawar.edu.pk> Content-Type: text/plain X-BeenThere: test-report@dpdk.org X-Mailman-Version: 2.1.29 Precedence: list List-Id: automatic DPDK test reports List-Unsubscribe: , List-Archive: List-Post: List-Help: List-Subscribe: , Errors-To: test-report-bounces@dpdk.org Test-Label: iol-abi-testing Test-Status: SUCCESS http://dpdk.org/patch/155446 _Testing PASS_ Submitter: Khadem Ullah <14pwcse1224@uetpeshawar.edu.pk> Date: Wednesday, July 23 2025 04:29:59 DPDK git baseline: Repo:dpdk Branch: master CommitID:b78afde1fed9e11ee5cdce333a1a69dd7a9cf13e 155446 --> testing pass Upstream job id: Generic-DPDK-Compile-ABI#135417 Test environment and result as below: +-------------------------------+----------+ | Environment | abi_test | +===============================+==========+ | CentOS Stream 9 | PASS | +-------------------------------+----------+ | Debian GNU/Linux 12 | PASS | +-------------------------------+----------+ | CentOS Stream 10 | PASS | +-------------------------------+----------+ | Fedora Linux 41 | PASS | +-------------------------------+----------+ | Fedora Linux 40 | PASS | +-------------------------------+----------+ | Ubuntu 24.04 | PASS | +-------------------------------+----------+ | Red Hat Enterprise Linux 8.10 | PASS | +-------------------------------+----------+ | Red Hat Enterprise Linux 9.5 | PASS | +-------------------------------+----------+ | Ubuntu 22.04 | PASS | +-------------------------------+----------+ | openSUSE Leap 15.6 | PASS | +-------------------------------+----------+ CentOS Stream 9 Kernel: 5.15 Compiler: gcc gcc (GCC) 11.5.0 20240719 (Red Hat 11.5.0-7) Debian GNU/Linux 12 Kernel: 5.15 Compiler: gcc gcc (Debian 12.2.0-14+deb12u1) 12.2.0 CentOS Stream 10 Kernel: 5.15 Compiler: gcc gcc (GCC) 14.2.1 20250110 (Red Hat 14.2.1-8) Fedora Linux 41 Kernel: 5.15 Compiler: clang gcc (GCC) 14.3.1 20250523 (Red Hat 14.3.1-1) Fedora Linux 40 Kernel: 5.15 Compiler: gcc gcc (GCC) 14.2.1 20240912 (Red Hat 14.2.1-3) Ubuntu 24.04 Kernel: 5.15 Compiler: gcc gcc (Ubuntu 13.3.0-6ubuntu2~24.04) 13.3.0 Red Hat Enterprise Linux 8.10 Kernel: 5.15 Compiler: gcc gcc (GCC) 8.5.0 20210514 (Red Hat 8.5.0-22) Red Hat Enterprise Linux 9.5 Kernel: 5.15 Compiler: gcc gcc (GCC) 11.5.0 20240719 (Red Hat 11.5.0-2) Ubuntu 22.04 Kernel: 5.15 Compiler: gcc gcc (Ubuntu 11.4.0-1ubuntu1~22.04) 11.4.0 openSUSE Leap 15.6 Kernel: 5.15 Compiler: gcc gcc (SUSE Linux) 7.5.0 To view detailed results, visit: https://lab.dpdk.org/results/dashboard/patchsets/33731/ UNH-IOL DPDK Community Lab To manage your email subscriptions, visit: https://lab.dpdk.org/results/dashboard/preferences/subscriptions/