From mboxrd@z Thu Jan 1 00:00:00 1970 Return-Path: Received: from mails.dpdk.org (mails.dpdk.org [217.70.189.124]) by inbox.dpdk.org (Postfix) with ESMTP id A3C9846BF0 for ; Wed, 23 Jul 2025 12:59:28 +0200 (CEST) Received: from mails.dpdk.org (localhost [127.0.0.1]) by mails.dpdk.org (Postfix) with ESMTP id 9E73D40A76; Wed, 23 Jul 2025 12:59:28 +0200 (CEST) Received: from mail-oo1-f100.google.com (mail-oo1-f100.google.com [209.85.161.100]) by mails.dpdk.org (Postfix) with ESMTP id 4757640A7F for ; Wed, 23 Jul 2025 12:59:27 +0200 (CEST) Received: by mail-oo1-f100.google.com with SMTP id 006d021491bc7-615da180061so1661446eaf.2 for ; Wed, 23 Jul 2025 03:59:27 -0700 (PDT) DKIM-Signature: v=1; a=rsa-sha256; c=relaxed/relaxed; d=iol.unh.edu; s=unh-iol; t=1753268366; x=1753873166; darn=dpdk.org; h=references:in-reply-to:cc:to:from:subject:message-id:date:from:to :cc:subject:date:message-id:reply-to; bh=ZwDyHObh3KXaJpvbbWdLRZFpiwamHJmYZGvdNsLVA3A=; b=bsWU3zCj/A+cR8Iy7jfZJPCoBQaxHzk6lbLa2By+RJ5wi0yWezY+Su89Fnni536m0g +rPGu2G41JfDi7azFrn2Rk4KVRxPXJ4YWkhSyc4GHjnYqKz/4XEZ+nFrvT3GJ5s4GnZZ oTK4A+lnrPGGMGSzI0csr36/XdTdXQ0hpLsvU= X-Google-DKIM-Signature: v=1; a=rsa-sha256; c=relaxed/relaxed; d=1e100.net; s=20230601; t=1753268366; x=1753873166; h=references:in-reply-to:cc:to:from:subject:message-id:date :x-gm-message-state:from:to:cc:subject:date:message-id:reply-to; bh=ZwDyHObh3KXaJpvbbWdLRZFpiwamHJmYZGvdNsLVA3A=; b=CYTy26d0YWbfBZpuHnPnBAmuJTb2Tybl3o8NH0BC9MWSfhLARXRMn3ER2XV+UsT/d4 /sAwPbpEVZhkTCBwnymbfHXgdpJz5fEs3EFJQLxg4ANG9Ly+p6XTK0G5oNDYp2G3JnB+ Jhk0SwG/BJ+5v52DyUK6O7d6FqvG+iFxtVs3fJR1hRt8FG1ms8ATNoPnfzRUPEYL1+Q1 VbkGd0LaILxqLky3+Bxyqwrs+VE6HZ2FkKLd3/2PjG5ZZyCVFcocpcsmBcC8Dhr8C0Wt mCsJWhH6OIOWwo0zp1lekbZHhXchfXtvp3V6NbtDhSmCMErmdPQd5cb4E79ruoQrGRLK yeHA== X-Gm-Message-State: AOJu0Yx1wSmDS+Kbsv6wW8POWkQJLpQwYF32OuN3pFkAd/PUOOigTCQk 2ywACguOXk7hlTzTkbmXBZSzUsWb9XNlM82rza1N7CLPefPBq4ETs6cNtEOZ20vsFK8UftuJudI vX9E85bJhA+yOimT4E4zO8LXm5yU1ztsp8jorPLshYniB X-Gm-Gg: ASbGncsnWNoNiHYmClHtovZtIm7gawcIV+C4RAdPmA5CLRjYL+4rLsT2Bf3yPH5FrY/ zFrH3Nxyup4DyfdwUtZd3HyYbQRJCbIpGgnLjh0lt7VvloCgyuWpHBGRPgvf4jwnzE1wILeoVsG wehtWD0zzQ3ide9WnJVMcol9qA6V1YyipoQsC2plY2aZhE4jH0DbAtDyoUBBO34tJWWUVJ2kkKy Uhuyl2cOeVwHVWg84eHi1IYh0ZJam5Y0WbHOPCozxNChjKqzHHduc8NVJF508YOsssbboLJS9vS xhEEGMJkwZj9AG4Ae4knA6eoFzduVEgs1PZXmzOpHFfNVDnXcBuDxfSnUvbnOLje7uuQv4Aj X-Google-Smtp-Source: AGHT+IGN4T83qtyrjIHWe6Bctl0799YhBSe3FFL4C/igFPIXCMI5T+v0FNXV3JVr9Z+iOPIkBE1kkQXjD5cG X-Received: by 2002:a05:6820:1356:b0:615:fc41:b0b3 with SMTP id 006d021491bc7-6187d8ed440mr1850713eaf.7.1753268366552; Wed, 23 Jul 2025 03:59:26 -0700 (PDT) Received: from postal.iol.unh.edu (postal.iol.unh.edu. [132.177.123.84]) by smtp-relay.gmail.com with ESMTPS id 006d021491bc7-618f9508b44sm1497eaf.2.2025.07.23.03.59.26 (version=TLS1_2 cipher=ECDHE-ECDSA-AES128-GCM-SHA256 bits=128/128); Wed, 23 Jul 2025 03:59:26 -0700 (PDT) X-Relaying-Domain: iol.unh.edu Date: Wed, 23 Jul 2025 03:59:26 -0700 (PDT) Message-ID: <6880c08e.050a0220.aec08.0139SMTPIN_ADDED_MISSING@mx.google.com> Received: from [172.21.0.2] (unknown [172.18.0.240]) by postal.iol.unh.edu (Postfix) with ESMTP id ED1306050A61; Wed, 23 Jul 2025 06:59:25 -0400 (EDT) Subject: |SUCCESS| pw155446 [PATCH] lib/ethdev: fix segfault in secondary pro From: dpdklab@iol.unh.edu To: Test Report Cc: dpdk-test-reports@iol.unh.edu In-Reply-To: <20250723042959.1576338-1-14pwcse1224@uetpeshawar.edu.pk> References: <20250723042959.1576338-1-14pwcse1224@uetpeshawar.edu.pk> Content-Type: text/plain X-BeenThere: test-report@dpdk.org X-Mailman-Version: 2.1.29 Precedence: list List-Id: automatic DPDK test reports List-Unsubscribe: , List-Archive: List-Post: List-Help: List-Subscribe: , Errors-To: test-report-bounces@dpdk.org Test-Label: iol-abi-testing Test-Status: SUCCESS http://dpdk.org/patch/155446 _Testing PASS_ Submitter: Khadem Ullah <14pwcse1224@uetpeshawar.edu.pk> Date: Wednesday, July 23 2025 04:29:59 DPDK git baseline: Repo:dpdk Branch: master CommitID:b78afde1fed9e11ee5cdce333a1a69dd7a9cf13e 155446 --> testing pass Upstream job id: Generic-DPDK-Compile-ABI#135421 Test environment and result as below: +-------------------------------+----------+ | Environment | abi_test | +===============================+==========+ | CentOS Stream 9 | PASS | +-------------------------------+----------+ | Debian GNU/Linux 12 | PASS | +-------------------------------+----------+ | CentOS Stream 10 | PASS | +-------------------------------+----------+ | Fedora Linux 41 | PASS | +-------------------------------+----------+ | Fedora Linux 40 | PASS | +-------------------------------+----------+ | Ubuntu 24.04 | PASS | +-------------------------------+----------+ | Red Hat Enterprise Linux 8.10 | PASS | +-------------------------------+----------+ | Red Hat Enterprise Linux 9.5 | PASS | +-------------------------------+----------+ | Ubuntu 22.04 | PASS | +-------------------------------+----------+ | openSUSE Leap 15.6 | PASS | +-------------------------------+----------+ CentOS Stream 9 Kernel: 5.15 Compiler: gcc gcc (GCC) 11.5.0 20240719 (Red Hat 11.5.0-7) Debian GNU/Linux 12 Kernel: 5.15 Compiler: gcc gcc (Debian 12.2.0-14+deb12u1) 12.2.0 CentOS Stream 10 Kernel: 5.15 Compiler: gcc gcc (GCC) 14.2.1 20250110 (Red Hat 14.2.1-8) Fedora Linux 41 Kernel: 5.15 Compiler: clang gcc (GCC) 14.3.1 20250523 (Red Hat 14.3.1-1) Fedora Linux 40 Kernel: 5.15 Compiler: gcc gcc (GCC) 14.2.1 20240912 (Red Hat 14.2.1-3) Ubuntu 24.04 Kernel: 5.15 Compiler: gcc gcc (Ubuntu 13.3.0-6ubuntu2~24.04) 13.3.0 Red Hat Enterprise Linux 8.10 Kernel: 5.15 Compiler: gcc gcc (GCC) 8.5.0 20210514 (Red Hat 8.5.0-22) Red Hat Enterprise Linux 9.5 Kernel: 5.15 Compiler: gcc gcc (GCC) 11.5.0 20240719 (Red Hat 11.5.0-2) Ubuntu 22.04 Kernel: 5.15 Compiler: gcc gcc (Ubuntu 11.4.0-1ubuntu1~22.04) 11.4.0 openSUSE Leap 15.6 Kernel: 5.15 Compiler: gcc gcc (SUSE Linux) 7.5.0 To view detailed results, visit: https://lab.dpdk.org/results/dashboard/patchsets/33731/ UNH-IOL DPDK Community Lab To manage your email subscriptions, visit: https://lab.dpdk.org/results/dashboard/preferences/subscriptions/