From mboxrd@z Thu Jan 1 00:00:00 1970 Return-Path: Received: from mails.dpdk.org (mails.dpdk.org [217.70.189.124]) by inbox.dpdk.org (Postfix) with ESMTP id B3D6846BF0 for ; Wed, 23 Jul 2025 12:59:39 +0200 (CEST) Received: from mails.dpdk.org (localhost [127.0.0.1]) by mails.dpdk.org (Postfix) with ESMTP id AEDB3402CC; Wed, 23 Jul 2025 12:59:39 +0200 (CEST) Received: from mail-yw1-f227.google.com (mail-yw1-f227.google.com [209.85.128.227]) by mails.dpdk.org (Postfix) with ESMTP id 60177402CC for ; Wed, 23 Jul 2025 12:59:38 +0200 (CEST) Received: by mail-yw1-f227.google.com with SMTP id 00721157ae682-710bbd7a9e2so61098647b3.0 for ; Wed, 23 Jul 2025 03:59:38 -0700 (PDT) DKIM-Signature: v=1; a=rsa-sha256; c=relaxed/relaxed; d=iol.unh.edu; s=unh-iol; t=1753268378; x=1753873178; darn=dpdk.org; h=references:in-reply-to:cc:to:from:subject:message-id:date:from:to :cc:subject:date:message-id:reply-to; bh=C8xeGIrIwDFhpUY7yLKQe8AzsbsQhXisAVwzOAZfdQQ=; b=G9cn5rMElltTQEJRbpS8Zj1XeKln1WF05yGG4haiw6GnD+HDuGiF6E4FuDZu3vNPgF II7lAspzJumw9AvrougFkZC34PYVp1xhxRaMz4frCtixFwHzwWYh+uH/nUgK4bZOOwdr AssrWlBlmqNhr9Y8VOg2eoJJwcqkydeRjDiME= X-Google-DKIM-Signature: v=1; a=rsa-sha256; c=relaxed/relaxed; d=1e100.net; s=20230601; t=1753268378; x=1753873178; h=references:in-reply-to:cc:to:from:subject:message-id:date :x-gm-message-state:from:to:cc:subject:date:message-id:reply-to; bh=C8xeGIrIwDFhpUY7yLKQe8AzsbsQhXisAVwzOAZfdQQ=; b=pOdkjm9qRY9dpcZNOJ8SGqcT3BsyAcwZNAZupl8XN5QCBQvABYwf3qQHhahYaTYOA5 aQccdv/fxEYO+q7ZZ4ZMaftlWXIYGduuS3JIgi9jR++xXtRIlQ6saqz+WvlfR907tSCs z4+PIlixeZaZbN7Gv1tPl2g3a4SpxvkVXlPpBSGQP3TM0xW68jOOwOPjSh5mgfLkTO3E 8bs5fW9n4b9PPxSP8jBhZNiMMeRG86vfMdzoKGNPsadpj+eR29OXzzTgZF5LiWOfcRyl c+VBCOjhq+jerJZ5LCbQgoxqmp5cUAaraYTSZNV5lK+ghHbm5H6+RnT7qN/r+qPxIhHS xtHg== X-Gm-Message-State: AOJu0YzSjx5tJkheGxJhZGzFtOWFrIhclJknWZpAYVqoIWLQXKKwD4qU RMPFgoDm526IEoCYIruT5BFftV8NxO4D+cTtqy8Tf62XSy2xe2fVa6mcjaagGAGQ2ebML/jwu2U ny90bmyzJ9u3isJhOVQZwfR0T0XJ8sVP2hogoKP+GYQ1k2iiyO/a3Tq5p5UMm X-Gm-Gg: ASbGncsTW4vdqIaGOXxzXvkSmNKrPhfRJnWyQ0ftISHQt1DUfk/NJ710OLbLlk+cuZ5 w/hLGXdXsMqoGpYLW94gF0SlhWNCueRi7yRJkOuqYVzLyJe4DeNquEUL8nrcdisf8szZYMbc8Fm gixn97WkMrZ4zWT8ltdbOPXQh8jg+Bx5HHB7ekA6juI4Snrmu1Kd7FhBuSu4j9d7AwyzeZjel8t rRUlyBAql+2GcjZgxTfG/R6dWa7LR1yYvzMDuTafInp9GDMxqhcRY6K6vLybwp0fMQsVhIRYsHe eW0u99LmEYUob+Q7e4e6a6nsc61hx5xT+1Y0vFjr2+zoI/x/XA== X-Google-Smtp-Source: AGHT+IHwbR3CI/Qh8offj0RfNjg3llLQiz1epSYCqb0tryL8qDEms0XFYkB1VTVVXqGHz/n8C8QzvONXj7pq X-Received: by 2002:a05:690c:685:b0:717:b390:1af9 with SMTP id 00721157ae682-719b41f5293mr29852737b3.19.1753268377731; Wed, 23 Jul 2025 03:59:37 -0700 (PDT) Received: from postal.iol.unh.edu (postal.iol.unh.edu. [2606:4100:3880:1234::84]) by smtp-relay.gmail.com with ESMTPS id 00721157ae682-71953105e35sm6422757b3.11.2025.07.23.03.59.37 (version=TLS1_2 cipher=ECDHE-ECDSA-AES128-GCM-SHA256 bits=128/128); Wed, 23 Jul 2025 03:59:37 -0700 (PDT) X-Relaying-Domain: iol.unh.edu Date: Wed, 23 Jul 2025 03:59:37 -0700 (PDT) Message-ID: <6880c099.050a0220.1017c7.2791SMTPIN_ADDED_MISSING@mx.google.com> Received: from [172.21.0.3] (unknown [172.18.0.240]) by postal.iol.unh.edu (Postfix) with ESMTP id 681176050A61; Wed, 23 Jul 2025 06:59:37 -0400 (EDT) Subject: |SUCCESS| pw155446 [PATCH] lib/ethdev: fix segfault in secondary pro From: dpdklab@iol.unh.edu To: Test Report Cc: dpdk-test-reports@iol.unh.edu In-Reply-To: <20250723042959.1576338-1-14pwcse1224@uetpeshawar.edu.pk> References: <20250723042959.1576338-1-14pwcse1224@uetpeshawar.edu.pk> Content-Type: text/plain X-BeenThere: test-report@dpdk.org X-Mailman-Version: 2.1.29 Precedence: list List-Id: automatic DPDK test reports List-Unsubscribe: , List-Archive: List-Post: List-Help: List-Subscribe: , Errors-To: test-report-bounces@dpdk.org Test-Label: iol-abi-testing Test-Status: SUCCESS http://dpdk.org/patch/155446 _Testing PASS_ Submitter: Khadem Ullah <14pwcse1224@uetpeshawar.edu.pk> Date: Wednesday, July 23 2025 04:29:59 DPDK git baseline: Repo:dpdk Branch: master CommitID:b78afde1fed9e11ee5cdce333a1a69dd7a9cf13e 155446 --> testing pass Upstream job id: Generic-DPDK-Compile-ABI#135424 Test environment and result as below: +-------------------------------+----------+ | Environment | abi_test | +===============================+==========+ | CentOS Stream 9 | PASS | +-------------------------------+----------+ | Debian GNU/Linux 12 | PASS | +-------------------------------+----------+ | CentOS Stream 10 | PASS | +-------------------------------+----------+ | Fedora Linux 41 | PASS | +-------------------------------+----------+ | Fedora Linux 40 | PASS | +-------------------------------+----------+ | Ubuntu 24.04 | PASS | +-------------------------------+----------+ | Red Hat Enterprise Linux 8.10 | PASS | +-------------------------------+----------+ | Red Hat Enterprise Linux 9.5 | PASS | +-------------------------------+----------+ | Ubuntu 22.04 | PASS | +-------------------------------+----------+ | openSUSE Leap 15.6 | PASS | +-------------------------------+----------+ CentOS Stream 9 Kernel: 5.15 Compiler: gcc gcc (GCC) 11.5.0 20240719 (Red Hat 11.5.0-7) Debian GNU/Linux 12 Kernel: 5.15 Compiler: gcc gcc (Debian 12.2.0-14+deb12u1) 12.2.0 CentOS Stream 10 Kernel: 5.15 Compiler: gcc gcc (GCC) 14.2.1 20250110 (Red Hat 14.2.1-8) Fedora Linux 41 Kernel: 5.15 Compiler: clang gcc (GCC) 14.3.1 20250523 (Red Hat 14.3.1-1) Fedora Linux 40 Kernel: 5.15 Compiler: gcc gcc (GCC) 14.2.1 20240912 (Red Hat 14.2.1-3) Ubuntu 24.04 Kernel: 5.15 Compiler: gcc gcc (Ubuntu 13.3.0-6ubuntu2~24.04) 13.3.0 Red Hat Enterprise Linux 8.10 Kernel: 5.15 Compiler: gcc gcc (GCC) 8.5.0 20210514 (Red Hat 8.5.0-22) Red Hat Enterprise Linux 9.5 Kernel: 5.15 Compiler: gcc gcc (GCC) 11.5.0 20240719 (Red Hat 11.5.0-2) Ubuntu 22.04 Kernel: 5.15 Compiler: gcc gcc (Ubuntu 11.4.0-1ubuntu1~22.04) 11.4.0 openSUSE Leap 15.6 Kernel: 5.15 Compiler: gcc gcc (SUSE Linux) 7.5.0 To view detailed results, visit: https://lab.dpdk.org/results/dashboard/patchsets/33731/ UNH-IOL DPDK Community Lab To manage your email subscriptions, visit: https://lab.dpdk.org/results/dashboard/preferences/subscriptions/