From mboxrd@z Thu Jan 1 00:00:00 1970 Return-Path: Received: from mails.dpdk.org (mails.dpdk.org [217.70.189.124]) by inbox.dpdk.org (Postfix) with ESMTP id BEC6146BF0 for ; Wed, 23 Jul 2025 12:59:42 +0200 (CEST) Received: from mails.dpdk.org (localhost [127.0.0.1]) by mails.dpdk.org (Postfix) with ESMTP id B9C8640A84; Wed, 23 Jul 2025 12:59:42 +0200 (CEST) Received: from mail-vs1-f100.google.com (mail-vs1-f100.google.com [209.85.217.100]) by mails.dpdk.org (Postfix) with ESMTP id 3BDB9402CC for ; Wed, 23 Jul 2025 12:59:42 +0200 (CEST) Received: by mail-vs1-f100.google.com with SMTP id ada2fe7eead31-4dfa2aeec86so890149137.1 for ; Wed, 23 Jul 2025 03:59:42 -0700 (PDT) DKIM-Signature: v=1; a=rsa-sha256; c=relaxed/relaxed; d=iol.unh.edu; s=unh-iol; t=1753268381; x=1753873181; darn=dpdk.org; h=references:in-reply-to:cc:to:from:subject:message-id:date:from:to :cc:subject:date:message-id:reply-to; bh=aBThQzGH8KO1LKXk09ipCYdJLyHWr2hkNMCtiRi4ATs=; b=UiFu1NGswb+wM8rX8XXp6Z4ilD8NrHIxncj5jy+hnx0YKoXZg2srv0kLDwtdV64I4n kziliFt0UwZRPVroIwmalqr+7+Siyh+5jInt+suUnKcD1UPjucQr4wrALCVSJH2rNyQ+ O2mA0GPXnsxjMEeRqIP4GSX+sIR6vp70akpY0= X-Google-DKIM-Signature: v=1; a=rsa-sha256; c=relaxed/relaxed; d=1e100.net; s=20230601; t=1753268381; x=1753873181; h=references:in-reply-to:cc:to:from:subject:message-id:date :x-gm-message-state:from:to:cc:subject:date:message-id:reply-to; bh=aBThQzGH8KO1LKXk09ipCYdJLyHWr2hkNMCtiRi4ATs=; b=S8yYxnJX6QHDyNHQy1bQr5H1hKL6AxsA7CgoISywnJl7WrWQx30KT9RF77IzcL3SA4 TZxuZ+hYVgZF6WjF+xqwjp/Nf5WIas+r0Nbu3AYKxuySujOGQimiMAyxlINcupBNGx/o wRfTJkj+wSr7BCmuhlgdXC+ELupgWtq/VefdcDDegBU/cgDticf9LFZ0DST16Bt7dP2D j9pXlVOJfGE+DBR+qxdzgy+sko7zAuBbw9U6xsaWz45k7v2IUBuJWn9yN8Z90b0+E4nw mzLvQrwor7mTvoSyyBJDZ6l9Nui/nJ7Jz25tfChnu449zBYtcrUYF5MXFXmwEDWgVcsC n65A== X-Gm-Message-State: AOJu0YwEWpRnunSv00XovBnRjntSB45kCodkayJ91gJqiBJY0k9SQD5b EFX2UuXngaXkpAMBewdOdMsJv5ylU7J9QiK2cf+XakR+EUMVRNFlRVI/+MNgBNLdhPrkNGT4Mhl +7GxTYO3RNuzoRUR2vZLUmbdj2wVxO7SX9kp7fqSMQ0X5ejkU2B+zDFcC+TGu X-Gm-Gg: ASbGncsnCxInDfKTfJ1qDwF2hDo0IcQ6I2ShwWTr669aaC4NXFB1Xg8ZzGo7DrJ+ZoO +6vo5r7czn69ufeLJ4JTh7IjkqAPNfD6yc5dg9LgalPRN1kdzAvxYA+sy+woLa1nOnL+YBwp/dP U6rAb+rlCLU+Ow+WvlUvHg5JnBpuoMZEyM/0yuO5Vbv1WPvGb5i4P32wYGW7+vZPsUQYe5/K9WT J7BRhmMlZlkQsgmeHKS1BD8WI2W7CWP54Bbsn7KkKUBoBFZNRgxTWhcXQIgdeVbrt0ha+UiY945 2IfBuDs8Q4CN/TaQbRdp3F25dVUTwyz5BbmaOLf4vR3bUSOAHg== X-Google-Smtp-Source: AGHT+IH1cZgLQWA3Oyu6ix0T6ZMaSrgcra7PYcSVhQ2+mZm/nlNNmp2olP6tJoTELIzhc2EkpLkIQa85BIWQ X-Received: by 2002:a05:6102:5049:b0:4e9:9281:85ba with SMTP id ada2fe7eead31-4fa15168e26mr898639137.13.1753268381509; Wed, 23 Jul 2025 03:59:41 -0700 (PDT) Received: from postal.iol.unh.edu (postal.iol.unh.edu. [2606:4100:3880:1234::84]) by smtp-relay.gmail.com with ESMTPS id ada2fe7eead31-4f9ad0e03bfsm439552137.3.2025.07.23.03.59.41 (version=TLS1_2 cipher=ECDHE-ECDSA-AES128-GCM-SHA256 bits=128/128); Wed, 23 Jul 2025 03:59:41 -0700 (PDT) X-Relaying-Domain: iol.unh.edu Date: Wed, 23 Jul 2025 03:59:41 -0700 (PDT) Message-ID: <6880c09d.050a0220.152cf.5869SMTPIN_ADDED_MISSING@mx.google.com> Received: from [172.21.0.6] (unknown [172.18.0.240]) by postal.iol.unh.edu (Postfix) with ESMTP id 3679D6050A61; Wed, 23 Jul 2025 06:59:41 -0400 (EDT) Subject: |SUCCESS| pw155446 [PATCH] lib/ethdev: fix segfault in secondary pro From: dpdklab@iol.unh.edu To: Test Report Cc: dpdk-test-reports@iol.unh.edu In-Reply-To: <20250723042959.1576338-1-14pwcse1224@uetpeshawar.edu.pk> References: <20250723042959.1576338-1-14pwcse1224@uetpeshawar.edu.pk> Content-Type: text/plain X-BeenThere: test-report@dpdk.org X-Mailman-Version: 2.1.29 Precedence: list List-Id: automatic DPDK test reports List-Unsubscribe: , List-Archive: List-Post: List-Help: List-Subscribe: , Errors-To: test-report-bounces@dpdk.org Test-Label: iol-abi-testing Test-Status: SUCCESS http://dpdk.org/patch/155446 _Testing PASS_ Submitter: Khadem Ullah <14pwcse1224@uetpeshawar.edu.pk> Date: Wednesday, July 23 2025 04:29:59 DPDK git baseline: Repo:dpdk Branch: master CommitID:b78afde1fed9e11ee5cdce333a1a69dd7a9cf13e 155446 --> testing pass Upstream job id: Generic-DPDK-Compile-ABI#135425 Test environment and result as below: +-------------------------------+----------+ | Environment | abi_test | +===============================+==========+ | CentOS Stream 9 | PASS | +-------------------------------+----------+ | Debian GNU/Linux 12 | PASS | +-------------------------------+----------+ | CentOS Stream 10 | PASS | +-------------------------------+----------+ | Fedora Linux 41 | PASS | +-------------------------------+----------+ | Fedora Linux 40 | PASS | +-------------------------------+----------+ | Ubuntu 24.04 | PASS | +-------------------------------+----------+ | Red Hat Enterprise Linux 8.10 | PASS | +-------------------------------+----------+ | Red Hat Enterprise Linux 9.5 | PASS | +-------------------------------+----------+ | Ubuntu 22.04 | PASS | +-------------------------------+----------+ | openSUSE Leap 15.6 | PASS | +-------------------------------+----------+ CentOS Stream 9 Kernel: 5.15 Compiler: gcc gcc (GCC) 11.5.0 20240719 (Red Hat 11.5.0-7) Debian GNU/Linux 12 Kernel: 5.15 Compiler: gcc gcc (Debian 12.2.0-14+deb12u1) 12.2.0 CentOS Stream 10 Kernel: 5.15 Compiler: gcc gcc (GCC) 14.2.1 20250110 (Red Hat 14.2.1-8) Fedora Linux 41 Kernel: 5.15 Compiler: clang gcc (GCC) 14.3.1 20250523 (Red Hat 14.3.1-1) Fedora Linux 40 Kernel: 5.15 Compiler: gcc gcc (GCC) 14.2.1 20240912 (Red Hat 14.2.1-3) Ubuntu 24.04 Kernel: 5.15 Compiler: gcc gcc (Ubuntu 13.3.0-6ubuntu2~24.04) 13.3.0 Red Hat Enterprise Linux 8.10 Kernel: 5.15 Compiler: gcc gcc (GCC) 8.5.0 20210514 (Red Hat 8.5.0-22) Red Hat Enterprise Linux 9.5 Kernel: 5.15 Compiler: gcc gcc (GCC) 11.5.0 20240719 (Red Hat 11.5.0-2) Ubuntu 22.04 Kernel: 5.15 Compiler: gcc gcc (Ubuntu 11.4.0-1ubuntu1~22.04) 11.4.0 openSUSE Leap 15.6 Kernel: 5.15 Compiler: gcc gcc (SUSE Linux) 7.5.0 To view detailed results, visit: https://lab.dpdk.org/results/dashboard/patchsets/33731/ UNH-IOL DPDK Community Lab To manage your email subscriptions, visit: https://lab.dpdk.org/results/dashboard/preferences/subscriptions/