From mboxrd@z Thu Jan 1 00:00:00 1970 Return-Path: Received: from mails.dpdk.org (mails.dpdk.org [217.70.189.124]) by inbox.dpdk.org (Postfix) with ESMTP id AE7B246BF0 for ; Wed, 23 Jul 2025 13:33:16 +0200 (CEST) Received: from mails.dpdk.org (localhost [127.0.0.1]) by mails.dpdk.org (Postfix) with ESMTP id 8933540264; Wed, 23 Jul 2025 13:33:16 +0200 (CEST) Received: from mail-io1-f97.google.com (mail-io1-f97.google.com [209.85.166.97]) by mails.dpdk.org (Postfix) with ESMTP id 0551C40264 for ; Wed, 23 Jul 2025 13:33:15 +0200 (CEST) Received: by mail-io1-f97.google.com with SMTP id ca18e2360f4ac-879c734f0e2so223215139f.0 for ; Wed, 23 Jul 2025 04:33:15 -0700 (PDT) DKIM-Signature: v=1; a=rsa-sha256; c=relaxed/relaxed; d=iol.unh.edu; s=unh-iol; t=1753270395; x=1753875195; darn=dpdk.org; h=references:in-reply-to:cc:to:from:subject:message-id:date:from:to :cc:subject:date:message-id:reply-to; bh=qLiuR+XEfnYt0dttYhMj1bDxaAZAhBrYknkxJQHgwFc=; b=Z5cH9liU0EcR6JDmXWvw7Tga57O9EYmtcdZwjGsWl+3eo0f8jMh+uA/kcv8i93BG13 HMQU2AUuK8VgcWOFfLWGHE9THrrlM68K9AtSKuszEx1E3375yctVdQMkxyfgWuGLoBMK k8ZSanA6SDX/xTqjA4us1tqdmao07d/RCUf2Y= X-Google-DKIM-Signature: v=1; a=rsa-sha256; c=relaxed/relaxed; d=1e100.net; s=20230601; t=1753270395; x=1753875195; h=references:in-reply-to:cc:to:from:subject:message-id:date :x-gm-message-state:from:to:cc:subject:date:message-id:reply-to; bh=qLiuR+XEfnYt0dttYhMj1bDxaAZAhBrYknkxJQHgwFc=; b=uRlsv2AhSTcaexD1iEtv4mrD9A8IcvvJKfADqptByTECeO3X7WooRL+WnlNqeFAmFJ PXDzW/+VYowxe9fyP/J0KrrbA17F9wF5HZBwxZf1apZX2XzEgyOV8aptH4EN05N+hnkH 03C4DJo4Df0/wNewKNU/WHIFOEMZXcK4cQOWiA57lfwPI6lIW2EZfWSqNyMS32tAjZGV BB7RvmH63wfyYs5wsQVtT2JH/vK2qG2o2n3oLDHuJeLJ/7ZreMMnzmYKNaUXSbEux3l1 d/wY0Z4swvTYzia8zeWv/x4BCIqHS0k/pgE6XDcsqdTMg3gAkI7quyCv0PGANGPih2Qs GRkw== X-Gm-Message-State: AOJu0Yzai0zJKl6J5zjIHNZagqVYTbM726LJ4JSvcTjHgUwbdMC9KQ+d T4wr7Xp7jcCKTFAR8rOH7mt8MuiDLBPgCLJ03mywRAIwU8UIUaFwNU2dh7FldL6vv/mHY9MbAQi cw7fRDcdcAEDik77F8ch/d8fy3O3kYgviX9Ui9ousG77mevqF0B1g6aOpDvFk X-Gm-Gg: ASbGncuBE0wOdlE0uS/RVLWJUbAhgWNDRZuhmc7YryOZMTGqGmLr8nhcNHupMnE/89n M/Af8UPHgf1Mgf0goCTXcKyiLPInREiE9JAENzNAF4HZ45FVlC2zllTe56H2vuXk9Uh6S13ahaC ZbyRlrdkAPCI18ZINpmUcPrOsXuJRtvKRuNvYiifu0y+uEjolKFErQTmekfxdlYbcokGte2nsTd QzYjCnHJ/pB648WM1Lno8M4NsmFFXEk6t5xISBddYuURmnmCqFg1cjkcqUCpsn5QMb9JPy/I1jM ZQLdLoL7GZbNyiBPG7XQkxFW5U/Kbu5SLIy2aIaPE+ANUxAI1g== X-Google-Smtp-Source: AGHT+IFPPFE1f56ZOiNIqSiioZsWJixx4Ni6pzvFMAAdHjdUzc9p8l78JkEXZVi8Lpav2ae6s+nvw3XO6x1b X-Received: by 2002:a05:6e02:c:b0:3dd:8663:d182 with SMTP id e9e14a558f8ab-3e32fcc2fcfmr48074885ab.13.1753270395325; Wed, 23 Jul 2025 04:33:15 -0700 (PDT) Received: from postal.iol.unh.edu (postal.iol.unh.edu. [2606:4100:3880:1234::84]) by smtp-relay.gmail.com with ESMTPS id e9e14a558f8ab-3e298204461sm7302465ab.2.2025.07.23.04.33.15 (version=TLS1_2 cipher=ECDHE-ECDSA-AES128-GCM-SHA256 bits=128/128); Wed, 23 Jul 2025 04:33:15 -0700 (PDT) X-Relaying-Domain: iol.unh.edu Date: Wed, 23 Jul 2025 04:33:15 -0700 (PDT) Message-ID: <6880c87b.050a0220.355c20.5a3aSMTPIN_ADDED_MISSING@mx.google.com> Received: from [172.21.0.3] (unknown [172.18.0.240]) by postal.iol.unh.edu (Postfix) with ESMTP id D76E16051830; Wed, 23 Jul 2025 07:33:14 -0400 (EDT) Subject: |SUCCESS| pw155457 [PATCH] net/af_xdp: enable AF_XDP program attachm From: dpdklab@iol.unh.edu To: Test Report Cc: dpdk-test-reports@iol.unh.edu In-Reply-To: <20250723074249.3264675-1-shivajikant@google.com> References: <20250723074249.3264675-1-shivajikant@google.com> Content-Type: text/plain X-BeenThere: test-report@dpdk.org X-Mailman-Version: 2.1.29 Precedence: list List-Id: automatic DPDK test reports List-Unsubscribe: , List-Archive: List-Post: List-Help: List-Subscribe: , Errors-To: test-report-bounces@dpdk.org Test-Label: iol-compile-amd64-testing Test-Status: SUCCESS http://dpdk.org/patch/155457 _Testing PASS_ Submitter: Shivaji Kant Date: Wednesday, July 23 2025 07:42:49 DPDK git baseline: Repo:dpdk Branch: master CommitID:b78afde1fed9e11ee5cdce333a1a69dd7a9cf13e 155457 --> testing pass Upstream job id: Windows-Compile-DPDK-VS#6443 Test environment and result as below: +---------------------+--------------------+-------------------------+-------------------+ | Environment | dpdk_meson_compile | dpdk_llvm_clang_compile | dpdk_msvc_compile | +=====================+====================+=========================+===================+ | Ubuntu 20.04 | PASS | SKIPPED | SKIPPED | +---------------------+--------------------+-------------------------+-------------------+ | FreeBSD 14.2 | PASS | SKIPPED | SKIPPED | +---------------------+--------------------+-------------------------+-------------------+ | Windows Server 2022 | SKIPPED | PASS | PASS | +---------------------+--------------------+-------------------------+-------------------+ Ubuntu 20.04 Kernel: 4.19 Compiler: gcc gcc (Ubuntu 9.4.0-1ubuntu1~20.04.2) 9.4.0 FreeBSD 14.2 Kernel: 14.2-RELEASE Compiler: clang 18.1.6 Windows Server 2022 Kernel: 10.0.20348.2031 Compiler: clang 15.0.7, gcc 14.1.0 (MinGW), and MSVC VS 19.39.33521 To view detailed results, visit: https://lab.dpdk.org/results/dashboard/patchsets/33735/ UNH-IOL DPDK Community Lab To manage your email subscriptions, visit: https://lab.dpdk.org/results/dashboard/preferences/subscriptions/