From mboxrd@z Thu Jan 1 00:00:00 1970 Return-Path: Received: from mails.dpdk.org (mails.dpdk.org [217.70.189.124]) by inbox.dpdk.org (Postfix) with ESMTP id 2AE7E46BF0 for ; Wed, 23 Jul 2025 13:50:37 +0200 (CEST) Received: from mails.dpdk.org (localhost [127.0.0.1]) by mails.dpdk.org (Postfix) with ESMTP id 25F3C40264; Wed, 23 Jul 2025 13:50:37 +0200 (CEST) Received: from mail-pl1-f227.google.com (mail-pl1-f227.google.com [209.85.214.227]) by mails.dpdk.org (Postfix) with ESMTP id D8A3740264 for ; Wed, 23 Jul 2025 13:50:35 +0200 (CEST) Received: by mail-pl1-f227.google.com with SMTP id d9443c01a7336-235d6de331fso77858455ad.3 for ; Wed, 23 Jul 2025 04:50:35 -0700 (PDT) DKIM-Signature: v=1; a=rsa-sha256; c=relaxed/relaxed; d=iol.unh.edu; s=unh-iol; t=1753271435; x=1753876235; darn=dpdk.org; h=references:in-reply-to:cc:to:from:subject:message-id:date:from:to :cc:subject:date:message-id:reply-to; bh=DIt1fh9UU6KWnYF4dE80vYgXttqgLHfTlqU+d5fDhWY=; b=ZfGUiAIge04JnG/PwHq3hTtfZuxmKI9AWV2c/0i5xcn/H2f1NnQIN7HVlSGcXhNbsd DRUKTBOQl2w2EkHcZdLC3ubqYsVcWGsvLo0SwDoZc2CGn+LoPWLdpFrCsEVpHtnrZc9D 46XT23vSQnEP6DqpZji0GEaDKZt2mD6gyH8ag= X-Google-DKIM-Signature: v=1; a=rsa-sha256; c=relaxed/relaxed; d=1e100.net; s=20230601; t=1753271435; x=1753876235; h=references:in-reply-to:cc:to:from:subject:message-id:date :x-gm-message-state:from:to:cc:subject:date:message-id:reply-to; bh=DIt1fh9UU6KWnYF4dE80vYgXttqgLHfTlqU+d5fDhWY=; b=nXIDJZk3j9qokcmDT1wd5u//WYLtGQeuslRHCaPtzqKI+WlAs2wt0OX8cqOY9jjXw2 sd0i0l1YlAKDX4lkeaAGEHgp1bhQR6FPhBMIGlnnWUIJSfZTmV/QR414L1wSo/ryd3aP 7Cpx6ii4LAQB/P0WCaGqxGsFTfKWF0bMxY8W0L8LXwzExIiiYlSXtbDtoGIPmN8xqPXn Eu8Aly2cgDplYNPNKMz8cTki7/NfRInu1dyCuVo2IpxhEUyvMD9VFzNbnIr5u0PXrtq7 xdkh4mY2Bgt6UBVgAGy4EyG6HCfE5E9KGcnXZnqhU2/eKL1Re6QEdODm6O+rTSF9dRbQ 5l+g== X-Gm-Message-State: AOJu0YxN/ZuKTWEBY0Cxj6+I7CAAGphDxdHJUMJG4wuja0S4xcqfEJwy 9V1zKhSbUdCOIF0n4O1KppkEp3dUhfoWN0Xao8DIuK3lJjX7+FQlH+r/zHGwWM3JQt/lUA4VaJC gfsWVsBweapa4A8tKmdnyKhl4EPht9YVuEy0IF+M5aFtx X-Gm-Gg: ASbGncvP0riIAB9OtMTYnwWz4MJPHt0r7hW/ovXfed+Jw0F6loebeLSVVmHSq4+NFCM 9eZodk5nyIa23vzlGG6nDml1myqE2EtSx5Z1sVk58SZBPWSFkeIVZFwfQI3jOmteNb37sCX2Y7k 1WS1w0MT3incETRZpgzdRuQstvlsb8QuZxm6lUBci765sGJ/frkmN0kS0jDtanQHxeKN33pR6JH eSjfvwOcDq0uj3Pjp+6nMVUq/V/Lw5AhiDLF2TJhfSEG3StTceJl64yEWbm9RERdrUBzvFtOx7w l9/9GY5iZVSlrsojXwdMA9E+MDrRfwjvYhKG2KMpQDKrIGmE31Bku4akkW2/UGFXFKJK6TjZ X-Google-Smtp-Source: AGHT+IHKPEhKW5QFhcMJBDiEhqQieek8J67rN8uHSA+M/1cA2nv+7gz2MttghdZJxtd0cCnE4Waw1dXPmrQt X-Received: by 2002:a17:902:c945:b0:234:d679:72e9 with SMTP id d9443c01a7336-23f981421e2mr46000045ad.12.1753271435154; Wed, 23 Jul 2025 04:50:35 -0700 (PDT) Received: from postal.iol.unh.edu (postal.iol.unh.edu. [132.177.123.84]) by smtp-relay.gmail.com with ESMTPS id d9443c01a7336-23e3b6d8a49sm6578575ad.89.2025.07.23.04.50.35 (version=TLS1_2 cipher=ECDHE-ECDSA-AES128-GCM-SHA256 bits=128/128); Wed, 23 Jul 2025 04:50:35 -0700 (PDT) X-Relaying-Domain: iol.unh.edu Date: Wed, 23 Jul 2025 04:50:35 -0700 (PDT) Message-ID: <6880cc8b.170a0220.1538d8.22c4SMTPIN_ADDED_MISSING@mx.google.com> Received: from [172.21.0.2] (unknown [172.18.0.240]) by postal.iol.unh.edu (Postfix) with ESMTP id 69BA56050A61; Wed, 23 Jul 2025 07:50:34 -0400 (EDT) Subject: |SUCCESS| pw155456 [PATCH] net/mlx5: fix ipool memory leak From: dpdklab@iol.unh.edu To: Test Report Cc: dpdk-test-reports@iol.unh.edu In-Reply-To: <20250723064923.1805575-1-rongweil@nvidia.com> References: <20250723064923.1805575-1-rongweil@nvidia.com> Content-Type: text/plain X-BeenThere: test-report@dpdk.org X-Mailman-Version: 2.1.29 Precedence: list List-Id: automatic DPDK test reports List-Unsubscribe: , List-Archive: List-Post: List-Help: List-Subscribe: , Errors-To: test-report-bounces@dpdk.org Test-Label: iol-unit-amd64-testing Test-Status: SUCCESS http://dpdk.org/patch/155456 _Testing PASS_ Submitter: Rongwei Liu Date: Wednesday, July 23 2025 06:49:22 DPDK git baseline: Repo:dpdk Branch: master CommitID:b222395561638f89562e4ef42e1eabf2d6db43dd 155456 --> testing pass Upstream job id: Generic-Unit-Test-DPDK#357678 Test environment and result as below: +-------------------------------+----------------+ | Environment | dpdk_unit_test | +===============================+================+ | Fedora Linux 41 | PASS | +-------------------------------+----------------+ | Red Hat Enterprise Linux 9.5 | PASS | +-------------------------------+----------------+ | Ubuntu 24.04 | PASS | +-------------------------------+----------------+ | Fedora Linux 40 | PASS | +-------------------------------+----------------+ | CentOS Stream 10 | PASS | +-------------------------------+----------------+ | Red Hat Enterprise Linux 8.10 | PASS | +-------------------------------+----------------+ | CentOS Stream 9 | PASS | +-------------------------------+----------------+ | Debian GNU/Linux 12 | PASS | +-------------------------------+----------------+ | Ubuntu 20.04 | PASS | +-------------------------------+----------------+ | Ubuntu 22.04 | PASS | +-------------------------------+----------------+ | Windows Server 2022 | PASS | +-------------------------------+----------------+ Fedora Linux 41 Kernel: 5.15 Compiler: gcc gcc (GCC) 14.3.1 20250523 (Red Hat 14.3.1-1) Red Hat Enterprise Linux 9.5 Kernel: 5.15 Compiler: gcc gcc (GCC) 11.5.0 20240719 (Red Hat 11.5.0-2) Ubuntu 24.04 Kernel: 5.15 Compiler: gcc gcc (Ubuntu 13.3.0-6ubuntu2~24.04) 13.3.0 Fedora Linux 40 Kernel: 5.15 Compiler: gcc gcc (GCC) 14.2.1 20240912 (Red Hat 14.2.1-3) CentOS Stream 10 Kernel: 5.15 Compiler: gcc gcc (GCC) 14.2.1 20250110 (Red Hat 14.2.1-8) Red Hat Enterprise Linux 8.10 Kernel: 5.15 Compiler: gcc gcc (GCC) 8.5.0 20210514 (Red Hat 8.5.0-22) CentOS Stream 9 Kernel: 5.15 Compiler: gcc gcc (GCC) 11.5.0 20240719 (Red Hat 11.5.0-7) Debian GNU/Linux 12 Kernel: 5.15 Compiler: gcc gcc (Debian 12.2.0-14+deb12u1) 12.2.0 Ubuntu 20.04 Kernel: 5.15 Compiler: gcc gcc (Ubuntu 9.4.0-1ubuntu1~20.04.2) 9.4.0 Ubuntu 22.04 Kernel: 5.15 Compiler: gcc gcc (Ubuntu 11.4.0-1ubuntu1~22.04) 11.4.0 Windows Server 2022 Kernel: 10.0.20348.2031 Compiler: clang 15.0.7, gcc 14.1.0 (MinGW), and MSVC VS 19.39.33521 To view detailed results, visit: https://lab.dpdk.org/results/dashboard/patchsets/33734/ UNH-IOL DPDK Community Lab To manage your email subscriptions, visit: https://lab.dpdk.org/results/dashboard/preferences/subscriptions/