From mboxrd@z Thu Jan 1 00:00:00 1970 Return-Path: Received: from mails.dpdk.org (mails.dpdk.org [217.70.189.124]) by inbox.dpdk.org (Postfix) with ESMTP id 3C9D046BF0 for ; Wed, 23 Jul 2025 13:50:59 +0200 (CEST) Received: from mails.dpdk.org (localhost [127.0.0.1]) by mails.dpdk.org (Postfix) with ESMTP id 3617240264; Wed, 23 Jul 2025 13:50:59 +0200 (CEST) Received: from mail-qv1-f98.google.com (mail-qv1-f98.google.com [209.85.219.98]) by mails.dpdk.org (Postfix) with ESMTP id 5ABEB40264 for ; Wed, 23 Jul 2025 13:50:58 +0200 (CEST) Received: by mail-qv1-f98.google.com with SMTP id 6a1803df08f44-70707b268b0so2341736d6.0 for ; Wed, 23 Jul 2025 04:50:58 -0700 (PDT) DKIM-Signature: v=1; a=rsa-sha256; c=relaxed/relaxed; d=iol.unh.edu; s=unh-iol; t=1753271458; x=1753876258; darn=dpdk.org; h=references:in-reply-to:cc:to:from:subject:message-id:date:from:to :cc:subject:date:message-id:reply-to; bh=umU1alyUQPZjC55cTNRjRWEm1moXTEDoGa1GvbiWpds=; b=FhDEVf5RrUgK8J3Aq+DlK44r5CJRPu2Xe7ONxcRZDwfFKI5GfYPOLUlsclJDfbWoJ0 q1MXlpgCWhR94aKOXozfuh+mgow08kawujWT75ilBdm8448oMTRLzc6R1H4fRGYOYjAx gWoJz0cyhr27K6dGTwpMKbX+6eeTsEKkLhquA= X-Google-DKIM-Signature: v=1; a=rsa-sha256; c=relaxed/relaxed; d=1e100.net; s=20230601; t=1753271458; x=1753876258; h=references:in-reply-to:cc:to:from:subject:message-id:date :x-gm-message-state:from:to:cc:subject:date:message-id:reply-to; bh=umU1alyUQPZjC55cTNRjRWEm1moXTEDoGa1GvbiWpds=; b=q5JXLgzCAKRCLejbFEAIBpRzP2SVOZh1ET9iwnRKzoCq51+5j22o3nvnN2eew+aHkm lpAVvj4wLf4Q1pOSqioIEyiKaMJkszMoIYZDVf3dsN6PttnJ0ahEubNtWYAPo/SVrslS w2YphCQiMGNMbIU8+MM67wOqxa8admc6mkWYnLrbCCjm86ArLpV6ND8M05G9hPM+RtIQ fG52cBGMguuAEXBifHF+2YwvJX+Cn1+F1mZNi3eWlkAvt6c9g8WDak1sbRGAnHx0VNNA uRodRvkpX+c+tny80n4vx31fvTot5Y/JueNxKnnUIuHdvO8CDX/y6acsbjUP6QRkSyTH XBqQ== X-Gm-Message-State: AOJu0YzORbogjNxtHc/8CIXRbHvdspwpqyaFgmBZfYl3+Ay3B7vgTa+L beEWn18yAW8FgkFqr4F4Pg6TBl4pvTz0zSIecfYGHx6XJoUASQbur09TOGOgQh2EqgGhYlVVdAf o69YeXOyS5o+2AXkFYnS4dHZr1g0r/XqFGqkXnZNuSBB7 X-Gm-Gg: ASbGnctnKfMQhn+rux0dBKCRwCeyA3y5h3S7JWziIBR84Pt56s2mUfjOqFM0wnWjJDN BW393IWqWMV6Bh4nGcv1hPGkMtqTXHVD5MNyHo/1CdWE0j1/MFgaF0Ux8g4LQk9vLuvkYI5R92b s1fEJuu/pvx5asMkDJounMMbQv8D/m1cmnBwP3GLZSKgyN4GogtbKNS4+ocH/mPEVJTZ6aKb93L E8MAtPRxrzhY5KrMtxZi/6Muvi5uYDTAOPahhKR/h0ClS7KYfaAjrdb43qfCEgxJSmQj39De3ke 4K1c6kptVo7LL2bfEn/TzAlGYMyqPUliZ8qRNvAdpdj6qZfCWdiHsQZETYoXPxJZuYmIzbAz X-Google-Smtp-Source: AGHT+IFovtO5N1Hza4nUzK0X/8/7zGimgiRFDUp2DFZn7F6Nit7JPSfsaLyepZN9ieWqaZoQqCTaJiViTHsh X-Received: by 2002:a05:6214:d0a:b0:6fa:fdb3:587b with SMTP id 6a1803df08f44-707005ac665mr31997246d6.1.1753271457687; Wed, 23 Jul 2025 04:50:57 -0700 (PDT) Received: from postal.iol.unh.edu (postal.iol.unh.edu. [132.177.123.84]) by smtp-relay.gmail.com with ESMTPS id 6a1803df08f44-7051ba61cbfsm6515586d6.18.2025.07.23.04.50.57 (version=TLS1_2 cipher=ECDHE-ECDSA-AES128-GCM-SHA256 bits=128/128); Wed, 23 Jul 2025 04:50:57 -0700 (PDT) X-Relaying-Domain: iol.unh.edu Date: Wed, 23 Jul 2025 04:50:57 -0700 (PDT) Message-ID: <6880cca1.050a0220.34170.2146SMTPIN_ADDED_MISSING@mx.google.com> Received: from [172.21.0.3] (unknown [172.18.0.240]) by postal.iol.unh.edu (Postfix) with ESMTP id 5E1E66050A61; Wed, 23 Jul 2025 07:50:57 -0400 (EDT) Subject: |SUCCESS| pw155456 [PATCH] net/mlx5: fix ipool memory leak From: dpdklab@iol.unh.edu To: Test Report Cc: dpdk-test-reports@iol.unh.edu In-Reply-To: <20250723064923.1805575-1-rongweil@nvidia.com> References: <20250723064923.1805575-1-rongweil@nvidia.com> Content-Type: text/plain X-BeenThere: test-report@dpdk.org X-Mailman-Version: 2.1.29 Precedence: list List-Id: automatic DPDK test reports List-Unsubscribe: , List-Archive: List-Post: List-Help: List-Subscribe: , Errors-To: test-report-bounces@dpdk.org Test-Label: iol-unit-amd64-testing Test-Status: SUCCESS http://dpdk.org/patch/155456 _Testing PASS_ Submitter: Rongwei Liu Date: Wednesday, July 23 2025 06:49:22 DPDK git baseline: Repo:dpdk Branch: master CommitID:b222395561638f89562e4ef42e1eabf2d6db43dd 155456 --> testing pass Upstream job id: Generic-Unit-Test-DPDK#357661 Test environment and result as below: +-------------------------------+----------------+ | Environment | dpdk_unit_test | +===============================+================+ | Fedora Linux 41 | PASS | +-------------------------------+----------------+ | Red Hat Enterprise Linux 9.5 | PASS | +-------------------------------+----------------+ | Ubuntu 24.04 | PASS | +-------------------------------+----------------+ | Fedora Linux 40 | PASS | +-------------------------------+----------------+ | CentOS Stream 10 | PASS | +-------------------------------+----------------+ | Red Hat Enterprise Linux 8.10 | PASS | +-------------------------------+----------------+ | CentOS Stream 9 | PASS | +-------------------------------+----------------+ | Debian GNU/Linux 12 | PASS | +-------------------------------+----------------+ | Ubuntu 20.04 | PASS | +-------------------------------+----------------+ | Ubuntu 22.04 | PASS | +-------------------------------+----------------+ | Windows Server 2022 | PASS | +-------------------------------+----------------+ Fedora Linux 41 Kernel: 5.15 Compiler: gcc gcc (GCC) 14.3.1 20250523 (Red Hat 14.3.1-1) Red Hat Enterprise Linux 9.5 Kernel: 5.15 Compiler: gcc gcc (GCC) 11.5.0 20240719 (Red Hat 11.5.0-2) Ubuntu 24.04 Kernel: 5.15 Compiler: gcc gcc (Ubuntu 13.3.0-6ubuntu2~24.04) 13.3.0 Fedora Linux 40 Kernel: 5.15 Compiler: gcc gcc (GCC) 14.2.1 20240912 (Red Hat 14.2.1-3) CentOS Stream 10 Kernel: 5.15 Compiler: gcc gcc (GCC) 14.2.1 20250110 (Red Hat 14.2.1-8) Red Hat Enterprise Linux 8.10 Kernel: 5.15 Compiler: gcc gcc (GCC) 8.5.0 20210514 (Red Hat 8.5.0-22) CentOS Stream 9 Kernel: 5.15 Compiler: gcc gcc (GCC) 11.5.0 20240719 (Red Hat 11.5.0-7) Debian GNU/Linux 12 Kernel: 5.15 Compiler: gcc gcc (Debian 12.2.0-14+deb12u1) 12.2.0 Ubuntu 20.04 Kernel: 5.15 Compiler: gcc gcc (Ubuntu 9.4.0-1ubuntu1~20.04.2) 9.4.0 Ubuntu 22.04 Kernel: 5.15 Compiler: gcc gcc (Ubuntu 11.4.0-1ubuntu1~22.04) 11.4.0 Windows Server 2022 Kernel: 10.0.20348.2031 Compiler: clang 15.0.7, gcc 14.1.0 (MinGW), and MSVC VS 19.39.33521 To view detailed results, visit: https://lab.dpdk.org/results/dashboard/patchsets/33734/ UNH-IOL DPDK Community Lab To manage your email subscriptions, visit: https://lab.dpdk.org/results/dashboard/preferences/subscriptions/